{"text_format":"1","workbook":"xlsx","n_sheets":29,"sheets":["MENU","LINK","FRUITMET","IMPFRUIT","CALCMONE","CALCLENG","CALCWEIG","CALCHEIG","CALCVOLU","FUEL","BUREAU","CAFEMENU","REALMONEY","RESTBILL","HOUSE","GASBILL","WATER","BASINT+VE","BASINT-VE","BASDEC+VE","BASDEC-VE","FRAINT+VE","FRADEC+VE","FPODEC+VE","P&RDEC+VE","PRBDEC+VE","RFPDEPOSVE","EFFECTS","RECIP"],"not_rendered":{"charts":0,"images":4,"macros":1,"external_links":0,"defined_names":28,"comments":0,"pivot_tables":0},"unopened":[],"bounds":{"document_bytes":16777216,"sheet_cells":100000,"rows_first":2000,"rows_last":500,"rows_between":2000,"halvings":0,"cell_chars":16384,"cell_head_chars":4096},"cells_cut":0,"cells_raw":0,"read":"whole","date_system":"1900"}

{"sheet":"MENU","index":0,"n_rows":28,"n_cols":3,"rows_kept":28,"cut":false,"hidden":false,"merged":[[1,2,1,13]]}
[]
[null,"●","Using A Calculator Efficiently"]
[]
[null," Interpret a calculator display in the context of money or measures"]
[]
[null," Convert £, $ & € using a 7-segment display at a bureau de change"]
[]
[null," Find the cost of fuel using a 7-segment display at a petrol station"]
[]
[null," Find the total cost of fruit given its metric mass or imperial weight"]
[]
[null," Find the total cost of food bought in a café & change from a note"]
[]
[null," Find the total cost of multiple retail items & change from a note"]
[]
[null," Find the total food bill & each person’s share after adding a % tip"]
[]
[null," Find the amount saved if I bulk-press multiple CDs instead of batch"]
[]
[null," Find the total cost of a gas or water bill inc’ standing charge + VAT"]
[]
[null," Evaluate expressions exactly using all four operations & brackets"]
[]
[null," Evaluate & round expressions using fractions, powers & roots"]
[]
[null," Evaluate & round integers multiplied & divided by n where 0 < n < 1"]
[]
[null," Evaluate & round reciprocals of integers & decimals"]

{"sheet":"LINK","index":1,"n_rows":14,"n_cols":3,"rows_kept":14,"cut":false,"hidden":false,"merged":[]}
[]
[null,null,"All content © eStarters Ltd 2020"]
[]
[null,null,"For more downloads and further information"]
[]
[null,null,"Visit the Trinity Maths website"]
[]
[null,null,"To contact us directly, email:     info@estarters.com"]
[]
[null,null,{"$f":"MENU!C2","v":"Using A Calculator Efficiently"}]
[]
[null,null,"is № 1 of 10 free sample files from the"]
[]
[null,null,"178 Topic Files in Trinity Maths (Version 3) "]

{"sheet":"FRUITMET","index":2,"n_rows":60,"n_cols":49,"rows_kept":60,"cut":false,"hidden":false,"merged":[[5,10,5,12],[4,2,4,9],[5,2,5,9],[6,2,6,9],[3,26,4,27],[3,28,4,28],[12,2,12,9],[12,10,12,12],[9,2,9,9],[10,2,10,9],[8,10,8,12],[9,10,9,12],[10,10,10,12],[11,10,11,12],[7,2,7,9],[8,2,8,9],[6,10,6,12],[7,10,7,12],[11,2,11,9],[4,10,4,12]]}
[null,null,null,null,1]
[null,null,"Find (i) the cost of each metric mass of fruit"]
[null,null,"(ii) the total using these prices per kilogram.",null,null,null,null,null,null,null,null,null,null,null,null,null,null,null,null,null,null,null,null,null,null,{"$f":"AO44","v":0}]
[null,null,null,null,null,null,null,null,null,null,null,null,null,null,null,null,null,null,null,null,null,null,null,null,null,null,{"$f":"IF(AU57=0,\"ⁿ\",IF(AS57=0,\"•\",\"∙\"))","v":"∙"},null,{"$f":"IF(AU58=0,\"ⁿ\",IF(AS58=0,\"•\",\"∙\"))","v":"∙"}]
[null,null,"Type of Fruit",null,null,null,null,null,null,null,"Price"]
[null,null,{"$f":"AQ25","v":"Peaches"},null,null,null,null,null,null,null,{"$f":"AT25","v":"£2.60"},null,null,null,null,null,null,null,null,{"$f":"CONCATENATE($AQ$38)","v":"2.05 kg"},"of",{"$f":"CONCATENATE(,$AQ$35)","v":"Guavas"}]
[null,null,"Physalis",null,null,null,null,null,null,null,"£7.13",null,null,null,null,null,null,null,null,"cost","=",{"$f":"AQ44","v":"2.05 × 4.35"}]
[null,null,"Lemons",null,null,null,null,null,null,null,"£1.81",null,null,null,null,null,null,null,null,null,"=",{"$f":"CONCATENATE(\"\",AQ47)","v":"8.9175"}]
[null,null,"Guavas",null,null,null,null,null,null,null,"£4.35",null,null,null,null,null,null,null,null,{"$f":"T7","v":"cost"},"=",{"$f":"AW47","v":"£8.92"}]
[null,null,"Tomatoes",null,null,null,null,null,null,null,"£2.51",null,null,null,null,null,null,null,null,{"$f":"CONCATENATE($AQ$39)","v":"450 g"},"of",{"$f":"CONCATENATE(,$AQ$36)","v":"Tomatoes"}]
[null,null,"Prunes",null,null,null,null,null,null,null,"£2.75",null,null,null,null,null,null,null,null,{"$f":"T7","v":"cost"},"=",{"$f":"AQ45","v":"0.45 × 2.51"}]
[null,null,"Apples",null,null,null,null,null,null,null,"£1.02",null,null,null,null,null,null,null,null,null,"=",{"$f":"CONCATENATE(\"\",AQ48)","v":"1.1295"}]
[null,null,"Clementines",null,null,null,null,null,null,null,"£1.67",null,null,null,null,null,null,null,null,{"$f":"T11","v":"cost"},"=",{"$f":"AW48","v":"£1.13"}]
[]
[null,null,null,null,null,null,null,null,null,null,null,null,null,null,null,null,null,null,null,"total","=",{"$f":"IF($C$4=1,AK59,AK60)","v":"£10.05"}]
[null,null,null,null,null,null,null,null,null,null,null,null,null,null,null,null,null,null,null,null,null,null,null,null,null,null,null,null,null,null,null,10,{"$f":"1*(INT(AF16*RAND())+1)","v":1},{"$f":"1*(INT((AF16-1)*RAND())+1)","v":7},{"$f":"AH16+AG16","v":8},{"$f":"MOD(AI16-1,AF16)+1","v":8},0,{"$f":"AG16+AK16","v":1},{"$f":"AJ16+AK16","v":8},null,1,{"$f":"$AL$16","v":1},{"$f":"$AM$16","v":8},{"$f":"$AL$17","v":18},{"$f":"$AL$19","v":38},{"$f":"$AM$19","v":33},{"$f":"$AM$17","v":15},{"$f":"$AL$18","v":27},{"$f":"$AM$18","v":29}]
[null,null,null,null,null,null,null,null,null,null,null,null,null,null,null,null,null,null,null,null,null,null,null,null,null,null,null,null,null,null,null,10,{"$f":"1*(INT(AF17*RAND())+1)","v":8},{"$f":"1*(INT((AF17-1)*RAND())+1)","v":7},{"$f":"AH17+AG17","v":15},{"$f":"MOD(AI17-1,AF17)+1","v":5},10,{"$f":"AG17+AK17","v":18},{"$f":"AJ17+AK17","v":15},null,2,{"$f":"$AM$19","v":33},{"$f":"$AL$16","v":1},{"$f":"$AM$16","v":8},{"$f":"$AL$17","v":18},{"$f":"$AM$18","v":29},{"$f":"$AL$19","v":38},{"$f":"$AM$17","v":15},{"$f":"$AL$18","v":27}]
[null,null,null,null,null,null,null,null,null,null,null,null,null,null,null,null,null,null,null,null,null,null,null,null,null,null,null,null,null,null,null,10,{"$f":"1*(INT(AF18*RAND())+1)","v":7},{"$f":"1*(INT((AF18-1)*RAND())+1)","v":2},{"$f":"AH18+AG18","v":9},{"$f":"MOD(AI18-1,AF18)+1","v":9},20,{"$f":"AG18+AK18","v":27},{"$f":"AJ18+AK18","v":29},null,3,{"$f":"$AL$19","v":38},{"$f":"$AM$17","v":15},{"$f":"$AL$18","v":27},{"$f":"$AM$18","v":29},{"$f":"$AM$19","v":33},{"$f":"$AL$16","v":1},{"$f":"$AM$16","v":8},{"$f":"$AL$17","v":18}]
[null,null,null,null,null,null,null,null,null,null,null,null,null,null,null,null,null,null,null,null,null,null,null,null,null,null,null,null,null,null,null,8,{"$f":"1*(INT(AF19*RAND())+1)","v":8},{"$f":"1*(INT((AF19-1)*RAND())+1)","v":3},{"$f":"AH19+AG19","v":11},{"$f":"MOD(AI19-1,AF19)+1","v":3},30,{"$f":"AG19+AK19","v":38},{"$f":"AJ19+AK19","v":33},null,4,{"$f":"$AM$18","v":29},{"$f":"$AL$19","v":38},{"$f":"$AM$19","v":33},{"$f":"$AL$18","v":27},{"$f":"$AL$16","v":1},{"$f":"$AM$16","v":8},{"$f":"$AL$17","v":18},{"$f":"$AM$17","v":15}]
[null,null,null,null,null,null,null,null,null,null,null,null,null,null,null,null,null,null,null,null,null,null,null,null,null,null,null,null,null,null,null,1,"Apples",{"$f":"INT(99*RAND())+101","v":102},{"$f":"IF(AH20<100,1,0)","v":0},{"$f":"IF(AH20/100=ROUNDDOWN(AH20/100,0),1,0)","v":0},{"$f":"IF(AH20/10=ROUNDDOWN(AH20/10,0),1,0)","v":0},{"$f":"AI20+AJ20*2+AK20*4","v":0},{"$f":"IF(AL20=0,CONCATENATE($R$28,ROUND(AH20/100,2)),IF(AL20=1,CONCATENATE(ROUND(AH20,0),$S$28),IF(AL20=4,CONCATENATE($R$28,AH20/100,\"0\"),IF(AL20=5,CONCATENATE(AH20,$S$28),IF(AL20=6,CONCATENATE($R$28,AH20/100),\"xxx\")))))","v":"£1.02"},null,5,{"$f":"$AL$18","v":27},{"$f":"$AM$18","v":29},{"$f":"$AL$17","v":18},{"$f":"$AM$17","v":15},{"$f":"$AL$19","v":38},{"$f":"$AM$19","v":33},{"$f":"$AL$16","v":1},{"$f":"$AM$16","v":8}]
[null,null,null,null,null,null,null,null,null,null,null,null,null,null,null,null,null,null,null,null,null,null,null,null,null,null,null,null,null,null,null,2,"Apricots",{"$f":"INT(99*RAND())+201","v":202},{"$f":"IF(AH21<100,1,0)","v":0},{"$f":"IF(AH21/100=ROUNDDOWN(AH21/100,0),1,0)","v":0},{"$f":"IF(AH21/10=ROUNDDOWN(AH21/10,0),1,0)","v":0},{"$f":"AI21+AJ21*2+AK21*4","v":0},{"$f":"IF(AL21=0,CONCATENATE($R$28,ROUND(AH21/100,2)),IF(AL21=1,CONCATENATE(ROUND(AH21,0),$S$28),IF(AL21=4,CONCATENATE($R$28,AH21/100,\"0\"),IF(AL21=5,CONCATENATE(AH21,$S$28),IF(AL21=6,CONCATENATE($R$28,AH21/100),\"xxx\")))))","v":"£2.02"},null,6,{"$f":"$AM$17","v":15},{"$f":"$AL$18","v":27},{"$f":"$AL$17","v":18},{"$f":"$AM$18","v":29},{"$f":"$AL$19","v":38},{"$f":"$AM$19","v":33},{"$f":"$AL$16","v":1},{"$f":"$AM$16","v":8}]
[null,null,null,null,null,null,null,null,null,null,null,null,null,null,null,null,null,null,null,null,null,null,null,null,null,null,null,null,null,null,null,3,"Bananas",{"$f":"INT(51*RAND())+101","v":148},0,0,0,0,"£1.48",null,7,{"$f":"$AL$17","v":18},{"$f":"$AM$17","v":15},{"$f":"$AM$19","v":33},{"$f":"$AL$16","v":1},{"$f":"$AM$16","v":8},{"$f":"$AL$18","v":27},{"$f":"$AM$18","v":29},{"$f":"$AL$19","v":38}]
[null,null,null,null,null,null,null,null,null,null,null,null,null,null,null,null,null,null,null,null,null,null,null,null,null,null,null,null,null,null,null,4,"Blackcurrants",{"$f":"INT(99*RAND())+301","v":302},0,0,0,0,"£3.02",null,8,{"$f":"$AM$16","v":8},{"$f":"$AM$18","v":29},{"$f":"$AL$19","v":38},{"$f":"$AM$19","v":33},{"$f":"$AL$16","v":1},{"$f":"$AL$17","v":18},{"$f":"$AM$17","v":15},{"$f":"$AL$18","v":27}]
[null,null,null,null,null,null,null,null,null,null,null,null,null,null,null,null,null,null,null,null,null,null,null,null,null,null,null,null,null,null,null,5,"Blueberries",{"$f":"INT(99*RAND())+501","v":585},0,0,0,0,"£5.85",null,{"$f":"INT(8*RAND())+1","v":5}]
[null,null,null,null,null,null,null,null,null,null,null,null,null,null,null,null,null,null,null,null,null,null,null,null,null,null,null,null,null,null,null,6,"Cantaloupes",{"$f":"INT(99*RAND())+301","v":383},0,0,0,0,"£3.83",null,1,{"$f":"VLOOKUP($AO$24,$AO$16:$AW$23,2)","v":27},{"$f":"VLOOKUP(AP25,$AF$20:$AN$57,2)","v":"Peaches"},{"$f":"VLOOKUP(AP25,$AF$20:$AN$57,3)","v":260},{"$f":"AR25/100","v":2.6},{"$f":"VLOOKUP(AP25,$AF$20:$AN$57,8)","v":"£2.60"}]
[null,null,null,null,null,null,null,null,null,null,null,null,null,null,null,null,null,null,null,null,null,null,null,null,null,null,null,null,null,null,null,7,"Black Cherries",{"$f":"INT(99*RAND())+501","v":592},0,0,0,0,"£5.92",null,2,{"$f":"VLOOKUP($AO$24,$AO$16:$AW$23,3)","v":29},{"$f":"VLOOKUP(AP26,$AF$20:$AN$57,2)","v":"Physalis"},{"$f":"VLOOKUP(AP26,$AF$20:$AN$57,3)","v":713},{"$f":"AR26/100","v":7.13},{"$f":"VLOOKUP(AP26,$AF$20:$AN$57,8)","v":"£7.13"}]
[null,null,null,null,null,null,null,null,null,null,null,null,null,null,null,null,null,null,null,null,null,null,null,null,null,null,null,null,null,null,null,8,"Clementines",{"$f":"INT(99*RAND())+101","v":167},0,0,0,0,"£1.67",null,3,{"$f":"VLOOKUP($AO$24,$AO$16:$AW$23,4)","v":18},"Lemons",181,1.81,"£1.81"]
[null,null,null,null,null,null,null,null,null,null,null,null,null,null,null,null,{"$f":"E1","v":1},{"$f":"IF(Q28=1,\"£\",IF(Q28=2,\"$\",IF(Q28=3,\"€\",\"R\")))","v":"£"},{"$f":"IF(Q28=1,\"p\",\"c\")","v":"p"},null,null,null,null,null,null,null,null,null,null,null,null,9,"Cranberries",{"$f":"INT(99*RAND())+201","v":252},0,0,0,0,"£2.52",null,4,{"$f":"VLOOKUP($AO$24,$AO$16:$AW$23,5)","v":15},"Guavas",435,4.3499999999999996,"£4.35"]
[null,null,null,null,null,null,null,null,null,null,null,null,null,null,null,null,null,null,null,null,null,null,null,null,null,null,null,null,null,null,null,10,"Dates",{"$f":"INT(99*RAND())+201","v":249},0,0,0,0,"£2.49",null,5,{"$f":"VLOOKUP($AO$24,$AO$16:$AW$23,6)","v":38},"Tomatoes",251,2.5099999999999998,"£2.51"]
[null,null,null,null,null,null,null,null,null,null,null,null,null,null,null,null,null,null,null,null,null,null,null,null,null,null,null,null,null,null,null,11,"Figs",{"$f":"INT(99*RAND())+301","v":354},0,0,0,0,"£3.54",null,6,{"$f":"VLOOKUP($AO$24,$AO$16:$AW$23,7)","v":33},"Prunes",275,2.75,"£2.75"]
[null,null,null,null,null,null,null,null,null,null,null,null,null,null,null,null,null,null,null,null,null,null,null,null,null,null,null,null,null,null,null,12,"Gooseberries",{"$f":"INT(99*RAND())+201","v":216},0,0,0,0,"£2.16",null,7,{"$f":"VLOOKUP($AO$24,$AO$16:$AW$23,8)","v":1},"Apples",102,1.02,"£1.02"]
[null,null,null,null,null,null,null,null,null,null,null,null,null,null,null,null,null,null,null,null,null,null,null,null,null,null,null,null,null,null,null,13,"Grapefruit",{"$f":"INT(99*RAND())+101","v":193},0,0,0,0,"£1.93",null,8,{"$f":"VLOOKUP($AO$24,$AO$16:$AW$23,9)","v":8},"Clementines",167,1.67,"£1.67"]
[null,null,null,null,null,null,null,null,null,null,null,null,null,null,null,null,null,null,null,null,null,null,null,null,null,null,null,null,null,null,null,14,"Red Grapes",{"$f":"INT(99*RAND())+101","v":172},0,0,0,0,"£1.72",null,null,8,{"$f":"1*(INT(AP33*RAND())+1)","v":4},{"$f":"1*(INT((AP33-1)*RAND())+1)","v":1},{"$f":"AR33+AQ33","v":5},{"$f":"MOD(AS33-1,AP33)+1","v":5}]
[null,null,null,null,null,null,null,null,null,null,null,null,null,null,null,null,null,null,null,null,null,null,null,null,null,null,null,null,null,null,null,15,"Guavas",{"$f":"INT(99*RAND())+401","v":435},0,0,0,0,"£4.35"]
[null,null,null,null,null,null,null,null,null,null,null,null,null,null,null,null,null,null,null,null,null,null,null,null,null,null,null,null,null,null,null,16,"Kiwi Fruit",{"$f":"INT(99*RAND())+201","v":260},0,0,1,4,"£2.60",null,{"$f":"AQ33","v":4},{"$f":"VLOOKUP(AO35,$AO$25:$AU$32,2)","v":15},{"$f":"VLOOKUP(AO35,$AO$25:$AU$32,3)","v":"Guavas"},{"$f":"VLOOKUP(AO35,$AO$25:$AU$32,4)","v":435},{"$f":"VLOOKUP(AO35,$AO$25:$AU$32,5)","v":4.3499999999999996},{"$f":"VLOOKUP(AO35,$AO$25:$AU$32,6)","v":"£4.35"}]
[null,null,null,null,null,null,null,null,null,null,null,null,null,null,null,null,null,null,null,null,null,null,null,null,null,null,null,null,null,null,null,17,"Kumquats",{"$f":"INT(99*RAND())+501","v":532},0,0,0,0,"£5.32",null,{"$f":"AT33","v":5},{"$f":"VLOOKUP(AO36,$AO$25:$AU$32,2)","v":38},{"$f":"VLOOKUP(AO36,$AO$25:$AU$32,3)","v":"Tomatoes"},{"$f":"VLOOKUP(AO36,$AO$25:$AU$32,4)","v":251},{"$f":"VLOOKUP(AO36,$AO$25:$AU$32,5)","v":2.5099999999999998},{"$f":"VLOOKUP(AO36,$AO$25:$AU$32,6)","v":"£2.51"}]
[null,null,null,null,null,null,null,null,null,null,null,null,null,null,null,null,null,null,null,null,null,null,null,null,null,null,null,null,null,null,null,18,"Lemons",{"$f":"INT(99*RAND())+101","v":181},0,0,0,0,"£1.81"]
[null,null,null,null,null,null,null,null,null,null,null,null,null,null,null,null,null,null,null,null,null,null,null,null,null,null,null,null,null,null,null,19,"Lychees",{"$f":"INT(99*RAND())+701","v":701},0,0,0,0,"£7.01",null,{"$f":"50*(INT(41*RAND())+6)","v":2050},{"$f":"AO38/1000","v":2.0499999999999998},{"$f":"IF(AO38>=1000,CONCATENATE(AP38,\" kg\"),CONCATENATE(AO38,\" g\"))","v":"2.05 kg"}]
[null,null,null,null,null,null,null,null,null,null,null,null,null,null,null,null,null,null,null,null,null,null,null,null,null,null,null,null,null,null,null,20,"Mandarins",{"$f":"INT(99*RAND())+101","v":115},0,0,0,0,"£1.15",null,{"$f":"50*(INT(41*RAND())+6)","v":450},{"$f":"AO39/1000","v":0.45},{"$f":"IF(AO39>=1000,CONCATENATE(AP39,\" kg\"),CONCATENATE(AO39,\" g\"))","v":"450 g"}]
[null,null,null,null,null,null,null,null,null,null,null,null,null,null,null,null,null,null,null,null,null,null,null,null,null,null,null,null,null,null,null,21,"Mangoes",{"$f":"INT(99*RAND())+201","v":287},0,0,0,0,"£2.87"]
[null,null,null,null,null,null,null,null,null,null,null,null,null,null,null,null,null,null,null,null,null,null,null,null,null,null,null,null,null,null,null,22,"Melons",{"$f":"INT(99*RAND())+301","v":379},0,0,0,0,"£3.79",null,{"$f":"IF(AO38=AO39,1,0)","v":0},null,{"$f":"CONCATENATE($AQ$38,\" of \",$AQ$35)","v":"2.05 kg of Guavas"},null,null,null,{"$f":"CONCATENATE($AQ$38)","v":"2.05 kg"},{"$f":"CONCATENATE($AQ$35)","v":"Guavas"}]
[null,null,null,null,null,null,null,null,null,null,null,null,null,null,null,null,null,null,null,null,null,null,null,null,null,null,null,null,null,null,null,23,"Nectarines",{"$f":"INT(99*RAND())+101","v":105},0,0,0,0,"£1.05",null,{"$f":"IF(AP38=1,1,0)","v":0},null,{"$f":"CONCATENATE($AQ$39,\" of \",$AQ$36)","v":"450 g of Tomatoes"},null,null,null,{"$f":"CONCATENATE($AQ$39)","v":"450 g"},{"$f":"CONCATENATE($AQ$36)","v":"Tomatoes"}]
[null,null,null,null,null,null,null,null,null,null,null,null,null,null,null,null,null,null,null,null,null,null,null,null,null,null,null,null,null,null,null,24,"Oranges",{"$f":"INT(99*RAND())+101","v":111},0,0,0,0,"£1.11",null,{"$f":"IF(AP39=1,1,0)","v":0}]
[null,null,null,null,null,null,null,null,null,null,null,null,null,null,null,null,null,null,null,null,null,null,null,null,null,null,null,null,null,null,null,25,"Papayas",{"$f":"INT(99*RAND())+501","v":591},0,0,0,0,"£5.91",null,{"$f":"SUM(AO41:AO43)","v":0},null,{"$f":"CONCATENATE(AP38,\" × \",AS35)","v":"2.05 × 4.35"}]
[null,null,null,null,null,null,null,null,null,null,null,null,null,null,null,null,null,null,null,null,null,null,null,null,null,null,null,null,null,null,null,26,"Passion Fruit",{"$f":"INT(99*RAND())+401","v":474},0,0,0,0,"£4.74",null,null,null,{"$f":"CONCATENATE(AP39,\" × \",AS36)","v":"0.45 × 2.51"}]
[null,null,null,null,null,null,null,null,null,null,null,null,null,null,null,null,null,null,null,null,null,null,null,null,null,null,null,null,null,null,null,27,"Peaches",{"$f":"INT(99*RAND())+201","v":260},0,0,1,4,"£2.60"]
[null,null,null,null,null,null,null,null,null,null,null,null,null,null,null,null,null,null,null,null,null,null,null,null,null,null,null,null,null,null,null,28,"Pears",{"$f":"INT(99*RAND())+101","v":127},0,0,0,0,"£1.27",null,null,null,{"$f":"ROUND(AP38*AS35,6)","v":8.9175000000000004},{"$f":"ROUND(AQ47*100,0)","v":892},{"$f":"IF(AR47<100,1,0)","v":0},{"$f":"IF(AR47/100=ROUNDDOWN(AR47/100,0),1,0)","v":0},{"$f":"IF(AR47/10=ROUNDDOWN(AR47/10,0),1,0)","v":0},{"$f":"AS47+AT47*2+AU47*4","v":0},{"$f":"IF(AV47=0,CONCATENATE($R$28,ROUND(AR47/100,2)),IF(AV47=1,CONCATENATE(ROUND(AR47,0),$S$28),IF(AV47=4,CONCATENATE($R$28,AR47/100,\"0\"),IF(AV47=5,CONCATENATE(AR47,$S$28),IF(AV47=6,CONCATENATE($R$28,AR47/100),\"xxx\")))))","v":"£8.92"}]
[null,null,null,null,null,null,null,null,null,null,null,null,null,null,null,null,null,null,null,null,null,null,null,null,null,null,null,null,null,null,null,29,"Physalis",{"$f":"INT(99*RAND())+701","v":713},0,0,0,0,"£7.13",null,null,null,{"$f":"ROUND(AP39*AS36,6)","v":1.1294999999999999},{"$f":"ROUND(AQ48*100,0)","v":113},{"$f":"IF(AR48<100,1,0)","v":0},{"$f":"IF(AR48/100=ROUNDDOWN(AR48/100,0),1,0)","v":0},{"$f":"IF(AR48/10=ROUNDDOWN(AR48/10,0),1,0)","v":0},{"$f":"AS48+AT48*2+AU48*4","v":0},{"$f":"IF(AV48=0,CONCATENATE($R$28,ROUND(AR48/100,2)),IF(AV48=1,CONCATENATE(ROUND(AR48,0),$S$28),IF(AV48=4,CONCATENATE($R$28,AR48/100,\"0\"),IF(AV48=5,CONCATENATE(AR48,$S$28),IF(AV48=6,CONCATENATE($R$28,AR48/100),\"xxx\")))))","v":"£1.13"}]
[null,null,null,null,null,null,null,null,null,null,null,null,null,null,null,null,null,null,null,null,null,null,null,null,null,null,null,null,null,null,null,30,"Pineapples",{"$f":"INT(99*RAND())+201","v":298},0,0,0,0,"£2.98"]
[null,null,null,null,null,null,null,null,null,null,null,null,null,null,null,null,null,null,null,null,null,null,null,null,null,null,null,null,null,null,null,31,"Black Plums",{"$f":"INT(99*RAND())+201","v":247},0,0,0,0,"£2.47"]
[null,null,null,null,null,null,null,null,null,null,null,null,null,null,null,null,null,null,null,null,null,null,null,null,null,null,null,null,null,null,null,32,"Pomegranates",{"$f":"INT(99*RAND())+801","v":803},0,0,0,0,"£8.03",null,null,null,{"$f":"AQ47*1000","v":8917.5},{"$f":"MOD(AQ51,10)","v":7.5},{"$f":"IF(AR51=0,1,0)","v":0}]
[null,null,null,null,null,null,null,null,null,null,null,null,null,null,null,null,null,null,null,null,null,null,null,null,null,null,null,null,null,null,null,33,"Prunes",{"$f":"INT(99*RAND())+201","v":275},0,0,0,0,"£2.75",null,null,null,{"$f":"AQ48*1000","v":1129.5},{"$f":"MOD(AQ52,10)","v":9.5},{"$f":"IF(AR52=0,1,0)","v":0}]
[null,null,null,null,null,null,null,null,null,null,null,null,null,null,null,null,null,null,null,null,null,null,null,null,null,null,null,null,null,null,null,34,"Raspberries",{"$f":"INT(99*RAND())+301","v":315},0,0,0,0,"£3.15"]
[null,null,null,null,null,null,null,null,null,null,null,null,null,null,null,null,null,null,null,null,null,null,null,null,null,null,null,null,null,null,null,35,"Rhubarb",{"$f":"INT(99*RAND())+201","v":281},0,0,0,0,"£2.81",null,null,null,{"$f":"FRUITMET!AQ51","v":8917.5},{"$f":"MOD(AQ54,10)","v":7.5},{"$f":"IF(AR54=0,0,1)","v":1},{"$f":"MOD(AQ54,1000)","v":917.5},{"$f":"IF(AT54=0,0,1)","v":1}]
[null,null,null,null,null,null,null,null,null,null,null,null,null,null,null,null,null,null,null,null,null,null,null,null,null,null,null,null,null,null,null,36,"Satsumas",{"$f":"INT(99*RAND())+101","v":174},0,0,0,0,"£1.74",null,null,null,{"$f":"FRUITMET!AQ52","v":1129.5},{"$f":"MOD(AQ55,10)","v":9.5},{"$f":"IF(AR55=0,0,1)","v":1},{"$f":"MOD(AQ55,1000)","v":129.5},{"$f":"IF(AT55=0,0,1)","v":1}]
[null,null,null,null,null,null,null,null,null,null,null,null,null,null,null,null,null,null,null,null,null,null,null,null,null,null,null,null,null,null,null,37,"Strawberries",{"$f":"INT(99*RAND())+201","v":210},0,0,1,4,"£2.10"]
[null,null,null,null,null,null,null,null,null,null,null,null,null,null,null,null,null,null,null,null,null,null,null,null,null,null,null,null,null,null,null,38,"Tomatoes",{"$f":"INT(99*RAND())+201","v":251},0,0,0,0,"£2.51",null,null,null,null,null,{"$f":"IF($C$4=1,AS51,AS54)","v":1},null,{"$f":"IF($C$4=1,AU51,AU54)","v":1}]
[null,null,null,null,null,null,null,null,null,null,null,null,null,null,null,null,null,null,null,null,null,null,null,null,null,null,null,null,null,null,null,null,null,{"$f":"MIN(AH20:AH57)","v":102},null,null,null,null,{"$f":"MIN(AM20:AM57)","v":0},null,null,null,null,null,{"$f":"IF($C$4=1,AS52,AS55)","v":1},null,{"$f":"IF($C$4=1,AU52,AU55)","v":1}]
[null,null,null,null,null,null,null,null,null,null,null,null,null,null,null,null,null,null,null,null,null,null,null,null,null,null,null,null,null,null,null,{"$f":"AR47+AR48","v":1005},{"$f":"IF(AF59<100,1,0)","v":0},{"$f":"IF(AF59/100=ROUNDDOWN(AF59/100,0),1,0)","v":0},{"$f":"IF(AF59/10=ROUNDDOWN(AF59/10,0),1,0)","v":0},{"$f":"AG59+AH59*2+AI59*4","v":0},{"$f":"IF(AJ59=0,CONCATENATE(AO59,ROUND(AF59/100,2)),IF(AJ59=1,CONCATENATE(ROUND(AF59,0),AL59),IF(AJ59=4,CONCATENATE(AO59,AF59/100,\"0\"),IF(AJ59=5,CONCATENATE(AF59,AL59),IF(AJ59=6,CONCATENATE(AO59,AF59/100),AM59)))))","v":"£10.05"},{"$f":"IF(AN59=1,\"p\",\"c\")","v":"p"},{"$f":"IF(AN59=1,\"0p\",IF(AN59=2,\"0c\",\"0c\"))","v":"0p"},{"$f":"E1","v":1},{"$f":"IF(AN59=1,\"£\",IF(AN59=2,\"$\",IF(AN59=3,\"€\",\"R\")))","v":"£"}]
[null,null,null,null,null,null,null,null,null,null,null,null,null,null,null,null,null,null,null,null,null,null,null,null,null,null,null,null,null,null,null,{"$f":"FRUITMET!AR47+FRUITMET!AR48","v":1005},{"$f":"IF(AF60<100,1,0)","v":0},{"$f":"IF(AF60/100=ROUNDDOWN(AF60/100,0),1,0)","v":0},{"$f":"IF(AF60/10=ROUNDDOWN(AF60/10,0),1,0)","v":0},{"$f":"AG60+AH60*2+AI60*4","v":0},{"$f":"IF(AJ60=0,CONCATENATE(AO60,ROUND(AF60/100,2)),IF(AJ60=1,CONCATENATE(ROUND(AF60,0),AL60),IF(AJ60=4,CONCATENATE(AO60,AF60/100,\"0\"),IF(AJ60=5,CONCATENATE(AF60,AL60),IF(AJ60=6,CONCATENATE(AO60,AF60/100),AM60)))))","v":"£10.05"},{"$f":"IF(AN60=1,\"p\",\"c\")","v":"p"},{"$f":"IF(AN60=1,\"0p\",IF(AN60=2,\"0c\",\"0c\"))","v":"0p"},{"$f":"AN59","v":1},{"$f":"IF(AN60=1,\"£\",IF(AN60=2,\"$\",IF(AN60=3,\"€\",\"R\")))","v":"£"}]

{"sheet":"IMPFRUIT","index":3,"n_rows":60,"n_cols":63,"rows_kept":60,"cut":false,"hidden":false,"merged":[[5,10,5,12],[6,10,6,12],[7,10,7,12],[8,10,8,12],[3,26,4,27],[3,28,4,28],[11,10,11,12],[11,2,11,9],[12,2,12,9],[12,10,12,12],[9,10,9,12],[9,2,9,9],[10,2,10,9],[10,10,10,12],[4,2,4,9],[5,2,5,9],[6,2,6,9],[7,2,7,9],[8,2,8,9],[4,10,4,12]]}
[null,null,null,null,1]
[null,null,"Find (i) the cost of each imperial weight of fruit"]
[null,null,"(ii) the total using these prices per pound.",null,null,null,null,null,null,null,null,null,null,null,null,null,null,null,null,null,null,null,null,null,null,{"$f":"AO44","v":0}]
[null,null,1,null,null,null,null,null,null,null,null,null,null,null,null,null,null,null,null,null,null,null,null,null,null,null,{"$f":"IF(AU57=0,\"ⁿ\",IF(AS57=0,\"•\",\"∙\"))","v":"∙"},null,{"$f":"IF(AU58=0,\"ⁿ\",IF(AS58=0,\"•\",\"∙\"))","v":"•"}]
[null,null,"Type of Fruit",null,null,null,null,null,null,null,"Price"]
[null,null,{"$f":"IF($C$4=1,AQ25,FRUITMET!C6)","v":"Papayas"},null,null,null,null,null,null,null,{"$f":"IF($C$4=1,AT25,FRUITMET!K6)","v":"£2.88"},null,null,null,null,null,null,null,null,{"$f":"IF($C$4=1,$AU$41,FRUITMET!$AU41)","v":"¾ lb"},"of",{"$f":"IF($C$4=1,$AV$41,FRUITMET!$AV41)","v":"Clementines"}]
[null,null,{"$f":"IF($C$4=1,AQ26,FRUITMET!C7)","v":"Nectarines"},null,null,null,null,null,null,null,{"$f":"IF($C$4=1,AT26,FRUITMET!K7)","v":"92p"},null,null,null,null,null,null,null,null,{"$f":"FRUITMET!T7","v":"cost"},"=",{"$f":"IF($C$4=1,AQ44,FRUITMET!V7)","v":"0.75 × 69"}]
[null,null,{"$f":"IF($C$4=1,AQ27,FRUITMET!C8)","v":"Figs"},null,null,null,null,null,null,null,{"$f":"IF($C$4=1,AT27,FRUITMET!K8)","v":"73p"},null,null,null,null,null,null,null,null,null,"=",{"$f":"IF($C$4=1,CONCATENATE(AS44,\"\"),FRUITMET!V8)","v":"51.75"}]
[null,null,{"$f":"IF($C$4=1,AQ28,FRUITMET!C9)","v":"Kumquats"},null,null,null,null,null,null,null,{"$f":"IF($C$4=1,AT28,FRUITMET!K9)","v":"£2.89"},null,null,null,null,null,null,null,null,{"$f":"T7","v":"cost"},"=",{"$f":"IF($C$4=1,AW47,FRUITMET!V9)","v":"52p"}]
[null,null,{"$f":"IF($C$4=1,AQ29,FRUITMET!C10)","v":"Satsumas"},null,null,null,null,null,null,null,{"$f":"IF($C$4=1,AT29,FRUITMET!K10)","v":"84p"},null,null,null,null,null,null,null,null,{"$f":"IF($C$4=1,$AU$42,FRUITMET!$AU42)","v":"2¼ lb"},"of",{"$f":"IF($C$4=1,$AV$42,FRUITMET!$AV42)","v":"Nectarines"}]
[null,null,{"$f":"IF($C$4=1,AQ30,FRUITMET!C11)","v":"Prunes"},null,null,null,null,null,null,null,{"$f":"IF($C$4=1,AT30,FRUITMET!K11)","v":"£1.46"},null,null,null,null,null,null,null,null,{"$f":"T7","v":"cost"},"=",{"$f":"IF($C$4=1,AQ45,FRUITMET!V11)","v":"2.25 × 92"}]
[null,null,{"$f":"IF($C$4=1,AQ31,FRUITMET!C12)","v":"Blackcurrants"},null,null,null,null,null,null,null,{"$f":"IF($C$4=1,AT31,FRUITMET!K12)","v":"£1.82"},null,null,null,null,null,null,null,null,null,"=",{"$f":"IF($C$4=1,CONCATENATE(AS45,\"\"),FRUITMET!V12)","v":"207"}]
[null,null,{"$f":"IF($C$4=1,AQ32,FRUITMET!C13)","v":"Clementines"},null,null,null,null,null,null,null,{"$f":"IF($C$4=1,AT32,FRUITMET!K13)","v":"69p"},null,null,null,null,null,null,null,null,{"$f":"T11","v":"cost"},"=",{"$f":"IF($C$4=1,$AW$48,FRUITMET!$V$13)","v":"£2.07"}]
[]
[null,null,null,null,null,null,null,null,null,null,null,null,null,null,null,null,null,null,null,{"$f":"FRUITMET!T15","v":"total"},"=",{"$f":"IF($C$4=1,AK59,AK60)","v":"£2.59"}]
[null,null,null,null,null,null,null,null,null,null,null,null,null,null,null,null,null,null,null,null,null,null,null,null,null,null,null,null,null,null,null,10,{"$f":"1*(INT(AF16*RAND())+1)","v":4},{"$f":"1*(INT((AF16-1)*RAND())+1)","v":4},{"$f":"AH16+AG16","v":8},{"$f":"MOD(AI16-1,AF16)+1","v":8},0,{"$f":"AG16+AK16","v":4},{"$f":"AJ16+AK16","v":8},null,1,{"$f":"$AL$16","v":4},{"$f":"$AM$16","v":8},{"$f":"$AL$17","v":11},{"$f":"$AL$19","v":36},{"$f":"$AM$19","v":33},{"$f":"$AM$17","v":17},{"$f":"$AL$18","v":25},{"$f":"$AM$18","v":23}]
[null,null,null,null,null,null,null,null,null,null,null,null,null,null,null,null,null,null,null,null,null,null,null,null,null,null,null,null,null,null,null,10,{"$f":"1*(INT(AF17*RAND())+1)","v":1},{"$f":"1*(INT((AF17-1)*RAND())+1)","v":6},{"$f":"AH17+AG17","v":7},{"$f":"MOD(AI17-1,AF17)+1","v":7},10,{"$f":"AG17+AK17","v":11},{"$f":"AJ17+AK17","v":17},null,2,{"$f":"$AM$19","v":33},{"$f":"$AL$16","v":4},{"$f":"$AM$16","v":8},{"$f":"$AL$17","v":11},{"$f":"$AM$18","v":23},{"$f":"$AL$19","v":36},{"$f":"$AM$17","v":17},{"$f":"$AL$18","v":25}]
[null,null,null,null,null,null,null,null,null,null,null,null,null,null,null,null,null,null,null,null,null,null,null,null,null,null,null,null,null,null,null,10,{"$f":"1*(INT(AF18*RAND())+1)","v":5},{"$f":"1*(INT((AF18-1)*RAND())+1)","v":8},{"$f":"AH18+AG18","v":13},{"$f":"MOD(AI18-1,AF18)+1","v":3},20,{"$f":"AG18+AK18","v":25},{"$f":"AJ18+AK18","v":23},null,3,{"$f":"$AL$19","v":36},{"$f":"$AM$17","v":17},{"$f":"$AL$18","v":25},{"$f":"$AM$18","v":23},{"$f":"$AM$19","v":33},{"$f":"$AL$16","v":4},{"$f":"$AM$16","v":8},{"$f":"$AL$17","v":11}]
[null,null,null,null,null,null,null,null,null,null,null,null,null,null,null,null,null,null,null,null,null,null,null,null,null,null,null,null,null,null,null,8,{"$f":"1*(INT(AF19*RAND())+1)","v":6},{"$f":"1*(INT((AF19-1)*RAND())+1)","v":5},{"$f":"AH19+AG19","v":11},{"$f":"MOD(AI19-1,AF19)+1","v":3},30,{"$f":"AG19+AK19","v":36},{"$f":"AJ19+AK19","v":33},null,4,{"$f":"$AM$18","v":23},{"$f":"$AL$19","v":36},{"$f":"$AM$19","v":33},{"$f":"$AL$18","v":25},{"$f":"$AL$16","v":4},{"$f":"$AM$16","v":8},{"$f":"$AL$17","v":11},{"$f":"$AM$17","v":17}]
[null,null,null,null,null,null,null,null,null,null,null,null,null,null,null,null,null,null,null,null,null,null,null,null,null,null,null,null,null,null,null,1,"Apples",{"$f":"INT(60*RAND())+40","v":89},{"$f":"IF(AH20<100,1,0)","v":1},{"$f":"IF(AH20/100=ROUNDDOWN(AH20/100,0),1,0)","v":0},{"$f":"IF(AH20/10=ROUNDDOWN(AH20/10,0),1,0)","v":0},{"$f":"AI20+AJ20*2+AK20*4","v":1},{"$f":"IF(AL20=0,CONCATENATE($R$28,ROUND(AH20/100,2)),IF(AL20=1,CONCATENATE(ROUND(AH20,0),$S$28),IF(AL20=4,CONCATENATE($R$28,AH20/100,\"0\"),IF(AL20=5,CONCATENATE(AH20,$S$28),IF(AL20=6,CONCATENATE($R$28,AH20/100),\"xxx\")))))","v":"89p"},"p",5,{"$f":"$AL$18","v":25},{"$f":"$AM$18","v":23},{"$f":"$AL$17","v":11},{"$f":"$AM$17","v":17},{"$f":"$AL$19","v":36},{"$f":"$AM$19","v":33},{"$f":"$AL$16","v":4},{"$f":"$AM$16","v":8}]
[null,null,null,null,null,null,null,null,null,null,null,null,null,null,null,null,null,null,null,null,null,null,null,null,null,null,null,null,null,null,null,2,"Apricots",{"$f":"INT(50*RAND())+101","v":110},0,0,1,4,"£1.10",null,6,{"$f":"$AM$17","v":17},{"$f":"$AL$18","v":25},{"$f":"$AL$17","v":11},{"$f":"$AM$18","v":23},{"$f":"$AL$19","v":36},{"$f":"$AM$19","v":33},{"$f":"$AL$16","v":4},{"$f":"$AM$16","v":8}]
[null,null,null,null,null,null,null,null,null,null,null,null,null,null,null,null,null,null,null,null,null,null,null,null,null,null,null,null,null,null,null,3,"Bananas",{"$f":"INT(60*RAND())+40","v":77},1,0,0,1,"77p","p",7,{"$f":"$AL$17","v":11},{"$f":"$AM$17","v":17},{"$f":"$AM$19","v":33},{"$f":"$AL$16","v":4},{"$f":"$AM$16","v":8},{"$f":"$AL$18","v":25},{"$f":"$AM$18","v":23},{"$f":"$AL$19","v":36}]
[null,null,null,null,null,null,null,null,null,null,null,null,null,null,null,null,null,null,null,null,null,null,null,null,null,null,null,null,null,null,null,4,"Blackcurrants",{"$f":"INT(50*RAND())+151","v":182},0,0,0,0,"£1.82",null,8,{"$f":"$AM$16","v":8},{"$f":"$AM$18","v":23},{"$f":"$AL$19","v":36},{"$f":"$AM$19","v":33},{"$f":"$AL$16","v":4},{"$f":"$AL$17","v":11},{"$f":"$AM$17","v":17},{"$f":"$AL$18","v":25}]
[null,null,null,null,null,null,null,null,null,null,null,null,null,null,null,null,null,null,null,null,null,null,null,null,null,null,null,null,null,null,null,5,"Blueberries",{"$f":"INT(50*RAND())+251","v":299},0,0,0,0,"£2.99",null,{"$f":"INT(8*RAND())+1","v":5}]
[null,null,null,null,null,null,null,null,null,null,null,null,null,null,null,null,null,null,null,null,null,null,null,null,null,null,null,null,null,null,null,6,"Cantaloupes",{"$f":"INT(50*RAND())+151","v":190},0,0,1,4,"£1.90",null,1,{"$f":"VLOOKUP($AO$24,$AO$16:$AW$23,2)","v":25},{"$f":"VLOOKUP(AP25,$AF$20:$AN$57,2)","v":"Papayas"},{"$f":"VLOOKUP(AP25,$AF$20:$AN$57,3)","v":288},{"$f":"AR25/100","v":2.88},{"$f":"VLOOKUP(AP25,$AF$20:$AN$57,8)","v":"£2.88"},{"$f":"VLOOKUP(AP25,$AF$20:$AN$57,9)","v":0}]
[null,null,null,null,null,null,null,null,null,null,null,null,null,null,null,null,null,null,null,null,null,null,null,null,null,null,null,null,null,null,null,7,"Black Cherries",{"$f":"INT(60*RAND())+40","v":59},1,0,0,1,"59p","p",2,{"$f":"VLOOKUP($AO$24,$AO$16:$AW$23,3)","v":23},"Nectarines",92,0.92,"92p","p"]
[null,null,null,null,null,null,null,null,null,null,null,null,null,null,null,null,null,null,null,null,null,null,null,null,null,null,null,null,null,null,null,8,"Clementines",{"$f":"INT(60*RAND())+40","v":69},1,0,0,1,"69p","p",3,{"$f":"VLOOKUP($AO$24,$AO$16:$AW$23,4)","v":11},"Figs",73,0.73,"73p","p"]
[null,null,null,null,null,null,null,null,null,null,null,null,null,null,null,null,{"$f":"E1","v":1},{"$f":"IF(Q28=1,\"£\",IF(Q28=2,\"$\",IF(Q28=3,\"€\",\"R\")))","v":"£"},{"$f":"IF(Q28=1,\"p\",\"c\")","v":"p"},null,null,null,null,null,null,null,null,null,null,null,null,9,"Cranberries",{"$f":"INT(50*RAND())+101","v":123},0,0,0,0,"£1.23",null,4,{"$f":"VLOOKUP($AO$24,$AO$16:$AW$23,5)","v":17},"Kumquats",289,2.89,"£2.89",0]
[null,null,null,null,null,null,null,null,null,null,null,null,null,null,null,null,null,null,null,null,null,null,null,null,null,null,null,null,null,null,null,10,"Dates",{"$f":"INT(60*RAND())+40","v":99},1,0,0,1,"99p","p",5,{"$f":"VLOOKUP($AO$24,$AO$16:$AW$23,6)","v":36},"Satsumas",84,0.84,"84p","p"]
[null,null,null,null,null,null,null,null,null,null,null,null,null,null,null,null,null,null,null,null,null,null,null,null,null,null,null,null,null,null,null,11,"Figs",{"$f":"INT(60*RAND())+40","v":73},1,0,0,1,"73p","p",6,{"$f":"VLOOKUP($AO$24,$AO$16:$AW$23,7)","v":33},"Prunes",146,1.46,"£1.46",0]
[null,null,null,null,null,null,null,null,null,null,null,null,null,null,null,null,null,null,null,null,null,null,null,null,null,null,null,null,null,null,null,12,"Gooseberries",{"$f":"INT(50*RAND())+101","v":110},0,0,1,4,"£1.10",null,7,{"$f":"VLOOKUP($AO$24,$AO$16:$AW$23,8)","v":4},"Blackcurrants",182,1.82,"£1.82",0]
[null,null,null,null,null,null,null,null,null,null,null,null,null,null,null,null,null,null,null,null,null,null,null,null,null,null,null,null,null,null,null,13,"Grapefruit",{"$f":"INT(60*RAND())+40","v":95},1,0,0,1,"95p","p",8,{"$f":"VLOOKUP($AO$24,$AO$16:$AW$23,9)","v":8},"Clementines",69,0.69,"69p","p"]
[null,null,null,null,null,null,null,null,null,null,null,null,null,null,null,null,null,null,null,null,null,null,null,null,null,null,null,null,null,null,null,14,"Red Grapes",{"$f":"INT(60*RAND())+40","v":89},1,0,0,1,"89p","p",null,8,{"$f":"1*(INT(AP33*RAND())+1)","v":8},{"$f":"1*(INT((AP33-1)*RAND())+1)","v":2},{"$f":"AR33+AQ33","v":10},{"$f":"MOD(AS33-1,AP33)+1","v":2}]
[null,null,null,null,null,null,null,null,null,null,null,null,null,null,null,null,null,null,null,null,null,null,null,null,null,null,null,null,null,null,null,15,"Guavas",{"$f":"INT(50*RAND())+201","v":211},0,0,0,0,"£2.11"]
[null,null,null,null,null,null,null,null,null,null,null,null,null,null,null,null,null,null,null,null,null,null,null,null,null,null,null,null,null,null,null,16,"Kiwi Fruit",{"$f":"INT(60*RAND())+40","v":47},1,0,0,1,"47p","p",{"$f":"AQ33","v":8},{"$f":"VLOOKUP(AO35,$AO$25:$AU$32,2)","v":8},{"$f":"VLOOKUP(AO35,$AO$25:$AU$32,3)","v":"Clementines"},{"$f":"VLOOKUP(AO35,$AO$25:$AU$32,4)","v":69},{"$f":"AR35","v":69},{"$f":"VLOOKUP(AO35,$AO$25:$AU$32,6)","v":"69p"},{"$f":"VLOOKUP(AO35,$AO$25:$AU$32,7)","v":"p"}]
[null,null,null,null,null,null,null,null,null,null,null,null,null,null,null,null,null,null,null,null,null,null,null,null,null,null,null,null,null,null,null,17,"Kumquats",{"$f":"INT(50*RAND())+251","v":289},0,0,0,0,"£2.89",null,{"$f":"AT33","v":2},{"$f":"VLOOKUP(AO36,$AO$25:$AU$32,2)","v":23},{"$f":"VLOOKUP(AO36,$AO$25:$AU$32,3)","v":"Nectarines"},{"$f":"VLOOKUP(AO36,$AO$25:$AU$32,4)","v":92},{"$f":"AR36","v":92},{"$f":"VLOOKUP(AO36,$AO$25:$AU$32,6)","v":"92p"},{"$f":"VLOOKUP(AO36,$AO$25:$AU$32,7)","v":"p"}]
[null,null,null,null,null,null,null,null,null,null,null,null,null,null,null,null,null,null,null,null,null,null,null,null,null,null,null,null,null,null,null,18,"Lemons",{"$f":"INT(60*RAND())+40","v":96},1,0,0,1,"96p","p"]
[null,null,null,null,null,null,null,null,null,null,null,null,null,null,null,null,null,null,null,null,null,null,null,null,null,null,null,null,null,null,null,19,"Lychees",{"$f":"INT(50*RAND())+351","v":370},0,0,1,4,"£3.70",null,{"$f":"250*(INT(21*RAND())+2)","v":750},{"$f":"AO38/1000","v":0.75},{"$f":"CONCATENATE(AU38,\" lb\")","v":"¾ lb"},null,null,{"$f":"AP38","v":0.75},{"$f":"BB38","v":"¾"},{"$f":"ABS(AT38)","v":0.75},{"$f":"IF(AT38<0,\"-\",\"\")","v":""},{"$f":"ROUNDDOWN(AV38,0)","v":0},{"$f":"ROUND(AV38-AX38,3)","v":0.75},{"$f":"IF(AY38=BC38,BC39,IF(AY38=BD38,BD39,IF(AY38=BE38,BE39,IF(AY38=BF38,BF39,IF(AY38=BG38,BG39,IF(AY38=BH38,BH39,IF(AY38=BI38,BI39,AY38)))))))","v":0.75},{"$f":"IF(AZ38=BJ38,BJ39,IF(AZ38=BK38,BK39,AZ38))","v":"¾"},{"$f":"IF(BA38=AY38,CONCATENATE(AW38,AX38+BA38),IF(AX38=0,CONCATENATE(AW38,BA38),CONCATENATE(AW38,AX38,BA38)))","v":"¾"},0.125,0.25,0.33300000000000002,0.375,0.5,0.625,0.66700000000000004,0.75,0.875]
[null,null,null,null,null,null,null,null,null,null,null,null,null,null,null,null,null,null,null,null,null,null,null,null,null,null,null,null,null,null,null,20,"Mandarins",{"$f":"INT(60*RAND())+40","v":55},1,0,0,1,"55p","p",{"$f":"250*(INT(21*RAND())+2)","v":2250},{"$f":"AO39/1000","v":2.25},{"$f":"CONCATENATE(AU39,\" lb\")","v":"2¼ lb"},null,null,{"$f":"AP39","v":2.25},{"$f":"BB39","v":"2¼"},{"$f":"ABS(AT39)","v":2.25},{"$f":"IF(AT39<0,\"-\",\"\")","v":""},{"$f":"ROUNDDOWN(AV39,0)","v":2},{"$f":"ROUND(AV39-AX39,3)","v":0.25},{"$f":"IF(AY39=BC38,BC39,IF(AY39=BD38,BD39,IF(AY39=BE38,BE39,IF(AY39=BF38,BF39,IF(AY39=BG38,BG39,IF(AY39=BH38,BH39,IF(AY39=BI38,BI39,AY39)))))))","v":"¼"},{"$f":"IF(AZ39=BJ38,BJ39,IF(AZ39=BK38,BK39,AZ39))","v":"¼"},{"$f":"IF(BA39=AY39,CONCATENATE(AW39,AX39+BA39),IF(AX39=0,CONCATENATE(AW39,BA39),CONCATENATE(AW39,AX39,BA39)))","v":"2¼"},"⅛","¼","⅓","⅜","½","⅝","⅔","¾","⅞"]
[null,null,null,null,null,null,null,null,null,null,null,null,null,null,null,null,null,null,null,null,null,null,null,null,null,null,null,null,null,null,null,21,"Mangoes",{"$f":"INT(50*RAND())+101","v":150},0,0,1,4,"£1.50"]
[null,null,null,null,null,null,null,null,null,null,null,null,null,null,null,null,null,null,null,null,null,null,null,null,null,null,null,null,null,null,null,22,"Melons",{"$f":"INT(60*RAND())+40","v":46},1,0,0,1,"46p","p",{"$f":"IF(AO38=AO39,1,0)","v":0},null,{"$f":"CONCATENATE($AU$38,\" lb of \",$AQ$35)","v":"¾ lb of Clementines"},null,null,null,{"$f":"CONCATENATE($AQ$38)","v":"¾ lb"},{"$f":"CONCATENATE($AQ$35)","v":"Clementines"}]
[null,null,null,null,null,null,null,null,null,null,null,null,null,null,null,null,null,null,null,null,null,null,null,null,null,null,null,null,null,null,null,23,"Nectarines",{"$f":"INT(60*RAND())+40","v":92},1,0,0,1,"92p","p",{"$f":"IF(AP38=1,1,0)","v":0},null,{"$f":"CONCATENATE($AU$39,\" lb of \",$AQ$36)","v":"2¼ lb of Nectarines"},null,null,null,{"$f":"CONCATENATE($AQ$39)","v":"2¼ lb"},{"$f":"CONCATENATE($AQ$36)","v":"Nectarines"}]
[null,null,null,null,null,null,null,null,null,null,null,null,null,null,null,null,null,null,null,null,null,null,null,null,null,null,null,null,null,null,null,24,"Oranges",{"$f":"INT(60*RAND())+40","v":99},1,0,0,1,"99p","p",{"$f":"IF(AP39=1,1,0)","v":0}]
[null,null,null,null,null,null,null,null,null,null,null,null,null,null,null,null,null,null,null,null,null,null,null,null,null,null,null,null,null,null,null,25,"Papayas",{"$f":"INT(50*RAND())+251","v":288},0,0,0,0,"£2.88",null,{"$f":"SUM(AO41:AO43)","v":0},null,{"$f":"IF(AU35=\"p\",CONCATENATE(AT38,\" × \",AS35),CONCATENATE(AT38,\" × \",AS35/100))","v":"0.75 × 69"},null,{"$f":"IF(AU35=\"p\",ROUND(AP38*AS35,6),ROUND(AP38*AS35/100,6))","v":51.75}]
[null,null,null,null,null,null,null,null,null,null,null,null,null,null,null,null,null,null,null,null,null,null,null,null,null,null,null,null,null,null,null,26,"Passion Fruit",{"$f":"INT(50*RAND())+201","v":222},0,0,0,0,"£2.22",null,null,null,{"$f":"IF(AU36=\"p\",CONCATENATE(AT39,\" × \",AS36),CONCATENATE(AT39,\" × \",AS36/100))","v":"2.25 × 92"},null,{"$f":"IF(AU36=\"p\",ROUND(AP39*AS36,6),ROUND(AP39*AS36/100,6))","v":207}]
[null,null,null,null,null,null,null,null,null,null,null,null,null,null,null,null,null,null,null,null,null,null,null,null,null,null,null,null,null,null,null,27,"Peaches",{"$f":"INT(60*RAND())+40","v":79},1,0,0,1,"79p","p"]
[null,null,null,null,null,null,null,null,null,null,null,null,null,null,null,null,null,null,null,null,null,null,null,null,null,null,null,null,null,null,null,28,"Pears",{"$f":"INT(60*RAND())+40","v":68},1,0,0,1,"68p","p",null,null,{"$f":"ROUND(AP38*AS35,6)","v":51.75},{"$f":"ROUND(AQ47*1,0)","v":52},{"$f":"IF(AR47<100,1,0)","v":1},{"$f":"IF(AR47/100=ROUNDDOWN(AR47/100,0),1,0)","v":0},{"$f":"IF(AR47/10=ROUNDDOWN(AR47/10,0),1,0)","v":0},{"$f":"AS47+AT47*2+AU47*4","v":1},{"$f":"IF(AV47=0,CONCATENATE($R$28,ROUND(AR47/100,2)),IF(AV47=1,CONCATENATE(ROUND(AR47,0),$S$28),IF(AV47=4,CONCATENATE($R$28,AR47/100,\"0\"),IF(AV47=5,CONCATENATE(AR47,$S$28),IF(AV47=6,CONCATENATE($R$28,AR47/100),\"xxx\")))))","v":"52p"}]
[null,null,null,null,null,null,null,null,null,null,null,null,null,null,null,null,null,null,null,null,null,null,null,null,null,null,null,null,null,null,null,29,"Physalis",{"$f":"INT(50*RAND())+351","v":353},0,0,0,0,"£3.53",null,null,null,{"$f":"ROUND(AP39*AS36,6)","v":207},{"$f":"ROUND(AQ48*1,0)","v":207},{"$f":"IF(AR48<100,1,0)","v":0},{"$f":"IF(AR48/100=ROUNDDOWN(AR48/100,0),1,0)","v":0},{"$f":"IF(AR48/10=ROUNDDOWN(AR48/10,0),1,0)","v":0},{"$f":"AS48+AT48*2+AU48*4","v":0},{"$f":"IF(AV48=0,CONCATENATE($R$28,ROUND(AR48/100,2)),IF(AV48=1,CONCATENATE(ROUND(AR48,0),$S$28),IF(AV48=4,CONCATENATE($R$28,AR48/100,\"0\"),IF(AV48=5,CONCATENATE(AR48,$S$28),IF(AV48=6,CONCATENATE($R$28,AR48/100),\"xxx\")))))","v":"£2.07"}]
[null,null,null,null,null,null,null,null,null,null,null,null,null,null,null,null,null,null,null,null,null,null,null,null,null,null,null,null,null,null,null,30,"Pineapples",{"$f":"INT(50*RAND())+101","v":145},0,0,0,0,"£1.45"]
[null,null,null,null,null,null,null,null,null,null,null,null,null,null,null,null,null,null,null,null,null,null,null,null,null,null,null,null,null,null,null,31,"Black Plums",{"$f":"INT(60*RAND())+40","v":91},1,0,0,1,"91p","p",null,null,null,null,null,null,null,null,{"$f":"R28","v":"£"}]
[null,null,null,null,null,null,null,null,null,null,null,null,null,null,null,null,null,null,null,null,null,null,null,null,null,null,null,null,null,null,null,32,"Pomegranates",{"$f":"INT(50*RAND())+401","v":427},0,0,0,0,"£4.27",null,null,null,{"$f":"AQ47*10","v":517.5},{"$f":"MOD(AQ51,10)","v":7.5},{"$f":"IF(AR51=0,0,1)","v":1},{"$f":"MOD(AQ51,1000)","v":517.5},{"$f":"IF(AT51=0,0,1)","v":1},null,{"$f":"S28","v":"p"}]
[null,null,null,null,null,null,null,null,null,null,null,null,null,null,null,null,null,null,null,null,null,null,null,null,null,null,null,null,null,null,null,33,"Prunes",{"$f":"INT(50*RAND())+101","v":146},0,0,0,0,"£1.46",null,null,null,{"$f":"AQ48*10","v":2070},{"$f":"MOD(AQ52,10)","v":0},{"$f":"IF(AR52=0,0,1)","v":0},{"$f":"MOD(AQ52,1000)","v":70},{"$f":"IF(AT52=0,0,1)","v":1}]
[null,null,null,null,null,null,null,null,null,null,null,null,null,null,null,null,null,null,null,null,null,null,null,null,null,null,null,null,null,null,null,34,"Raspberries",{"$f":"INT(50*RAND())+151","v":184},0,0,0,0,"£1.84"]
[null,null,null,null,null,null,null,null,null,null,null,null,null,null,null,null,null,null,null,null,null,null,null,null,null,null,null,null,null,null,null,35,"Rhubarb",{"$f":"INT(50*RAND())+101","v":127},0,0,0,0,"£1.27",null,null,null,{"$f":"FRUITMET!AQ51","v":8917.5},{"$f":"MOD(AQ54,10)","v":7.5},{"$f":"IF(AR54=0,0,1)","v":1},{"$f":"MOD(AQ54,1000)","v":917.5},{"$f":"IF(AT54=0,0,1)","v":1}]
[null,null,null,null,null,null,null,null,null,null,null,null,null,null,null,null,null,null,null,null,null,null,null,null,null,null,null,null,null,null,null,36,"Satsumas",{"$f":"INT(60*RAND())+40","v":84},1,0,0,1,"84p",{"$f":"S28","v":"p"},null,null,{"$f":"FRUITMET!AQ52","v":1129.5},{"$f":"MOD(AQ55,10)","v":9.5},{"$f":"IF(AR55=0,0,1)","v":1},{"$f":"MOD(AQ55,1000)","v":129.5},{"$f":"IF(AT55=0,0,1)","v":1}]
[null,null,null,null,null,null,null,null,null,null,null,null,null,null,null,null,null,null,null,null,null,null,null,null,null,null,null,null,null,null,null,37,"Strawberries",{"$f":"INT(50*RAND())+101","v":128},0,0,0,0,"£1.28"]
[null,null,null,null,null,null,null,null,null,null,null,null,null,null,null,null,null,null,null,null,null,null,null,null,null,null,null,null,null,null,null,38,"Tomatoes",{"$f":"INT(60*RAND())+40","v":54},1,0,0,1,"54p","p",null,null,null,null,{"$f":"IF($C$4=1,AS51,AS54)","v":1},null,{"$f":"IF($C$4=1,AU51,AU54)","v":1}]
[null,null,null,null,null,null,null,null,null,null,null,null,null,null,null,null,null,null,null,null,null,null,null,null,null,null,null,null,null,null,null,null,null,null,null,null,null,null,null,null,null,null,null,null,{"$f":"IF($C$4=1,AS52,AS55)","v":0},null,{"$f":"IF($C$4=1,AU52,AU55)","v":1}]
[null,null,null,null,null,null,null,null,null,null,null,null,null,null,null,null,null,null,null,null,null,null,null,null,null,null,null,null,null,null,null,{"$f":"AR47+AR48","v":259},{"$f":"IF(AF59<100,1,0)","v":0},{"$f":"IF(AF59/100=ROUNDDOWN(AF59/100,0),1,0)","v":0},{"$f":"IF(AF59/10=ROUNDDOWN(AF59/10,0),1,0)","v":0},{"$f":"AG59+AH59*2+AI59*4","v":0},{"$f":"IF(AJ59=0,CONCATENATE(AO59,ROUND(AF59/100,2)),IF(AJ59=1,CONCATENATE(ROUND(AF59,0),AL59),IF(AJ59=4,CONCATENATE(AO59,AF59/100,\"0\"),IF(AJ59=5,CONCATENATE(AF59,AL59),IF(AJ59=6,CONCATENATE(AO59,AF59/100),AM59)))))","v":"£2.59"},{"$f":"IF(AN59=1,\"p\",\"c\")","v":"p"},{"$f":"IF(AN59=1,\"0p\",IF(AN59=2,\"0c\",\"0c\"))","v":"0p"},{"$f":"E1","v":1},{"$f":"IF(AN59=1,\"£\",IF(AN59=2,\"$\",IF(AN59=3,\"€\",\"R\")))","v":"£"}]
[null,null,null,null,null,null,null,null,null,null,null,null,null,null,null,null,null,null,null,null,null,null,null,null,null,null,null,null,null,null,null,{"$f":"FRUITMET!AR47+FRUITMET!AR48","v":1005},{"$f":"IF(AF60<100,1,0)","v":0},{"$f":"IF(AF60/100=ROUNDDOWN(AF60/100,0),1,0)","v":0},{"$f":"IF(AF60/10=ROUNDDOWN(AF60/10,0),1,0)","v":0},{"$f":"AG60+AH60*2+AI60*4","v":0},{"$f":"IF(AJ60=0,CONCATENATE(AO60,ROUND(AF60/100,2)),IF(AJ60=1,CONCATENATE(ROUND(AF60,0),AL60),IF(AJ60=4,CONCATENATE(AO60,AF60/100,\"0\"),IF(AJ60=5,CONCATENATE(AF60,AL60),IF(AJ60=6,CONCATENATE(AO60,AF60/100),AM60)))))","v":"£10.05"},{"$f":"IF(AN60=1,\"p\",\"c\")","v":"p"},{"$f":"IF(AN60=1,\"0p\",IF(AN60=2,\"0c\",\"0c\"))","v":"0p"},{"$f":"AN59","v":1},{"$f":"IF(AN60=1,\"£\",IF(AN60=2,\"$\",IF(AN60=3,\"€\",\"R\")))","v":"£"}]

{"sheet":"CALCMONE","index":4,"n_rows":59,"n_cols":76,"rows_kept":59,"cut":false,"hidden":false,"merged":[[5,15,9,30],[12,15,16,30],[5,14,9,14],[12,14,16,14],[3,8,3,9],[3,10,3,11],[10,8,10,9],[10,10,10,11]]}
[null,null,null,null,1]
[null,null,"Interpret the value the calculator displays",null,null,null,null,null,null,null,null,null,null,null,null,null,null,null,null,null,null,null,null,null,null,null,{"$f":"IF(AP11>2,\"*\",\"•\")","v":"*"},{"$f":"IF(AP18>2,\"*  \",\"•\")","v":"*  "},null,null,null,null,null,null,null,{"$f":"AJ7","v":617},{"$f":"ABS(AJ2)","v":617},{"$f":"IF(AK2<100,1,0)","v":0},{"$f":"IF(AK2/100=ROUNDDOWN(AK2/100,0),1,0)","v":0},{"$f":"IF(AK2/10=ROUNDDOWN(AK2/10,0),1,0)","v":0},{"$f":"AL2+AM2*2+AN2*4","v":0},{"$f":"IF(AO2=0,CONCATENATE(,AK2/100-MOD(AK2/100,1),\" m \",ROUND(100*MOD(AK2/100,1),6),\" cm\"),IF(AO2=1,CONCATENATE(ROUND(AK2,0),\" cm\"),IF(AO2=4,CONCATENATE(,AK2/100-MOD(AK2/100,1),\" m \",ROUND(10*MOD(AK2/100,1),6),\"0 cm\"),IF(AO2=5,CONCATENATE(AK2,\" cm\"),IF(AO2=6,CONCATENATE(\"\",AK2/100,\" m\"),\"0 m\")))))","v":"6 m 17 cm"}]
[null,null,"after the division in the context of money.",null,null,null,null,null,null,null,null,null,null,null,null,null,null,null,null,null,null,null,null,null,null,null,1,{"$f":"IF(AA3=0,\"\",R28)","v":"£"},{"$f":"IF(AA3=0,\" m\",\"\")","v":""},{"$f":"IF(AA3=0,\" cm\",T28)","v":" penny"},null,null,null,null,null,{"$f":"AJ14","v":792},{"$f":"ABS(AJ3)","v":792},{"$f":"IF(AK3<100,1,0)","v":0},{"$f":"IF(AK3/100=ROUNDDOWN(AK3/100,0),1,0)","v":0},{"$f":"IF(AK3/10=ROUNDDOWN(AK3/10,0),1,0)","v":0},{"$f":"AL3+AM3*2+AN3*4","v":0},{"$f":"IF(AO3=0,CONCATENATE(,AK3/100-MOD(AK3/100,1),\" m \",ROUND(100*MOD(AK3/100,1),6),\" cm\"),IF(AO3=1,CONCATENATE(ROUND(AK3,0),\" cm\"),IF(AO3=4,CONCATENATE(,AK3/100-MOD(AK3/100,1),\" m \",ROUND(10*MOD(AK3/100,1),6),\"0 cm\"),IF(AO3=5,CONCATENATE(AK3,\" cm\"),IF(AO3=6,CONCATENATE(\"\",AK3/100,\" m\"),\"0 m\")))))","v":"7 m 92 cm"}]
[null,null,{"$f":"INT(10*RAND())+0","v":6},{"$f":"RAND()","v":0.86107264704794495},{"$f":"IF(D4>0.5,\"ms\",\"hm\")","v":"ms"},{"$f":"RAND()","v":0.34266191983078576},{"$f":"IF(F4>0.5,20,12)","v":12},{"$f":"INT((G4-1)*RAND())+1","v":2},{"$f":"H4/G4","v":0.16666666666666666},null,{"$f":"H4*100+G4","v":212},null,60,{"$f":"M4*H4/G4","v":10},{"$f":"IF(C4>1,\"s\",\"\")","v":"s"},null,{"$f":"RAND()","v":0.24075124218247934},{"$f":"IF(Q4>0.5,\"What is \",\"Evaluate \")","v":"Evaluate "},{"$f":"IF(Q4>0.5,\"?\",\".\")","v":"."},null,null,null,null,null,{"$f":"AP11","v":7},{"$f":"AP18","v":7},{"$f":"IF(Y4=2,1,IF(Z4=2,1,0))","v":0}]
[null,null,{"$f":"CONCATENATE(R4,AB3,C4*AK20+AK19,AC3,\" divided by \",BX20,\" to the nearest\",AD3,S4)","v":"Evaluate £37 divided by six to the nearest penny."}]
[null,null,null,null,null,null,null,null,null,null,null,null,null,null,"=",{"$f":"IF(AA3=1,AO7,AP2)","v":"£6.17"}]
[null,null,null,null,null,null,null,null,null,null,null,null,null,null,null,null,null,null,null,null,null,null,null,null,null,null,null,null,null,null,null,null,null,null,null,{"$f":"ROUND((C4+AK19/AK20)*100,0)","v":617},{"$f":"IF(AJ7<100,1,0)","v":0},{"$f":"IF(AJ7/100=ROUNDDOWN(AJ7/100,0),1,0)","v":0},{"$f":"IF(AJ7/10=ROUNDDOWN(AJ7/10,0),1,0)","v":0},{"$f":"AK7+AL7*2+AM7*4","v":0},{"$f":"IF(AN7=0,CONCATENATE($R$28,ROUND(AJ7/100,2)),IF(AN7=1,CONCATENATE(ROUND(AJ7,0),$S$28),IF(AN7=4,CONCATENATE($R$28,AJ7/100,\"0\"),IF(AN7=5,CONCATENATE(AJ7,$S$28),IF(AN7=6,CONCATENATE($R$28,AJ7/100),\"xxx\")))))","v":"£6.17"},{"$f":"AJ7/100","v":6.17},{"$f":"ROUND(AP7,0)","v":6},{"$f":"AQ7-AP7","v":-0.16999999999999993},{"$f":"IF(AR7=0,0,1)","v":1}]
[null,null,null,null,null,null,null,null,null,null,null,null,null,null,null,null,null,null,null,null,null,null,null,null,null,null,null,null,null,null,null,null,null,null,null,{"$f":"(C4+AK19/AK20)*10-ROUNDDOWN((C4+AK19/AK20)*10,0)","v":0.6666666666666714},{"$f":"100*AJ8","v":66.66666666666714}]
[null,null,null,{"$f":"VLOOKUP($K$4,$AG$23:$AW$59,4)","v":6},{"$f":"VLOOKUP($K$4,$AG$23:$AW$59,5)","v":1},null,{"$f":"VLOOKUP($K$4,$AG$23:$AW$59,6)","v":6},{"$f":"VLOOKUP($K$4,$AG$23:$AW$59,7)","v":6},null,{"$f":"VLOOKUP($K$4,$AG$23:$AW$59,8)","v":6},null,{"$f":"VLOOKUP($K$4,$AG$23:$AW$59,9)","v":6},{"$f":"VLOOKUP($K$4,$AG$23:$AW$59,10)","v":7}]
[null,null,null,{"$f":"VLOOKUP($K$4,$AG$23:$AW$59,11)","v":1},null,null,{"$f":"IF(D11>0.5,8,12)","v":8},12,{"$f":"VLOOKUP($K$4,$AG$23:$AW$59,12)","v":0},null,{"$f":"VLOOKUP($K$4,$AG$23:$AW$59,13)","v":0},{"$f":"VLOOKUP($K$4,$AG$23:$AW$59,14)","v":0},null,null,null,null,null,null,null,null,null,null,null,null,null,null,null,null,null,null,null,null,null,null,null,{"$f":"ROUND((C4+AK19/AK20),9)","v":6.1666666670000003},{"$f":"MOD(AJ10,1)","v":0.16666666700000032},{"$f":"ROUND(1000*AK10,0)","v":167},{"$f":"(AL10-MOD(AL10,100))/100","v":1},{"$f":"(AL10-AM11-MOD(AL10-AM11,10))/10","v":6},{"$f":"ROUNDDOWN(AL10-AM11-AN11,0)","v":7},{"$f":"MOD(1000*AJ10,1)","v":0.66666700000041601}]
[null,null,{"$f":"INT(10*RAND())+0","v":7},{"$f":"RAND()","v":0.96543765872139375},{"$f":"IF(D11>0.5,\"dh\",\"ym\")","v":"dh"},{"$f":"RAND()","v":4.2137194899223296E-2},{"$f":"IF(F11>0.5,G10,H10)","v":12},{"$f":"INT((G11-1)*RAND())+1","v":11},{"$f":"H11/G11","v":0.91666666666666663},null,{"$f":"H11*100+G11","v":1112},null,{"$f":"IF(D11>0.5,24,12)","v":24},{"$f":"M11*H11/G11","v":22},{"$f":"IF(C11>1,\"s\",\"\")","v":"s"},null,null,null,null,null,null,null,null,null,null,null,null,null,null,null,null,null,null,null,null,{"$f":"CONCATENATE(AJ10)","v":"6.166666667"},null,null,{"$f":"AM10*100","v":100},{"$f":"AN10*10","v":60},{"$f":"AO10","v":7},{"$f":"IF(AP10>0,7,IF(AO10>0,3,IF(AN10>0,2,1)))","v":7}]
[null,null,{"$f":"CONCATENATE(\"Split \",AB3,C11*BK20+BK19,AC3,\" into \",BX21,\" parts to the nearest\",AD3,\".\")","v":"Split £95 into twelve parts to the nearest penny."}]
[null,null,null,null,null,null,null,null,null,null,null,null,null,null,"=",{"$f":"IF(AA3=1,AO14,AP3)","v":"£7.92"}]
[null,null,null,null,null,null,null,null,null,null,null,null,null,null,null,null,null,null,null,null,null,null,null,null,null,null,null,null,null,null,null,null,null,null,null,{"$f":"ROUND((C11+BK19/BK20)*100,0)","v":792},{"$f":"IF(AJ14<100,1,0)","v":0},{"$f":"IF(AJ14/100=ROUNDDOWN(AJ14/100,0),1,0)","v":0},{"$f":"IF(AJ14/10=ROUNDDOWN(AJ14/10,0),1,0)","v":0},{"$f":"AK14+AL14*2+AM14*4","v":0},{"$f":"IF(AN14=0,CONCATENATE($R$28,ROUND(AJ14/100,2)),IF(AN14=1,CONCATENATE(ROUND(AJ14,0),$S$28),IF(AN14=4,CONCATENATE($R$28,AJ14/100,\"0\"),IF(AN14=5,CONCATENATE(AJ14,$S$28),IF(AN14=6,CONCATENATE($R$28,AJ14/100),\"xxx\")))))","v":"£7.92"},{"$f":"AJ14/100","v":7.92},{"$f":"ROUND(AP14,0)","v":8},{"$f":"AQ14-AP14","v":8.0000000000000071E-2},{"$f":"IF(AR14=0,0,1)","v":1}]
[null,null,null,null,null,null,null,null,null,null,null,null,null,null,null,null,null,null,null,null,null,null,null,null,null,null,null,null,null,null,null,null,null,null,null,{"$f":"ROUND((C11+BK19/BK20)*100,0)","v":792},{"$f":"100*AJ15","v":79200}]
[null,null,null,{"$f":"VLOOKUP($K$11,$BG$23:$BW$59,4)","v":7},{"$f":"VLOOKUP($K$11,$BG$23:$BW$59,5)","v":9},null,{"$f":"VLOOKUP($K$11,$BG$23:$BW$59,6)","v":1},{"$f":"VLOOKUP($K$11,$BG$23:$BW$59,7)","v":6},null,{"$f":"VLOOKUP($K$11,$BG$23:$BW$59,8)","v":6},null,{"$f":"VLOOKUP($K$11,$BG$23:$BW$59,9)","v":6},{"$f":"VLOOKUP($K$11,$BG$23:$BW$59,10)","v":7}]
[null,null,null,{"$f":"VLOOKUP($K$11,$BG$23:$BW$59,11)","v":1},null,null,null,null,{"$f":"VLOOKUP($K$11,$BG$23:$BW$59,12)","v":0},null,{"$f":"VLOOKUP($K$11,$BG$23:$BW$59,13)","v":0},{"$f":"VLOOKUP($K$11,$BG$23:$BW$59,14)","v":0},null,null,null,null,null,null,null,null,null,null,null,null,null,null,null,null,null,null,null,null,null,null,null,{"$f":"ROUND((C11+BK19/BK20),9)","v":7.9166666670000003},{"$f":"MOD(AJ17,1)","v":0.91666666700000032},{"$f":"ROUND(1000*AK17,0)","v":917},{"$f":"(AL17-MOD(AL17,100))/100","v":9},{"$f":"(AL17-AM18-MOD(AL17-AM18,10))/10","v":1},{"$f":"ROUNDDOWN(AL17-AM18-AN18,0)","v":7},{"$f":"MOD(1000*AJ17,1)","v":0.66666700000041601}]
[null,null,null,null,null,null,null,null,null,null,null,null,null,null,null,null,null,null,null,null,null,null,null,null,null,null,null,null,null,null,null,null,null,null,null,{"$f":"CONCATENATE(AJ17)","v":"7.916666667"},null,null,{"$f":"AM17*100","v":900},{"$f":"AN17*10","v":10},{"$f":"AO17","v":7},{"$f":"IF(AP17>0,7,IF(AO17>0,3,IF(AN17>0,2,1)))","v":7}]
[null,null,null,null,null,null,null,null,null,null,null,null,null,null,null,null,null,null,null,null,null,null,null,null,null,null,null,null,null,null,null,null,null,null,{"$f":"H4","v":2},{"$f":"IF(AI19=0,1,AI19*AI20/(MAX(AI19:AI20)*LEFT(TEXT(MIN(AI19:AI20)/MAX(AI19:AI20),\"000000000000000/000000000000000\"),15)))","v":2},{"$f":"AI19/AJ19","v":1},null,null,null,null,null,null,null,null,null,null,null,null,null,null,null,null,null,null,null,null,null,null,null,{"$f":"H11","v":11},{"$f":"IF(BI19=0,1,BI19*BI20/(MAX(BI19:BI20)*LEFT(TEXT(MIN(BI19:BI20)/MAX(BI19:BI20),\"000000000000000/000000000000000\"),15)))","v":1},{"$f":"BI19/BJ19","v":11}]
[null,null,null,null,null,null,null,null,null,null,null,null,null,null,null,null,null,null,null,null,null,null,null,null,null,null,null,null,null,null,null,null,null,null,{"$f":"G4","v":12},{"$f":"MAX(AI19:AI20)*LEFT(TEXT(MIN(AI19:AI20)/MAX(AI19:AI20),\"000000000000000/000000000000000\"),15)","v":12},{"$f":"IF(AI19=0,\"\",IF(AI19=AI20,\"\",AI20/AJ19))","v":6},null,null,null,null,null,null,null,null,null,null,null,null,null,null,null,null,null,null,null,null,null,null,null,{"$f":"G11","v":12},{"$f":"MAX(BI19:BI20)*LEFT(TEXT(MIN(BI19:BI20)/MAX(BI19:BI20),\"000000000000000/000000000000000\"),15)","v":132},{"$f":"IF(BI19=0,\"\",IF(BI19=BI20,\"\",BI20/BJ19))","v":12},null,null,null,null,null,null,null,null,null,null,null,{"$f":"AK20","v":6},{"$f":"VLOOKUP(BW20,$BW$22:$BX$33,2)","v":"six"}]
[null,null,null,null,null,null,null,null,null,null,null,null,null,null,null,null,null,null,null,null,null,null,null,null,null,null,null,null,null,null,null,null,null,null,null,null,null,null,null,null,null,null,null,null,null,null,null,null,null,null,null,null,null,null,null,null,null,null,null,null,null,null,null,null,null,null,null,null,null,null,null,null,null,null,{"$f":"BK20","v":12},{"$f":"VLOOKUP(BW21,$BW$22:$BX$33,2)","v":"twelve"}]
[null,null,null,null,null,null,null,null,null,null,null,null,null,null,null,null,null,null,null,null,null,null,null,null,null,null,null,null,null,null,null,null,null,null,null,1,2,3,4,5,6,7,8,9,10,11,null,null,null,null,null,null,null,null,null,null,null,null,null,null,null,1,2,3,4,5,6,7,8,9,10,11,null,null,2,"two"]
[null,null,null,null,null,null,null,null,null,null,null,null,null,null,null,null,null,null,null,null,null,null,null,null,null,null,null,null,null,null,null,null,108,1,8,10,10,10,{"$f":"$C$4","v":6},1,2,5,null,1,null,null,null,null,null,null,null,null,null,null,null,null,null,null,108,1,8,10,10,10,{"$f":"$C$11","v":7},1,2,5,null,1,null,null,null,null,3,"three"]
[null,null,null,null,null,null,null,null,null,null,null,null,null,null,null,null,null,null,null,null,null,null,null,null,null,null,null,null,null,null,null,null,112,1,12,{"$f":"$C$4","v":6},0,8,3,3,3,3,1,null,null,null,null,null,null,null,null,null,null,null,null,null,null,null,112,1,12,{"$f":"$C$11","v":7},0,8,3,3,3,3,1,null,null,null,null,null,4,"four"]
[null,null,null,null,null,null,null,null,null,null,null,null,null,null,null,null,null,null,null,null,null,null,null,null,null,null,null,null,null,null,null,null,120,1,20,10,10,10,10,{"$f":"$C$4","v":6},0,5,null,null,1,null,null,null,null,null,null,null,null,null,null,null,null,null,120,1,20,10,10,10,10,{"$f":"$C$11","v":7},0,5,null,null,1,null,null,null,5,"five"]
[null,null,null,null,null,null,null,null,null,null,null,null,null,null,null,null,null,null,null,null,null,null,null,null,null,null,null,null,null,null,null,null,208,2,8,10,10,10,10,{"$f":"$C$4","v":6},2,5,null,null,1,null,null,null,null,null,null,null,null,null,null,null,null,null,208,2,8,10,10,10,10,{"$f":"$C$11","v":7},2,5,null,null,1,null,null,null,6,"six"]
[null,null,null,null,null,null,null,null,null,null,null,null,null,null,null,null,null,null,null,null,null,null,null,null,null,null,null,null,null,null,null,null,212,2,12,{"$f":"$C$4","v":6},1,6,6,6,6,7,1,null,null,null,null,null,null,null,null,null,null,null,null,null,null,null,212,2,12,{"$f":"$C$11","v":7},1,6,6,6,6,7,1,null,null,null,null,null,7,"seven"]
[null,null,null,null,null,null,null,null,null,null,null,null,null,null,null,null,{"$f":"E1","v":1},{"$f":"IF(Q28=1,\"£\",IF(Q28=2,\"$\",IF(Q28=3,\"€\",\"R\")))","v":"£"},{"$f":"IF(Q28=1,\"p\",\"c\")","v":"p"},{"$f":"IF(Q28=1,\" penny\",\" cent\")","v":" penny"},null,null,null,null,null,null,null,null,null,null,null,null,220,2,20,10,10,10,10,10,{"$f":"$C$4","v":6},1,null,null,null,1,null,null,null,null,null,null,null,null,null,null,null,null,220,2,20,10,10,10,10,10,{"$f":"$C$11","v":7},1,null,null,null,1,null,null,8,"eight"]
[null,null,null,null,null,null,null,null,null,null,null,null,null,null,null,null,null,null,null,null,null,null,null,null,null,null,null,null,null,null,null,null,308,3,8,10,10,10,{"$f":"$C$4","v":6},3,7,5,null,1,null,null,null,null,null,null,null,null,null,null,null,null,null,null,308,3,8,10,10,10,{"$f":"$C$11","v":7},3,7,5,null,1,null,null,null,null,9,"nine"]
[null,null,null,null,null,null,null,null,null,null,null,null,null,null,null,null,null,null,null,null,null,null,null,null,null,null,null,null,null,null,null,null,312,3,12,10,10,10,10,{"$f":"$C$4","v":6},2,5,null,null,1,null,null,null,null,null,null,null,null,null,null,null,null,null,312,3,12,10,10,10,10,{"$f":"$C$11","v":7},2,5,null,null,1,null,null,null,10,"ten"]
[null,null,null,null,null,null,null,null,null,null,null,null,null,null,null,null,null,null,null,null,null,null,null,null,null,null,null,null,null,null,null,null,320,3,20,10,10,10,10,{"$f":"$C$4","v":6},1,5,null,null,1,null,null,null,null,null,null,null,null,null,null,null,null,null,320,3,20,10,10,10,10,{"$f":"$C$11","v":7},1,5,null,null,1,null,null,null,11,"eleven"]
[null,null,null,null,null,null,null,null,null,null,null,null,null,null,null,null,null,null,null,null,null,null,null,null,null,null,null,null,null,null,null,null,408,4,8,10,10,10,10,10,{"$f":"$C$4","v":6},5,null,null,null,1,null,null,null,null,null,null,null,null,null,null,null,null,408,4,8,10,10,10,10,10,{"$f":"$C$11","v":7},5,null,null,null,1,null,null,12,"twelve"]
[null,null,null,null,null,null,null,null,null,null,null,null,null,null,null,null,null,null,null,null,null,null,null,null,null,null,null,null,null,null,null,null,412,4,12,{"$f":"$C$4","v":6},3,3,3,3,3,3,1,null,null,null,null,null,null,null,null,null,null,null,null,null,null,null,412,4,12,{"$f":"$C$11","v":7},3,3,3,3,3,3,1,null,null,null,null,null,20,"twenty"]
[null,null,null,null,null,null,null,null,null,null,null,null,null,null,null,null,null,null,null,null,null,null,null,null,null,null,null,null,null,null,null,null,420,4,20,10,10,10,10,10,{"$f":"$C$4","v":6},2,null,null,null,1,null,null,null,null,null,null,null,null,null,null,null,null,420,4,20,10,10,10,10,10,{"$f":"$C$11","v":7},2,null,null,null,1]
[null,null,null,null,null,null,null,null,null,null,null,null,null,null,null,null,null,null,null,null,null,null,null,null,null,null,null,null,null,null,null,null,508,5,8,10,10,10,{"$f":"$C$4","v":6},6,2,5,null,1,null,null,null,null,null,null,null,null,null,null,null,null,null,null,508,5,8,10,10,10,{"$f":"$C$11","v":7},6,2,5,null,1]
[null,null,null,null,null,null,null,null,null,null,null,null,null,null,null,null,null,null,null,null,null,null,null,null,null,null,null,null,null,null,null,null,512,5,12,{"$f":"$C$4","v":6},4,1,6,6,6,7,1,null,null,null,null,null,null,null,null,null,null,null,null,null,null,null,512,5,12,{"$f":"$C$11","v":7},4,1,6,6,6,7,1]
[null,null,null,null,null,null,null,null,null,null,null,null,null,null,null,null,null,null,null,null,null,null,null,null,null,null,null,null,null,null,null,null,520,5,20,10,10,10,10,{"$f":"$C$4","v":6},2,5,null,null,1,null,null,null,null,null,null,null,null,null,null,null,null,null,520,5,20,10,10,10,10,{"$f":"$C$11","v":7},2,5,null,null,1]
[null,null,null,null,null,null,null,null,null,null,null,null,null,null,null,null,null,null,null,null,null,null,null,null,null,null,null,null,null,null,null,null,608,6,8,10,10,10,10,{"$f":"$C$4","v":6},7,5,null,null,1,null,null,null,null,null,null,null,null,null,null,null,null,null,608,6,8,10,10,10,10,{"$f":"$C$11","v":7},7,5,null,null,1]
[null,null,null,null,null,null,null,null,null,null,null,null,null,null,null,null,null,null,null,null,null,null,null,null,null,null,null,null,null,null,null,null,612,6,12,10,10,10,10,10,{"$f":"$C$4","v":6},5,null,null,null,1,null,null,null,null,null,null,null,null,null,null,null,null,612,6,12,10,10,10,10,10,{"$f":"$C$11","v":7},5,null,null,null,1]
[null,null,null,null,null,null,null,null,null,null,null,null,null,null,null,null,null,null,null,null,null,null,null,null,null,null,null,null,null,null,null,null,620,6,20,10,10,10,10,10,{"$f":"$C$4","v":6},3,null,null,null,1,null,null,null,null,null,null,null,null,null,null,null,null,620,6,20,10,10,10,10,10,{"$f":"$C$11","v":7},3,null,null,null,1]
[null,null,null,null,null,null,null,null,null,null,null,null,null,null,null,null,null,null,null,null,null,null,null,null,null,null,null,null,null,null,null,null,708,7,8,10,10,10,{"$f":"$C$4","v":6},8,7,5,null,1,null,null,null,null,null,null,null,null,null,null,null,null,null,null,708,7,8,10,10,10,{"$f":"$C$11","v":7},8,7,5,null,1]
[null,null,null,null,null,null,null,null,null,null,null,null,null,null,null,null,null,null,null,null,null,null,null,null,null,null,null,null,null,null,null,null,712,7,12,{"$f":"$C$4","v":6},5,8,3,3,3,3,1,null,null,null,null,null,null,null,null,null,null,null,null,null,null,null,712,7,12,{"$f":"$C$11","v":7},5,8,3,3,3,3,1]
[null,null,null,null,null,null,null,null,null,null,null,null,null,null,null,null,null,null,null,null,null,null,null,null,null,null,null,null,null,null,null,null,720,7,20,10,10,10,10,{"$f":"$C$4","v":6},3,5,null,null,1,null,null,null,null,null,null,null,null,null,null,null,null,null,720,7,20,10,10,10,10,{"$f":"$C$11","v":7},3,5,null,null,1]
[null,null,null,null,null,null,null,null,null,null,null,null,null,null,null,null,null,null,null,null,null,null,null,null,null,null,null,null,null,null,null,null,812,8,12,{"$f":"$C$4","v":6},6,6,6,6,6,7,1,null,null,null,null,null,null,null,null,null,null,null,null,null,null,null,812,8,12,{"$f":"$C$11","v":7},6,6,6,6,6,7,1]
[null,null,null,null,null,null,null,null,null,null,null,null,null,null,null,null,null,null,null,null,null,null,null,null,null,null,null,null,null,null,null,null,820,8,20,10,10,10,10,10,{"$f":"$C$4","v":6},4,null,null,null,1,null,null,null,null,null,null,null,null,null,null,null,null,820,8,20,10,10,10,10,10,{"$f":"$C$11","v":7},4,null,null,null,1]
[null,null,null,null,null,null,null,null,null,null,null,null,null,null,null,null,null,null,null,null,null,null,null,null,null,null,null,null,null,null,null,null,912,9,12,10,10,10,10,{"$f":"$C$4","v":6},7,5,null,null,1,null,null,null,null,null,null,null,null,null,null,null,null,null,912,9,12,10,10,10,10,{"$f":"$C$11","v":7},7,5,null,null,1]
[null,null,null,null,null,null,null,null,null,null,null,null,null,null,null,null,null,null,null,null,null,null,null,null,null,null,null,null,null,null,null,null,920,9,20,10,10,10,10,{"$f":"$C$4","v":6},4,5,null,null,1,null,null,null,null,null,null,null,null,null,null,null,null,null,920,9,20,10,10,10,10,{"$f":"$C$11","v":7},4,5,null,null,1]
[null,null,null,null,null,null,null,null,null,null,null,null,null,null,null,null,null,null,null,null,null,null,null,null,null,null,null,null,null,null,null,null,1012,10,12,{"$f":"$C$4","v":6},8,3,3,3,3,3,1,null,null,null,null,null,null,null,null,null,null,null,null,null,null,null,1012,10,12,{"$f":"$C$11","v":7},8,3,3,3,3,3,1]
[null,null,null,null,null,null,null,null,null,null,null,null,null,null,null,null,null,null,null,null,null,null,null,null,null,null,null,null,null,null,null,null,1020,10,20,10,10,10,10,10,{"$f":"$C$4","v":6},5,null,null,null,1,null,null,null,null,null,null,null,null,null,null,null,null,1020,10,20,10,10,10,10,10,{"$f":"$C$11","v":7},5,null,null,null,1]
[null,null,null,null,null,null,null,null,null,null,null,null,null,null,null,null,null,null,null,null,null,null,null,null,null,null,null,null,null,null,null,null,1112,11,12,{"$f":"$C$4","v":6},9,1,6,6,6,7,1,null,null,null,null,null,null,null,null,null,null,null,null,null,null,null,1112,11,12,{"$f":"$C$11","v":7},9,1,6,6,6,7,1]
[null,null,null,null,null,null,null,null,null,null,null,null,null,null,null,null,null,null,null,null,null,null,null,null,null,null,null,null,null,null,null,null,1120,11,20,10,10,10,10,{"$f":"$C$4","v":6},5,5,null,null,1,null,null,null,null,null,null,null,null,null,null,null,null,null,1120,11,20,10,10,10,10,{"$f":"$C$11","v":7},5,5,null,null,1]
[null,null,null,null,null,null,null,null,null,null,null,null,null,null,null,null,null,null,null,null,null,null,null,null,null,null,null,null,null,null,null,null,1220,12,20,10,10,10,10,10,{"$f":"$C$4","v":6},6,null,null,null,1,null,null,null,null,null,null,null,null,null,null,null,null,1220,12,20,10,10,10,10,10,{"$f":"$C$11","v":7},6,null,null,null,1]
[null,null,null,null,null,null,null,null,null,null,null,null,null,null,null,null,null,null,null,null,null,null,null,null,null,null,null,null,null,null,null,null,1320,13,20,10,10,10,10,{"$f":"$C$4","v":6},6,5,null,null,1,null,null,null,null,null,null,null,null,null,null,null,null,null,1320,13,20,10,10,10,10,{"$f":"$C$11","v":7},6,5,null,null,1]
[null,null,null,null,null,null,null,null,null,null,null,null,null,null,null,null,null,null,null,null,null,null,null,null,null,null,null,null,null,null,null,null,1420,14,20,10,10,10,10,10,{"$f":"$C$4","v":6},7,null,null,null,1,null,null,null,null,null,null,null,null,null,null,null,null,1420,14,20,10,10,10,10,10,{"$f":"$C$11","v":7},7,null,null,null,1]
[null,null,null,null,null,null,null,null,null,null,null,null,null,null,null,null,null,null,null,null,null,null,null,null,null,null,null,null,null,null,null,null,1520,15,20,10,10,10,10,{"$f":"$C$4","v":6},7,5,null,null,1,null,null,null,null,null,null,null,null,null,null,null,null,null,1520,15,20,10,10,10,10,{"$f":"$C$11","v":7},7,5,null,null,1]
[null,null,null,null,null,null,null,null,null,null,null,null,null,null,null,null,null,null,null,null,null,null,null,null,null,null,null,null,null,null,null,null,1620,16,20,10,10,10,10,10,{"$f":"$C$4","v":6},8,null,null,null,1,null,null,null,null,null,null,null,null,null,null,null,null,1620,16,20,10,10,10,10,10,{"$f":"$C$11","v":7},8,null,null,null,1]
[null,null,null,null,null,null,null,null,null,null,null,null,null,null,null,null,null,null,null,null,null,null,null,null,null,null,null,null,null,null,null,null,1720,17,20,10,10,10,10,{"$f":"$C$4","v":6},8,5,null,null,1,null,null,null,null,null,null,null,null,null,null,null,null,null,1720,17,20,10,10,10,10,{"$f":"$C$11","v":7},8,5,null,null,1]
[null,null,null,null,null,null,null,null,null,null,null,null,null,null,null,null,null,null,null,null,null,null,null,null,null,null,null,null,null,null,null,null,1820,18,20,10,10,10,10,10,{"$f":"$C$4","v":6},9,null,null,null,1,null,null,null,null,null,null,null,null,null,null,null,null,1820,18,20,10,10,10,10,10,{"$f":"$C$11","v":7},9,null,null,null,1]
[null,null,null,null,null,null,null,null,null,null,null,null,null,null,null,null,null,null,null,null,null,null,null,null,null,null,null,null,null,null,null,null,1920,19,20,10,10,10,10,{"$f":"$C$4","v":6},9,5,null,null,1,null,null,null,null,null,null,null,null,null,null,null,null,null,1920,19,20,10,10,10,10,{"$f":"$C$11","v":7},9,5,null,null,1]

{"sheet":"CALCLENG","index":5,"n_rows":59,"n_cols":76,"rows_kept":59,"cut":false,"hidden":false,"merged":[[12,14,16,14],[12,15,16,30],[3,8,3,9],[3,10,3,11],[5,14,9,14],[5,15,9,30],[10,8,10,9],[10,10,10,11]]}
[null,null,null,null,5]
[null,null,"Interpret the value the calculator displays",null,null,null,null,null,null,null,null,null,null,null,null,null,null,null,null,null,null,null,null,null,null,null,{"$f":"IF(AK20=2,\"•\",IF(AK20=5,\"•\",IF(AK20=10,\"•\",\"*\")))","v":"*"},{"$f":"IF(BK20=2,\"•\",IF(BK20=5,\"•\",IF(BK20=10,\"•\",\"*  \")))","v":"*  "},null,null,null,null,null,null,null,{"$f":"AJ7","v":885},{"$f":"ABS(AJ2)","v":885},{"$f":"IF(AK2<100,1,0)","v":0},{"$f":"IF(AK2/100=ROUNDDOWN(AK2/100,0),1,0)","v":0},{"$f":"IF(AK2/10=ROUNDDOWN(AK2/10,0),1,0)","v":0},{"$f":"AL2+AM2*2+AN2*4","v":0},{"$f":"IF(AO2=0,CONCATENATE(,AK2/100-MOD(AK2/100,1),\" cm \",ROUND(100*MOD(AK2/100,1),6),\" mm\"),IF(AO2=1,CONCATENATE(ROUND(AK2,0),\" mm\"),IF(AO2=4,CONCATENATE(,AK2/100-MOD(AK2/100,1),\" cm \",ROUND(10*MOD(AK2/100,1),6),\"0 mm\"),IF(AO2=5,CONCATENATE(AK2,\" mm\"),IF(AO2=6,CONCATENATE(\"\",AK2/100,\" cm\"),\"0 cm\")))))","v":"8 cm 85 mm"}]
[null,null,"after the division in the context of length.",null,null,null,null,null,null,null,null,null,null,null,null,null,null,null,null,null,null,null,null,null,null,null,0,{"$f":"IF(AA3=0,\"\",R28)","v":""},{"$f":"IF(AA3=0,\" cm\",\"\")","v":" cm"},{"$f":"IF(AA3=0,\" mm\",T28)","v":" mm"},null,null,null,null,null,{"$f":"AJ14","v":433},{"$f":"ABS(AJ3)","v":433},{"$f":"IF(AK3<100,1,0)","v":0},{"$f":"IF(AK3/100=ROUNDDOWN(AK3/100,0),1,0)","v":0},{"$f":"IF(AK3/10=ROUNDDOWN(AK3/10,0),1,0)","v":0},{"$f":"AL3+AM3*2+AN3*4","v":0},{"$f":"IF(AO3=0,CONCATENATE(,AK3/100-MOD(AK3/100,1),\" m \",ROUND(100*MOD(AK3/100,1),6),\" cm\"),IF(AO3=1,CONCATENATE(ROUND(AK3,0),\" cm\"),IF(AO3=4,CONCATENATE(,AK3/100-MOD(AK3/100,1),\" m \",ROUND(10*MOD(AK3/100,1),6),\"0 cm\"),IF(AO3=5,CONCATENATE(AK3,\" cm\"),IF(AO3=6,CONCATENATE(\"\",AK3/100,\" m\"),\"0 m\")))))","v":"4 m 33 cm"}]
[null,null,{"$f":"INT(10*RAND())+0","v":8},{"$f":"1*RAND()","v":0.3547576703429538},{"$f":"IF(D4>0.5,\"ms\",\"hm\")","v":"hm"},{"$f":"RAND()","v":0.83576672734381763},{"$f":"IF(F4>0.5,20,12)","v":20},{"$f":"INT((G4-1)*RAND())+1","v":17},{"$f":"H4/G4","v":0.85},null,{"$f":"H4*100+G4","v":1720},null,60,{"$f":"M4*H4/G4","v":51},{"$f":"IF(C4>1,\"s\",\"\")","v":"s"},null,{"$f":"RAND()","v":0.4613955920604611},{"$f":"IF(Q4>0.5,\"What is \",\"Evaluate \")","v":"Evaluate "},{"$f":"IF(Q4>0.5,\"?\",\".\")","v":"."},null,null,null,null,null,{"$f":"AP11","v":2},{"$f":"AP18","v":7},{"$f":"IF(Y4=2,1,IF(Z4=2,1,0))","v":1}]
[null,null,{"$f":"CONCATENATE(R4,AB3,C4*AK20+AK19,AC3,\" divided by \",BX20,\" to the nearest\",AD3,S4)","v":"Evaluate 177 cm divided by twenty to the nearest mm."}]
[null,null,null,null,null,null,null,null,null,null,null,null,null,null,"=",{"$f":"IF(AM20=0,CONCATENATE(AO20,\" mm\"),CONCATENATE(AM20,\" cm \",AO20,\" mm\"))","v":"8 cm 9 mm"}]
[null,null,null,null,null,null,null,null,null,null,null,null,null,null,null,null,null,null,null,null,null,null,null,null,null,null,null,null,null,null,null,null,null,null,null,{"$f":"ROUND((C4+AK19/AK20)*100,0)","v":885},{"$f":"IF(AJ7<100,1,0)","v":0},{"$f":"IF(AJ7/100=ROUNDDOWN(AJ7/100,0),1,0)","v":0},{"$f":"IF(AJ7/10=ROUNDDOWN(AJ7/10,0),1,0)","v":0},{"$f":"AK7+AL7*2+AM7*4","v":0},{"$f":"IF(AN7=0,CONCATENATE($R$28,ROUND(AJ7/100,2)),IF(AN7=1,CONCATENATE(ROUND(AJ7,0),$S$28),IF(AN7=4,CONCATENATE($R$28,AJ7/100,\"0\"),IF(AN7=5,CONCATENATE(AJ7,$S$28),IF(AN7=6,CONCATENATE($R$28,AJ7/100),\"xxx\")))))","v":"R8.85"},{"$f":"AJ7/100","v":8.85},{"$f":"ROUND(AP7,0)","v":9},{"$f":"AQ7-AP7","v":0.15000000000000036},{"$f":"IF(AR7=0,0,1)","v":1}]
[null,null,null,null,null,null,null,null,null,null,null,null,null,null,null,null,null,null,null,null,null,null,null,null,null,null,null,null,null,null,null,null,null,null,null,{"$f":"(C4+AK19/AK20)*10-ROUNDDOWN((C4+AK19/AK20)*10,0)","v":0.5},{"$f":"100*AJ8","v":50}]
[null,null,null,{"$f":"VLOOKUP($K$4,$AG$23:$AW$59,4)","v":10},{"$f":"VLOOKUP($K$4,$AG$23:$AW$59,5)","v":10},null,{"$f":"VLOOKUP($K$4,$AG$23:$AW$59,6)","v":10},{"$f":"VLOOKUP($K$4,$AG$23:$AW$59,7)","v":10},null,{"$f":"VLOOKUP($K$4,$AG$23:$AW$59,8)","v":8},null,{"$f":"VLOOKUP($K$4,$AG$23:$AW$59,9)","v":8},{"$f":"VLOOKUP($K$4,$AG$23:$AW$59,10)","v":5}]
[null,null,null,{"$f":"VLOOKUP($K$4,$AG$23:$AW$59,11)","v":0},null,null,{"$f":"IF(D11>0.5,8,12)","v":8},12,{"$f":"VLOOKUP($K$4,$AG$23:$AW$59,12)","v":0},null,{"$f":"VLOOKUP($K$4,$AG$23:$AW$59,13)","v":1},{"$f":"VLOOKUP($K$4,$AG$23:$AW$59,14)","v":0},null,null,null,null,null,null,null,null,null,null,null,null,null,null,null,null,null,null,null,null,null,null,null,{"$f":"ROUND((C4+AK19/AK20),9)","v":8.85},{"$f":"MOD(AJ10,1)","v":0.84999999999999964},{"$f":"ROUND(1000*AK10,0)","v":850},{"$f":"(AL10-MOD(AL10,100))/100","v":8},{"$f":"(AL10-AM11-MOD(AL10-AM11,10))/10","v":5},{"$f":"ROUNDDOWN(AL10-AM11-AN11,0)","v":0},{"$f":"MOD(1000*AJ10,1)","v":0}]
[null,null,{"$f":"INT(10*RAND())+0","v":4},{"$f":"1*RAND()","v":0.69198761178609791},{"$f":"IF(D11>0.5,\"dh\",\"ym\")","v":"dh"},{"$f":"RAND()","v":0.41354345158261707},{"$f":"IF(F11>0.5,G10,H10)","v":12},{"$f":"INT((G11-1)*RAND())+1","v":4},{"$f":"H11/G11","v":0.33333333333333331},null,{"$f":"H11*100+G11","v":412},null,{"$f":"IF(D11>0.5,24,12)","v":24},{"$f":"M11*H11/G11","v":8},{"$f":"IF(C11>1,\"s\",\"\")","v":"s"},null,null,null,null,null,null,null,null,null,null,null,null,null,null,null,null,null,null,null,null,{"$f":"CONCATENATE(AJ10)","v":"8.85"},null,null,{"$f":"AM10*100","v":800},{"$f":"AN10*10","v":50},{"$f":"AO10","v":0},{"$f":"IF(AP10>0,7,IF(AO10>0,3,IF(AN10>0,2,1)))","v":2}]
[null,null,{"$f":"CONCATENATE(\"Split \",AB3,C11*BK20+BK19,\" cm into \",BX21,\" parts to the nearest mm\",\".\")","v":"Split 13 cm into three parts to the nearest mm."}]
[null,null,null,null,null,null,null,null,null,null,null,null,null,null,"=",{"$f":"IF(BM20=0,CONCATENATE(BO20,\" mm\"),CONCATENATE(BM20,\" cm \",BO20,\" mm\"))","v":"4 cm 3 mm"}]
[null,null,null,null,null,null,null,null,null,null,null,null,null,null,null,null,null,null,null,null,null,null,null,null,null,null,null,null,null,null,null,null,null,null,null,{"$f":"ROUND((C11+BK19/BK20)*100,0)","v":433},{"$f":"IF(AJ14<100,1,0)","v":0},{"$f":"IF(AJ14/100=ROUNDDOWN(AJ14/100,0),1,0)","v":0},{"$f":"IF(AJ14/10=ROUNDDOWN(AJ14/10,0),1,0)","v":0},{"$f":"AK14+AL14*2+AM14*4","v":0},{"$f":"IF(AN14=0,CONCATENATE($R$28,ROUND(AJ14/100,2)),IF(AN14=1,CONCATENATE(ROUND(AJ14,0),$S$28),IF(AN14=4,CONCATENATE($R$28,AJ14/100,\"0\"),IF(AN14=5,CONCATENATE(AJ14,$S$28),IF(AN14=6,CONCATENATE($R$28,AJ14/100),\"xxx\")))))","v":"R4.33"},{"$f":"AJ14/100","v":4.33},{"$f":"ROUND(AP14,0)","v":4},{"$f":"AQ14-AP14","v":-0.33000000000000007},{"$f":"IF(AR14=0,0,1)","v":1}]
[null,null,null,null,null,null,null,null,null,null,null,null,null,null,null,null,null,null,null,null,null,null,null,null,null,null,null,null,null,null,null,null,null,null,null,{"$f":"ROUND((C11+BK19/BK20)*100,0)","v":433},{"$f":"100*AJ15","v":43300}]
[null,null,null,{"$f":"VLOOKUP($K$11,$BG$23:$BW$59,4)","v":4},{"$f":"VLOOKUP($K$11,$BG$23:$BW$59,5)","v":3},null,{"$f":"VLOOKUP($K$11,$BG$23:$BW$59,6)","v":3},{"$f":"VLOOKUP($K$11,$BG$23:$BW$59,7)","v":3},null,{"$f":"VLOOKUP($K$11,$BG$23:$BW$59,8)","v":3},null,{"$f":"VLOOKUP($K$11,$BG$23:$BW$59,9)","v":3},{"$f":"VLOOKUP($K$11,$BG$23:$BW$59,10)","v":3}]
[null,null,null,{"$f":"VLOOKUP($K$11,$BG$23:$BW$59,11)","v":1},null,null,null,null,{"$f":"VLOOKUP($K$11,$BG$23:$BW$59,12)","v":0},null,{"$f":"VLOOKUP($K$11,$BG$23:$BW$59,13)","v":0},{"$f":"VLOOKUP($K$11,$BG$23:$BW$59,14)","v":0},null,null,null,null,null,null,null,null,null,null,null,null,null,null,null,null,null,null,null,null,null,null,null,{"$f":"ROUND((C11+BK19/BK20),9)","v":4.3333333329999997},{"$f":"MOD(AJ17,1)","v":0.33333333299999968},{"$f":"ROUND(1000*AK17,0)","v":333},{"$f":"(AL17-MOD(AL17,100))/100","v":3},{"$f":"(AL17-AM18-MOD(AL17-AM18,10))/10","v":3},{"$f":"ROUNDDOWN(AL17-AM18-AN18,0)","v":3},{"$f":"MOD(1000*AJ17,1)","v":0.33333299999958399}]
[null,null,null,null,null,null,null,null,null,null,null,null,null,null,null,null,null,null,null,null,null,null,null,null,null,null,null,null,null,null,null,null,null,null,null,{"$f":"CONCATENATE(AJ17)","v":"4.333333333"},null,null,{"$f":"AM17*100","v":300},{"$f":"AN17*10","v":30},{"$f":"AO17","v":3},{"$f":"IF(AP17>0,7,IF(AO17>0,3,IF(AN17>0,2,1)))","v":7}]
[null,null,null,null,null,null,null,null,null,null,null,null,null,null,null,null,null,null,null,null,null,null,null,null,null,null,null,null,null,null,null,null,null,null,{"$f":"H4","v":17},{"$f":"IF(AI19=0,1,AI19*AI20/(MAX(AI19:AI20)*LEFT(TEXT(MIN(AI19:AI20)/MAX(AI19:AI20),\"000000000000000/000000000000000\"),15)))","v":1},{"$f":"AI19/AJ19","v":17},null,null,null,null,null,null,null,null,null,null,null,null,null,null,null,null,null,null,null,null,null,null,null,{"$f":"H11","v":4},{"$f":"IF(BI19=0,1,BI19*BI20/(MAX(BI19:BI20)*LEFT(TEXT(MIN(BI19:BI20)/MAX(BI19:BI20),\"000000000000000/000000000000000\"),15)))","v":4},{"$f":"BI19/BJ19","v":1}]
[null,null,null,null,null,null,null,null,null,null,null,null,null,null,null,null,null,null,null,null,null,null,null,null,null,null,null,null,null,null,null,null,null,null,{"$f":"G4","v":20},{"$f":"MAX(AI19:AI20)*LEFT(TEXT(MIN(AI19:AI20)/MAX(AI19:AI20),\"000000000000000/000000000000000\"),15)","v":340},{"$f":"IF(AI19=0,\"\",IF(AI19=AI20,\"\",AI20/AJ19))","v":20},{"$f":"C4*AK20+AK19","v":177},{"$f":"ROUNDDOWN(AL20/AK20,0)","v":8},{"$f":"-AM20*AK20+AL20","v":17},{"$f":"ROUND(AN20*10/AK20,0)","v":9},null,null,null,null,null,null,null,null,null,null,null,null,null,null,null,null,null,null,null,{"$f":"G11","v":12},{"$f":"MAX(BI19:BI20)*LEFT(TEXT(MIN(BI19:BI20)/MAX(BI19:BI20),\"000000000000000/000000000000000\"),15)","v":12},{"$f":"IF(BI19=0,\"\",IF(BI19=BI20,\"\",BI20/BJ19))","v":3},{"$f":"C11*BK20+BK19","v":13},{"$f":"ROUNDDOWN(BL20/BK20,0)","v":4},{"$f":"-BM20*BK20+BL20","v":1},{"$f":"ROUND(BN20*10/BK20,0)","v":3},null,null,null,null,null,null,null,{"$f":"AK20","v":20},{"$f":"VLOOKUP(BW20,$BW$22:$BX$33,2)","v":"twenty"}]
[null,null,null,null,null,null,null,null,null,null,null,null,null,null,null,null,null,null,null,null,null,null,null,null,null,null,null,null,null,null,null,null,null,null,null,null,null,null,null,null,null,null,null,null,null,null,null,null,null,null,null,null,null,null,null,null,null,null,null,null,null,null,null,null,null,null,null,null,null,null,null,null,null,null,{"$f":"BK20","v":3},{"$f":"VLOOKUP(BW21,$BW$22:$BX$33,2)","v":"three"}]
[null,null,null,null,null,null,null,null,null,null,null,null,null,null,null,null,null,null,null,null,null,null,null,null,null,null,null,null,null,null,null,null,null,null,null,1,2,3,4,5,6,7,8,9,10,11,null,null,null,null,null,null,null,null,null,null,null,null,null,null,null,1,2,3,4,5,6,7,8,9,10,11,null,null,2,"two"]
[null,null,null,null,null,null,null,null,null,null,null,null,null,null,null,null,null,null,null,null,null,null,null,null,null,null,null,null,null,null,null,null,108,1,8,10,10,10,{"$f":"$C$4","v":8},1,2,5,null,1,null,null,null,null,null,null,null,null,null,null,null,null,null,null,108,1,8,10,10,10,{"$f":"$C$11","v":4},1,2,5,null,1,null,null,null,null,3,"three"]
[null,null,null,null,null,null,null,null,null,null,null,null,null,null,null,null,null,null,null,null,null,null,null,null,null,null,null,null,null,null,null,null,112,1,12,{"$f":"$C$4","v":8},0,8,3,3,3,3,1,null,null,null,null,null,null,null,null,null,null,null,null,null,null,null,112,1,12,{"$f":"$C$11","v":4},0,8,3,3,3,3,1,null,null,null,null,null,4,"four"]
[null,null,null,null,null,null,null,null,null,null,null,null,null,null,null,null,null,null,null,null,null,null,null,null,null,null,null,null,null,null,null,null,120,1,20,10,10,10,10,{"$f":"$C$4","v":8},0,5,null,null,1,null,null,null,null,null,null,null,null,null,null,null,null,null,120,1,20,10,10,10,10,{"$f":"$C$11","v":4},0,5,null,null,1,null,null,null,5,"five"]
[null,null,null,null,null,null,null,null,null,null,null,null,null,null,null,null,null,null,null,null,null,null,null,null,null,null,null,null,null,null,null,null,208,2,8,10,10,10,10,{"$f":"$C$4","v":8},2,5,null,null,1,null,null,null,null,null,null,null,null,null,null,null,null,null,208,2,8,10,10,10,10,{"$f":"$C$11","v":4},2,5,null,null,1,null,null,null,6,"six"]
[null,null,null,null,null,null,null,null,null,null,null,null,null,null,null,null,null,null,null,null,null,null,null,null,null,null,null,null,null,null,null,null,212,2,12,{"$f":"$C$4","v":8},1,6,6,6,6,7,1,null,null,null,null,null,null,null,null,null,null,null,null,null,null,null,212,2,12,{"$f":"$C$11","v":4},1,6,6,6,6,7,1,null,null,null,null,null,7,"seven"]
[null,null,null,null,null,null,null,null,null,null,null,null,null,null,null,null,{"$f":"E1","v":5},{"$f":"IF(Q28=1,\"£\",IF(Q28=2,\"$\",IF(Q28=3,\"€\",\"R\")))","v":"R"},{"$f":"IF(Q28=1,\"p\",\"c\")","v":"c"},{"$f":"IF(Q28=1,\" penny\",\" cent\")","v":" cent"},null,null,null,null,null,null,null,null,null,null,null,null,220,2,20,10,10,10,10,10,{"$f":"$C$4","v":8},1,null,null,null,1,null,null,null,null,null,null,null,null,null,null,null,null,220,2,20,10,10,10,10,10,{"$f":"$C$11","v":4},1,null,null,null,1,null,null,8,"eight"]
[null,null,null,null,null,null,null,null,null,null,null,null,null,null,null,null,null,null,null,null,null,null,null,null,null,null,null,null,null,null,null,null,308,3,8,10,10,10,{"$f":"$C$4","v":8},3,7,5,null,1,null,null,null,null,null,null,null,null,null,null,null,null,null,null,308,3,8,10,10,10,{"$f":"$C$11","v":4},3,7,5,null,1,null,null,null,null,9,"nine"]
[null,null,null,null,null,null,null,null,null,null,null,null,null,null,null,null,null,null,null,null,null,null,null,null,null,null,null,null,null,null,null,null,312,3,12,10,10,10,10,{"$f":"$C$4","v":8},2,5,null,null,1,null,null,null,null,null,null,null,null,null,null,null,null,null,312,3,12,10,10,10,10,{"$f":"$C$11","v":4},2,5,null,null,1,null,null,null,10,"ten"]
[null,null,null,null,null,null,null,null,null,null,null,null,null,null,null,null,null,null,null,null,null,null,null,null,null,null,null,null,null,null,null,null,320,3,20,10,10,10,10,{"$f":"$C$4","v":8},1,5,null,null,1,null,null,null,null,null,null,null,null,null,null,null,null,null,320,3,20,10,10,10,10,{"$f":"$C$11","v":4},1,5,null,null,1,null,null,null,11,"eleven"]
[null,null,null,null,null,null,null,null,null,null,null,null,null,null,null,null,null,null,null,null,null,null,null,null,null,null,null,null,null,null,null,null,408,4,8,10,10,10,10,10,{"$f":"$C$4","v":8},5,null,null,null,1,null,null,null,null,null,null,null,null,null,null,null,null,408,4,8,10,10,10,10,10,{"$f":"$C$11","v":4},5,null,null,null,1,null,null,12,"twelve"]
[null,null,null,null,null,null,null,null,null,null,null,null,null,null,null,null,null,null,null,null,null,null,null,null,null,null,null,null,null,null,null,null,412,4,12,{"$f":"$C$4","v":8},3,3,3,3,3,3,1,null,null,null,null,null,null,null,null,null,null,null,null,null,null,null,412,4,12,{"$f":"$C$11","v":4},3,3,3,3,3,3,1,null,null,null,null,null,20,"twenty"]
[null,null,null,null,null,null,null,null,null,null,null,null,null,null,null,null,null,null,null,null,null,null,null,null,null,null,null,null,null,null,null,null,420,4,20,10,10,10,10,10,{"$f":"$C$4","v":8},2,null,null,null,1,null,null,null,null,null,null,null,null,null,null,null,null,420,4,20,10,10,10,10,10,{"$f":"$C$11","v":4},2,null,null,null,1]
[null,null,null,null,null,null,null,null,null,null,null,null,null,null,null,null,null,null,null,null,null,null,null,null,null,null,null,null,null,null,null,null,508,5,8,10,10,10,{"$f":"$C$4","v":8},6,2,5,null,1,null,null,null,null,null,null,null,null,null,null,null,null,null,null,508,5,8,10,10,10,{"$f":"$C$11","v":4},6,2,5,null,1]
[null,null,null,null,null,null,null,null,null,null,null,null,null,null,null,null,null,null,null,null,null,null,null,null,null,null,null,null,null,null,null,null,512,5,12,{"$f":"$C$4","v":8},4,1,6,6,6,7,1,null,null,null,null,null,null,null,null,null,null,null,null,null,null,null,512,5,12,{"$f":"$C$11","v":4},4,1,6,6,6,7,1]
[null,null,null,null,null,null,null,null,null,null,null,null,null,null,null,null,null,null,null,null,null,null,null,null,null,null,null,null,null,null,null,null,520,5,20,10,10,10,10,{"$f":"$C$4","v":8},2,5,null,null,1,null,null,null,null,null,null,null,null,null,null,null,null,null,520,5,20,10,10,10,10,{"$f":"$C$11","v":4},2,5,null,null,1]
[null,null,null,null,null,null,null,null,null,null,null,null,null,null,null,null,null,null,null,null,null,null,null,null,null,null,null,null,null,null,null,null,608,6,8,10,10,10,10,{"$f":"$C$4","v":8},7,5,null,null,1,null,null,null,null,null,null,null,null,null,null,null,null,null,608,6,8,10,10,10,10,{"$f":"$C$11","v":4},7,5,null,null,1]
[null,null,null,null,null,null,null,null,null,null,null,null,null,null,null,null,null,null,null,null,null,null,null,null,null,null,null,null,null,null,null,null,612,6,12,10,10,10,10,10,{"$f":"$C$4","v":8},5,null,null,null,1,null,null,null,null,null,null,null,null,null,null,null,null,612,6,12,10,10,10,10,10,{"$f":"$C$11","v":4},5,null,null,null,1]
[null,null,null,null,null,null,null,null,null,null,null,null,null,null,null,null,null,null,null,null,null,null,null,null,null,null,null,null,null,null,null,null,620,6,20,10,10,10,10,10,{"$f":"$C$4","v":8},3,null,null,null,1,null,null,null,null,null,null,null,null,null,null,null,null,620,6,20,10,10,10,10,10,{"$f":"$C$11","v":4},3,null,null,null,1]
[null,null,null,null,null,null,null,null,null,null,null,null,null,null,null,null,null,null,null,null,null,null,null,null,null,null,null,null,null,null,null,null,708,7,8,10,10,10,{"$f":"$C$4","v":8},8,7,5,null,1,null,null,null,null,null,null,null,null,null,null,null,null,null,null,708,7,8,10,10,10,{"$f":"$C$11","v":4},8,7,5,null,1]
[null,null,null,null,null,null,null,null,null,null,null,null,null,null,null,null,null,null,null,null,null,null,null,null,null,null,null,null,null,null,null,null,712,7,12,{"$f":"$C$4","v":8},5,8,3,3,3,3,1,null,null,null,null,null,null,null,null,null,null,null,null,null,null,null,712,7,12,{"$f":"$C$11","v":4},5,8,3,3,3,3,1]
[null,null,null,null,null,null,null,null,null,null,null,null,null,null,null,null,null,null,null,null,null,null,null,null,null,null,null,null,null,null,null,null,720,7,20,10,10,10,10,{"$f":"$C$4","v":8},3,5,null,null,1,null,null,null,null,null,null,null,null,null,null,null,null,null,720,7,20,10,10,10,10,{"$f":"$C$11","v":4},3,5,null,null,1]
[null,null,null,null,null,null,null,null,null,null,null,null,null,null,null,null,null,null,null,null,null,null,null,null,null,null,null,null,null,null,null,null,812,8,12,{"$f":"$C$4","v":8},6,6,6,6,6,7,1,null,null,null,null,null,null,null,null,null,null,null,null,null,null,null,812,8,12,{"$f":"$C$11","v":4},6,6,6,6,6,7,1]
[null,null,null,null,null,null,null,null,null,null,null,null,null,null,null,null,null,null,null,null,null,null,null,null,null,null,null,null,null,null,null,null,820,8,20,10,10,10,10,10,{"$f":"$C$4","v":8},4,null,null,null,1,null,null,null,null,null,null,null,null,null,null,null,null,820,8,20,10,10,10,10,10,{"$f":"$C$11","v":4},4,null,null,null,1]
[null,null,null,null,null,null,null,null,null,null,null,null,null,null,null,null,null,null,null,null,null,null,null,null,null,null,null,null,null,null,null,null,912,9,12,10,10,10,10,{"$f":"$C$4","v":8},7,5,null,null,1,null,null,null,null,null,null,null,null,null,null,null,null,null,912,9,12,10,10,10,10,{"$f":"$C$11","v":4},7,5,null,null,1]
[null,null,null,null,null,null,null,null,null,null,null,null,null,null,null,null,null,null,null,null,null,null,null,null,null,null,null,null,null,null,null,null,920,9,20,10,10,10,10,{"$f":"$C$4","v":8},4,5,null,null,1,null,null,null,null,null,null,null,null,null,null,null,null,null,920,9,20,10,10,10,10,{"$f":"$C$11","v":4},4,5,null,null,1]
[null,null,null,null,null,null,null,null,null,null,null,null,null,null,null,null,null,null,null,null,null,null,null,null,null,null,null,null,null,null,null,null,1012,10,12,{"$f":"$C$4","v":8},8,3,3,3,3,3,1,null,null,null,null,null,null,null,null,null,null,null,null,null,null,null,1012,10,12,{"$f":"$C$11","v":4},8,3,3,3,3,3,1]
[null,null,null,null,null,null,null,null,null,null,null,null,null,null,null,null,null,null,null,null,null,null,null,null,null,null,null,null,null,null,null,null,1020,10,20,10,10,10,10,10,{"$f":"$C$4","v":8},5,null,null,null,1,null,null,null,null,null,null,null,null,null,null,null,null,1020,10,20,10,10,10,10,10,{"$f":"$C$11","v":4},5,null,null,null,1]
[null,null,null,null,null,null,null,null,null,null,null,null,null,null,null,null,null,null,null,null,null,null,null,null,null,null,null,null,null,null,null,null,1112,11,12,{"$f":"$C$4","v":8},9,1,6,6,6,7,1,null,null,null,null,null,null,null,null,null,null,null,null,null,null,null,1112,11,12,{"$f":"$C$11","v":4},9,1,6,6,6,7,1]
[null,null,null,null,null,null,null,null,null,null,null,null,null,null,null,null,null,null,null,null,null,null,null,null,null,null,null,null,null,null,null,null,1120,11,20,10,10,10,10,{"$f":"$C$4","v":8},5,5,null,null,1,null,null,null,null,null,null,null,null,null,null,null,null,null,1120,11,20,10,10,10,10,{"$f":"$C$11","v":4},5,5,null,null,1]
[null,null,null,null,null,null,null,null,null,null,null,null,null,null,null,null,null,null,null,null,null,null,null,null,null,null,null,null,null,null,null,null,1220,12,20,10,10,10,10,10,{"$f":"$C$4","v":8},6,null,null,null,1,null,null,null,null,null,null,null,null,null,null,null,null,1220,12,20,10,10,10,10,10,{"$f":"$C$11","v":4},6,null,null,null,1]
[null,null,null,null,null,null,null,null,null,null,null,null,null,null,null,null,null,null,null,null,null,null,null,null,null,null,null,null,null,null,null,null,1320,13,20,10,10,10,10,{"$f":"$C$4","v":8},6,5,null,null,1,null,null,null,null,null,null,null,null,null,null,null,null,null,1320,13,20,10,10,10,10,{"$f":"$C$11","v":4},6,5,null,null,1]
[null,null,null,null,null,null,null,null,null,null,null,null,null,null,null,null,null,null,null,null,null,null,null,null,null,null,null,null,null,null,null,null,1420,14,20,10,10,10,10,10,{"$f":"$C$4","v":8},7,null,null,null,1,null,null,null,null,null,null,null,null,null,null,null,null,1420,14,20,10,10,10,10,10,{"$f":"$C$11","v":4},7,null,null,null,1]
[null,null,null,null,null,null,null,null,null,null,null,null,null,null,null,null,null,null,null,null,null,null,null,null,null,null,null,null,null,null,null,null,1520,15,20,10,10,10,10,{"$f":"$C$4","v":8},7,5,null,null,1,null,null,null,null,null,null,null,null,null,null,null,null,null,1520,15,20,10,10,10,10,{"$f":"$C$11","v":4},7,5,null,null,1]
[null,null,null,null,null,null,null,null,null,null,null,null,null,null,null,null,null,null,null,null,null,null,null,null,null,null,null,null,null,null,null,null,1620,16,20,10,10,10,10,10,{"$f":"$C$4","v":8},8,null,null,null,1,null,null,null,null,null,null,null,null,null,null,null,null,1620,16,20,10,10,10,10,10,{"$f":"$C$11","v":4},8,null,null,null,1]
[null,null,null,null,null,null,null,null,null,null,null,null,null,null,null,null,null,null,null,null,null,null,null,null,null,null,null,null,null,null,null,null,1720,17,20,10,10,10,10,{"$f":"$C$4","v":8},8,5,null,null,1,null,null,null,null,null,null,null,null,null,null,null,null,null,1720,17,20,10,10,10,10,{"$f":"$C$11","v":4},8,5,null,null,1]
[null,null,null,null,null,null,null,null,null,null,null,null,null,null,null,null,null,null,null,null,null,null,null,null,null,null,null,null,null,null,null,null,1820,18,20,10,10,10,10,10,{"$f":"$C$4","v":8},9,null,null,null,1,null,null,null,null,null,null,null,null,null,null,null,null,1820,18,20,10,10,10,10,10,{"$f":"$C$11","v":4},9,null,null,null,1]
[null,null,null,null,null,null,null,null,null,null,null,null,null,null,null,null,null,null,null,null,null,null,null,null,null,null,null,null,null,null,null,null,1920,19,20,10,10,10,10,{"$f":"$C$4","v":8},9,5,null,null,1,null,null,null,null,null,null,null,null,null,null,null,null,null,1920,19,20,10,10,10,10,{"$f":"$C$11","v":4},9,5,null,null,1]

{"sheet":"CALCWEIG","index":6,"n_rows":59,"n_cols":76,"rows_kept":59,"cut":false,"hidden":false,"merged":[[12,14,16,14],[12,15,16,30],[3,8,3,9],[3,10,3,11],[5,14,9,14],[5,15,9,30],[10,8,10,9],[10,10,10,11]]}
[null,null,null,null,5]
[null,null,"Interpret the value the calculator displays",null,null,null,null,null,null,null,null,null,null,null,null,null,null,null,null,null,null,null,null,null,null,null,{"$f":"IF(AK20=8,\"•\",IF(AP11>2,\"*\",\"•\"))","v":"*"},{"$f":"IF(BK20=8,\"•\",IF(AP18>2,\"*  \",\"•\"))","v":"•"},null,null,null,null,null,null,null,{"$f":"AJ7","v":2583},{"$f":"ABS(AJ2)","v":2583},{"$f":"IF(AK2<1000,1,0)","v":0},{"$f":"IF(AK2/1000=ROUNDDOWN(AK2/1000,0),1,0)","v":0},{"$f":"IF(AK2/10=ROUNDDOWN(AK2/10,0),1,0)","v":0},{"$f":"AL2+AM2*2+AN2*4","v":0},{"$f":"IF(AO2=0,CONCATENATE(,AK2/1000-MOD(AK2/1000,1),\" kg \",ROUND(1000*MOD(AK2/1000,1),6),\" g\"),IF(AO2=1,CONCATENATE(ROUND(AK2,0),\" g\"),IF(AO2=4,CONCATENATE(,AK2/1000-MOD(AK2/1000,1),\" kg \",ROUND(100*MOD(AK2/1000,1),6),\"0 g\"),IF(AO2=5,CONCATENATE(AK2,\" g\"),IF(AO2=6,CONCATENATE(\"\",AK2/1000,\" kg\"),\"0 kg\")))))","v":"2 kg 583 g"}]
[null,null,"after the division in the context of weight.",null,null,null,null,null,null,null,null,null,null,null,null,null,null,null,null,null,null,null,null,null,null,null,0,{"$f":"IF(AA3=0,\"\",R28)","v":""},{"$f":"IF(AA3=0,\" kg\",\"\")","v":" kg"},{"$f":"IF(AA3=0,\" g\",T28)","v":" g"},null,null,null,null,null,{"$f":"AJ14","v":2750},{"$f":"ABS(AJ3)","v":2750},{"$f":"IF(AK3<1000,1,0)","v":0},{"$f":"IF(AK3/1000=ROUNDDOWN(AK3/1000,0),1,0)","v":0},{"$f":"IF(AK3/10=ROUNDDOWN(AK3/10,0),1,0)","v":1},{"$f":"AL3+AM3*2+AN3*4","v":4},{"$f":"IF(AO3=0,CONCATENATE(,AK3/1000-MOD(AK3/1000,1),\" kg \",ROUND(1000*MOD(AK3/1000,1),6),\" g\"),IF(AO3=1,CONCATENATE(ROUND(AK3,0),\" g\"),IF(AO3=4,CONCATENATE(,AK3/1000-MOD(AK3/1000,1),\" kg \",ROUND(100*MOD(AK3/1000,1),6),\"0 g\"),IF(AO3=5,CONCATENATE(AK3,\" g\"),IF(AO3=6,CONCATENATE(\"\",AK3/1000,\" kg\"),\"0 kg\")))))","v":"2 kg 750 g"}]
[null,null,{"$f":"INT(10*RAND())+0","v":2},{"$f":"1*RAND()","v":0.50439903234454131},{"$f":"IF(D4>0.5,\"ms\",\"hm\")","v":"ms"},{"$f":"RAND()","v":0.19401807746491073},{"$f":"IF(F4>0.5,20,12)","v":12},{"$f":"INT((G4-1)*RAND())+1","v":7},{"$f":"H4/G4","v":0.58333333333333337},null,{"$f":"H4*100+G4","v":712},null,60,{"$f":"M4*H4/G4","v":35},{"$f":"IF(C4>1,\"s\",\"\")","v":"s"},null,{"$f":"RAND()","v":0.36952086023719954},{"$f":"IF(Q4>0.5,\"What is \",\"Evaluate \")","v":"Evaluate "},{"$f":"IF(Q4>0.5,\"?\",\".\")","v":"."},null,null,null,null,null,{"$f":"AP11","v":7},{"$f":"AP18","v":2},{"$f":"IF(Y4=2,1,IF(Z4=2,1,0))","v":1}]
[null,null,{"$f":"CONCATENATE(R4,AB3,C4*AK20+AK19,AC3,\" divided by \",BX20,\" to the nearest\",AD3,S4)","v":"Evaluate 31 kg divided by twelve to the nearest g."}]
[null,null,null,null,null,null,null,null,null,null,null,null,null,null,"=",{"$f":"IF(AA3=1,AO7,AP2)","v":"2 kg 583 g"}]
[null,null,null,null,null,null,null,null,null,null,null,null,null,null,null,null,null,null,null,null,null,null,null,null,null,null,null,null,null,null,null,null,null,null,null,{"$f":"ROUND((C4+AK19/AK20)*1000,0)","v":2583},{"$f":"IF(AJ7<100,1,0)","v":0},{"$f":"IF(AJ7/100=ROUNDDOWN(AJ7/100,0),1,0)","v":0},{"$f":"IF(AJ7/10=ROUNDDOWN(AJ7/10,0),1,0)","v":0},{"$f":"AK7+AL7*2+AM7*4","v":0},{"$f":"IF(AN7=0,CONCATENATE($R$28,ROUND(AJ7/100,2)),IF(AN7=1,CONCATENATE(ROUND(AJ7,0),$S$28),IF(AN7=4,CONCATENATE($R$28,AJ7/100,\"0\"),IF(AN7=5,CONCATENATE(AJ7,$S$28),IF(AN7=6,CONCATENATE($R$28,AJ7/100),\"xxx\")))))","v":"R25.83"},{"$f":"AJ7/100","v":25.83},{"$f":"ROUND(AP7,0)","v":26},{"$f":"AQ7-AP7","v":0.17000000000000171},{"$f":"IF(AR7=0,0,1)","v":1}]
[null,null,null,null,null,null,null,null,null,null,null,null,null,null,null,null,null,null,null,null,null,null,null,null,null,null,null,null,null,null,null,null,null,null,null,{"$f":"(C4+AK19/AK20)*10-ROUNDDOWN((C4+AK19/AK20)*10,0)","v":0.8333333333333357},{"$f":"100*AJ8","v":83.33333333333357}]
[null,null,null,{"$f":"VLOOKUP($K$4,$AG$23:$AW$59,4)","v":2},{"$f":"VLOOKUP($K$4,$AG$23:$AW$59,5)","v":5},null,{"$f":"VLOOKUP($K$4,$AG$23:$AW$59,6)","v":8},{"$f":"VLOOKUP($K$4,$AG$23:$AW$59,7)","v":3},null,{"$f":"VLOOKUP($K$4,$AG$23:$AW$59,8)","v":3},null,{"$f":"VLOOKUP($K$4,$AG$23:$AW$59,9)","v":3},{"$f":"VLOOKUP($K$4,$AG$23:$AW$59,10)","v":3}]
[null,null,null,{"$f":"VLOOKUP($K$4,$AG$23:$AW$59,11)","v":1},null,null,{"$f":"IF(D11>0.5,8,12)","v":8},12,{"$f":"VLOOKUP($K$4,$AG$23:$AW$59,12)","v":0},null,{"$f":"VLOOKUP($K$4,$AG$23:$AW$59,13)","v":0},{"$f":"VLOOKUP($K$4,$AG$23:$AW$59,14)","v":0},null,null,null,null,null,null,null,null,null,null,null,null,null,null,null,null,null,null,null,null,null,null,null,{"$f":"ROUND((C4+AK19/AK20),9)","v":2.5833333330000001},{"$f":"MOD(AJ10,1)","v":0.58333333300000012},{"$f":"ROUND(1000*AK10,0)","v":583},{"$f":"(AL10-MOD(AL10,100))/100","v":5},{"$f":"(AL10-AM11-MOD(AL10-AM11,10))/10","v":8},{"$f":"ROUNDDOWN(AL10-AM11-AN11,0)","v":3},{"$f":"MOD(1000*AJ10,1)","v":0.33333300000003874}]
[null,null,{"$f":"INT(10*RAND())+0","v":2},{"$f":"1*RAND()","v":0.88199610525710681},{"$f":"IF(D11>0.5,\"dh\",\"ym\")","v":"dh"},{"$f":"RAND()","v":0.87673047259165582},{"$f":"IF(F11>0.5,G10,H10)","v":8},{"$f":"INT((G11-1)*RAND())+1","v":6},{"$f":"H11/G11","v":0.75},null,{"$f":"H11*100+G11","v":608},null,{"$f":"IF(D11>0.5,24,12)","v":24},{"$f":"M11*H11/G11","v":18},{"$f":"IF(C11>1,\"s\",\"\")","v":"s"},null,null,null,null,null,null,null,null,null,null,null,null,null,null,null,null,null,null,null,null,{"$f":"CONCATENATE(AJ10)","v":"2.583333333"},null,null,{"$f":"AM10*100","v":500},{"$f":"AN10*10","v":80},{"$f":"AO10","v":3},{"$f":"IF(AP10>0,7,IF(AO10>0,3,IF(AN10>0,2,1)))","v":7}]
[null,null,{"$f":"CONCATENATE(\"Split \",AB3,C11*BK20+BK19,\" kilograms into \",BX21,\" parts to the nearest\",AD3,\".\")","v":"Split 11 kilograms into four parts to the nearest g."}]
[null,null,null,null,null,null,null,null,null,null,null,null,null,null,"=",{"$f":"IF(AA3=1,AO14,AP3)","v":"2 kg 750 g"}]
[null,null,null,null,null,null,null,null,null,null,null,null,null,null,null,null,null,null,null,null,null,null,null,null,null,null,null,null,null,null,null,null,null,null,null,{"$f":"ROUND((C11+BK19/BK20)*1000,0)","v":2750},{"$f":"IF(AJ14<100,1,0)","v":0},{"$f":"IF(AJ14/100=ROUNDDOWN(AJ14/100,0),1,0)","v":0},{"$f":"IF(AJ14/10=ROUNDDOWN(AJ14/10,0),1,0)","v":1},{"$f":"AK14+AL14*2+AM14*4","v":4},{"$f":"IF(AN14=0,CONCATENATE($R$28,ROUND(AJ14/100,2)),IF(AN14=1,CONCATENATE(ROUND(AJ14,0),$S$28),IF(AN14=4,CONCATENATE($R$28,AJ14/100,\"0\"),IF(AN14=5,CONCATENATE(AJ14,$S$28),IF(AN14=6,CONCATENATE($R$28,AJ14/100),\"xxx\")))))","v":"R27.50"},{"$f":"AJ14/100","v":27.5},{"$f":"ROUND(AP14,0)","v":28},{"$f":"AQ14-AP14","v":0.5},{"$f":"IF(AR14=0,0,1)","v":1}]
[null,null,null,null,null,null,null,null,null,null,null,null,null,null,null,null,null,null,null,null,null,null,null,null,null,null,null,null,null,null,null,null,null,null,null,{"$f":"ROUND((C11+BK19/BK20)*10,0)","v":28},{"$f":"100*AJ15","v":2800}]
[null,null,null,{"$f":"VLOOKUP($K$11,$BG$23:$BW$59,4)","v":10},{"$f":"VLOOKUP($K$11,$BG$23:$BW$59,5)","v":10},null,{"$f":"VLOOKUP($K$11,$BG$23:$BW$59,6)","v":10},{"$f":"VLOOKUP($K$11,$BG$23:$BW$59,7)","v":10},null,{"$f":"VLOOKUP($K$11,$BG$23:$BW$59,8)","v":2},null,{"$f":"VLOOKUP($K$11,$BG$23:$BW$59,9)","v":7},{"$f":"VLOOKUP($K$11,$BG$23:$BW$59,10)","v":5}]
[null,null,null,{"$f":"VLOOKUP($K$11,$BG$23:$BW$59,11)","v":0},null,null,null,null,{"$f":"VLOOKUP($K$11,$BG$23:$BW$59,12)","v":0},null,{"$f":"VLOOKUP($K$11,$BG$23:$BW$59,13)","v":1},{"$f":"VLOOKUP($K$11,$BG$23:$BW$59,14)","v":0},null,null,null,null,null,null,null,null,null,null,null,null,null,null,null,null,null,null,null,null,null,null,null,{"$f":"ROUND((C11+BK19/BK20),9)","v":2.75},{"$f":"MOD(AJ17,1)","v":0.75},{"$f":"ROUND(1000*AK17,0)","v":750},{"$f":"(AL17-MOD(AL17,100))/100","v":7},{"$f":"(AL17-AM18-MOD(AL17-AM18,10))/10","v":5},{"$f":"ROUNDDOWN(AL17-AM18-AN18,0)","v":0},{"$f":"MOD(1000*AJ17,1)","v":0}]
[null,null,null,null,null,null,null,null,null,null,null,null,null,null,null,null,null,null,null,null,null,null,null,null,null,null,null,null,null,null,null,null,null,null,null,{"$f":"CONCATENATE(AJ17)","v":"2.75"},null,null,{"$f":"AM17*100","v":700},{"$f":"AN17*10","v":50},{"$f":"AO17","v":0},{"$f":"IF(AP17>0,7,IF(AO17>0,3,IF(AN17>0,2,1)))","v":2}]
[null,null,null,null,null,null,null,null,null,null,null,null,null,null,null,null,null,null,null,null,null,null,null,null,null,null,null,null,null,null,null,null,null,null,{"$f":"H4","v":7},{"$f":"IF(AI19=0,1,AI19*AI20/(MAX(AI19:AI20)*LEFT(TEXT(MIN(AI19:AI20)/MAX(AI19:AI20),\"000000000000000/000000000000000\"),15)))","v":1},{"$f":"AI19/AJ19","v":7},null,null,null,null,null,null,null,null,null,null,null,null,null,null,null,null,null,null,null,null,null,null,null,{"$f":"H11","v":6},{"$f":"IF(BI19=0,1,BI19*BI20/(MAX(BI19:BI20)*LEFT(TEXT(MIN(BI19:BI20)/MAX(BI19:BI20),\"000000000000000/000000000000000\"),15)))","v":2},{"$f":"BI19/BJ19","v":3}]
[null,null,null,null,null,null,null,null,null,null,null,null,null,null,null,null,null,null,null,null,null,null,null,null,null,null,null,null,null,null,null,null,null,null,{"$f":"G4","v":12},{"$f":"MAX(AI19:AI20)*LEFT(TEXT(MIN(AI19:AI20)/MAX(AI19:AI20),\"000000000000000/000000000000000\"),15)","v":84},{"$f":"IF(AI19=0,\"\",IF(AI19=AI20,\"\",AI20/AJ19))","v":12},null,null,null,null,null,null,null,null,null,null,null,null,null,null,null,null,null,null,null,null,null,null,null,{"$f":"G11","v":8},{"$f":"MAX(BI19:BI20)*LEFT(TEXT(MIN(BI19:BI20)/MAX(BI19:BI20),\"000000000000000/000000000000000\"),15)","v":24},{"$f":"IF(BI19=0,\"\",IF(BI19=BI20,\"\",BI20/BJ19))","v":4},null,null,null,null,null,null,null,null,null,null,null,{"$f":"AK20","v":12},{"$f":"VLOOKUP(BW20,$BW$22:$BX$33,2)","v":"twelve"}]
[null,null,null,null,null,null,null,null,null,null,null,null,null,null,null,null,null,null,null,null,null,null,null,null,null,null,null,null,null,null,null,null,null,null,null,null,null,null,null,null,null,null,null,null,null,null,null,null,null,null,null,null,null,null,null,null,null,null,null,null,null,null,null,null,null,null,null,null,null,null,null,null,null,null,{"$f":"BK20","v":4},{"$f":"VLOOKUP(BW21,$BW$22:$BX$33,2)","v":"four"}]
[null,null,null,null,null,null,null,null,null,null,null,null,null,null,null,null,null,null,null,null,null,null,null,null,null,null,null,null,null,null,null,null,null,null,null,1,2,3,4,5,6,7,8,9,10,11,null,null,null,null,null,null,null,null,null,null,null,null,null,null,null,1,2,3,4,5,6,7,8,9,10,11,null,null,2,"two"]
[null,null,null,null,null,null,null,null,null,null,null,null,null,null,null,null,null,null,null,null,null,null,null,null,null,null,null,null,null,null,null,null,108,1,8,10,10,10,{"$f":"$C$4","v":2},1,2,5,null,1,null,null,null,null,null,null,null,null,null,null,null,null,null,null,108,1,8,10,10,10,{"$f":"$C$11","v":2},1,2,5,null,1,null,null,null,null,3,"three"]
[null,null,null,null,null,null,null,null,null,null,null,null,null,null,null,null,null,null,null,null,null,null,null,null,null,null,null,null,null,null,null,null,112,1,12,{"$f":"$C$4","v":2},0,8,3,3,3,3,1,null,null,null,null,null,null,null,null,null,null,null,null,null,null,null,112,1,12,{"$f":"$C$11","v":2},0,8,3,3,3,3,1,null,null,null,null,null,4,"four"]
[null,null,null,null,null,null,null,null,null,null,null,null,null,null,null,null,null,null,null,null,null,null,null,null,null,null,null,null,null,null,null,null,120,1,20,10,10,10,10,{"$f":"$C$4","v":2},0,5,null,null,1,null,null,null,null,null,null,null,null,null,null,null,null,null,120,1,20,10,10,10,10,{"$f":"$C$11","v":2},0,5,null,null,1,null,null,null,5,"five"]
[null,null,null,null,null,null,null,null,null,null,null,null,null,null,null,null,null,null,null,null,null,null,null,null,null,null,null,null,null,null,null,null,208,2,8,10,10,10,10,{"$f":"$C$4","v":2},2,5,null,null,1,null,null,null,null,null,null,null,null,null,null,null,null,null,208,2,8,10,10,10,10,{"$f":"$C$11","v":2},2,5,null,null,1,null,null,null,6,"six"]
[null,null,null,null,null,null,null,null,null,null,null,null,null,null,null,null,null,null,null,null,null,null,null,null,null,null,null,null,null,null,null,null,212,2,12,{"$f":"$C$4","v":2},1,6,6,6,6,7,1,null,null,null,null,null,null,null,null,null,null,null,null,null,null,null,212,2,12,{"$f":"$C$11","v":2},1,6,6,6,6,7,1,null,null,null,null,null,7,"seven"]
[null,null,null,null,null,null,null,null,null,null,null,null,null,null,null,null,{"$f":"E1","v":5},{"$f":"IF(Q28=1,\"£\",IF(Q28=2,\"$\",IF(Q28=3,\"€\",\"R\")))","v":"R"},{"$f":"IF(Q28=1,\"p\",\"c\")","v":"c"},{"$f":"IF(Q28=1,\" penny\",\" cent\")","v":" cent"},null,null,null,null,null,null,null,null,null,null,null,null,220,2,20,10,10,10,10,10,{"$f":"$C$4","v":2},1,null,null,null,1,null,null,null,null,null,null,null,null,null,null,null,null,220,2,20,10,10,10,10,10,{"$f":"$C$11","v":2},1,null,null,null,1,null,null,8,"eight"]
[null,null,null,null,null,null,null,null,null,null,null,null,null,null,null,null,null,null,null,null,null,null,null,null,null,null,null,null,null,null,null,null,308,3,8,10,10,10,{"$f":"$C$4","v":2},3,7,5,null,1,null,null,null,null,null,null,null,null,null,null,null,null,null,null,308,3,8,10,10,10,{"$f":"$C$11","v":2},3,7,5,null,1,null,null,null,null,9,"nine"]
[null,null,null,null,null,null,null,null,null,null,null,null,null,null,null,null,null,null,null,null,null,null,null,null,null,null,null,null,null,null,null,null,312,3,12,10,10,10,10,{"$f":"$C$4","v":2},2,5,null,null,1,null,null,null,null,null,null,null,null,null,null,null,null,null,312,3,12,10,10,10,10,{"$f":"$C$11","v":2},2,5,null,null,1,null,null,null,10,"ten"]
[null,null,null,null,null,null,null,null,null,null,null,null,null,null,null,null,null,null,null,null,null,null,null,null,null,null,null,null,null,null,null,null,320,3,20,10,10,10,10,{"$f":"$C$4","v":2},1,5,null,null,1,null,null,null,null,null,null,null,null,null,null,null,null,null,320,3,20,10,10,10,10,{"$f":"$C$11","v":2},1,5,null,null,1,null,null,null,11,"eleven"]
[null,null,null,null,null,null,null,null,null,null,null,null,null,null,null,null,null,null,null,null,null,null,null,null,null,null,null,null,null,null,null,null,408,4,8,10,10,10,10,10,{"$f":"$C$4","v":2},5,null,null,null,1,null,null,null,null,null,null,null,null,null,null,null,null,408,4,8,10,10,10,10,10,{"$f":"$C$11","v":2},5,null,null,null,1,null,null,12,"twelve"]
[null,null,null,null,null,null,null,null,null,null,null,null,null,null,null,null,null,null,null,null,null,null,null,null,null,null,null,null,null,null,null,null,412,4,12,{"$f":"$C$4","v":2},3,3,3,3,3,3,1,null,null,null,null,null,null,null,null,null,null,null,null,null,null,null,412,4,12,{"$f":"$C$11","v":2},3,3,3,3,3,3,1,null,null,null,null,null,20,"twenty"]
[null,null,null,null,null,null,null,null,null,null,null,null,null,null,null,null,null,null,null,null,null,null,null,null,null,null,null,null,null,null,null,null,420,4,20,10,10,10,10,10,{"$f":"$C$4","v":2},2,null,null,null,1,null,null,null,null,null,null,null,null,null,null,null,null,420,4,20,10,10,10,10,10,{"$f":"$C$11","v":2},2,null,null,null,1]
[null,null,null,null,null,null,null,null,null,null,null,null,null,null,null,null,null,null,null,null,null,null,null,null,null,null,null,null,null,null,null,null,508,5,8,10,10,10,{"$f":"$C$4","v":2},6,2,5,null,1,null,null,null,null,null,null,null,null,null,null,null,null,null,null,508,5,8,10,10,10,{"$f":"$C$11","v":2},6,2,5,null,1]
[null,null,null,null,null,null,null,null,null,null,null,null,null,null,null,null,null,null,null,null,null,null,null,null,null,null,null,null,null,null,null,null,512,5,12,{"$f":"$C$4","v":2},4,1,6,6,6,7,1,null,null,null,null,null,null,null,null,null,null,null,null,null,null,null,512,5,12,{"$f":"$C$11","v":2},4,1,6,6,6,7,1]
[null,null,null,null,null,null,null,null,null,null,null,null,null,null,null,null,null,null,null,null,null,null,null,null,null,null,null,null,null,null,null,null,520,5,20,10,10,10,10,{"$f":"$C$4","v":2},2,5,null,null,1,null,null,null,null,null,null,null,null,null,null,null,null,null,520,5,20,10,10,10,10,{"$f":"$C$11","v":2},2,5,null,null,1]
[null,null,null,null,null,null,null,null,null,null,null,null,null,null,null,null,null,null,null,null,null,null,null,null,null,null,null,null,null,null,null,null,608,6,8,10,10,10,10,{"$f":"$C$4","v":2},7,5,null,null,1,null,null,null,null,null,null,null,null,null,null,null,null,null,608,6,8,10,10,10,10,{"$f":"$C$11","v":2},7,5,null,null,1]
[null,null,null,null,null,null,null,null,null,null,null,null,null,null,null,null,null,null,null,null,null,null,null,null,null,null,null,null,null,null,null,null,612,6,12,10,10,10,10,10,{"$f":"$C$4","v":2},5,null,null,null,1,null,null,null,null,null,null,null,null,null,null,null,null,612,6,12,10,10,10,10,10,{"$f":"$C$11","v":2},5,null,null,null,1]
[null,null,null,null,null,null,null,null,null,null,null,null,null,null,null,null,null,null,null,null,null,null,null,null,null,null,null,null,null,null,null,null,620,6,20,10,10,10,10,10,{"$f":"$C$4","v":2},3,null,null,null,1,null,null,null,null,null,null,null,null,null,null,null,null,620,6,20,10,10,10,10,10,{"$f":"$C$11","v":2},3,null,null,null,1]
[null,null,null,null,null,null,null,null,null,null,null,null,null,null,null,null,null,null,null,null,null,null,null,null,null,null,null,null,null,null,null,null,708,7,8,10,10,10,{"$f":"$C$4","v":2},8,7,5,null,1,null,null,null,null,null,null,null,null,null,null,null,null,null,null,708,7,8,10,10,10,{"$f":"$C$11","v":2},8,7,5,null,1]
[null,null,null,null,null,null,null,null,null,null,null,null,null,null,null,null,null,null,null,null,null,null,null,null,null,null,null,null,null,null,null,null,712,7,12,{"$f":"$C$4","v":2},5,8,3,3,3,3,1,null,null,null,null,null,null,null,null,null,null,null,null,null,null,null,712,7,12,{"$f":"$C$11","v":2},5,8,3,3,3,3,1]
[null,null,null,null,null,null,null,null,null,null,null,null,null,null,null,null,null,null,null,null,null,null,null,null,null,null,null,null,null,null,null,null,720,7,20,10,10,10,10,{"$f":"$C$4","v":2},3,5,null,null,1,null,null,null,null,null,null,null,null,null,null,null,null,null,720,7,20,10,10,10,10,{"$f":"$C$11","v":2},3,5,null,null,1]
[null,null,null,null,null,null,null,null,null,null,null,null,null,null,null,null,null,null,null,null,null,null,null,null,null,null,null,null,null,null,null,null,812,8,12,{"$f":"$C$4","v":2},6,6,6,6,6,7,1,null,null,null,null,null,null,null,null,null,null,null,null,null,null,null,812,8,12,{"$f":"$C$11","v":2},6,6,6,6,6,7,1]
[null,null,null,null,null,null,null,null,null,null,null,null,null,null,null,null,null,null,null,null,null,null,null,null,null,null,null,null,null,null,null,null,820,8,20,10,10,10,10,10,{"$f":"$C$4","v":2},4,null,null,null,1,null,null,null,null,null,null,null,null,null,null,null,null,820,8,20,10,10,10,10,10,{"$f":"$C$11","v":2},4,null,null,null,1]
[null,null,null,null,null,null,null,null,null,null,null,null,null,null,null,null,null,null,null,null,null,null,null,null,null,null,null,null,null,null,null,null,912,9,12,10,10,10,10,{"$f":"$C$4","v":2},7,5,null,null,1,null,null,null,null,null,null,null,null,null,null,null,null,null,912,9,12,10,10,10,10,{"$f":"$C$11","v":2},7,5,null,null,1]
[null,null,null,null,null,null,null,null,null,null,null,null,null,null,null,null,null,null,null,null,null,null,null,null,null,null,null,null,null,null,null,null,920,9,20,10,10,10,10,{"$f":"$C$4","v":2},4,5,null,null,1,null,null,null,null,null,null,null,null,null,null,null,null,null,920,9,20,10,10,10,10,{"$f":"$C$11","v":2},4,5,null,null,1]
[null,null,null,null,null,null,null,null,null,null,null,null,null,null,null,null,null,null,null,null,null,null,null,null,null,null,null,null,null,null,null,null,1012,10,12,{"$f":"$C$4","v":2},8,3,3,3,3,3,1,null,null,null,null,null,null,null,null,null,null,null,null,null,null,null,1012,10,12,{"$f":"$C$11","v":2},8,3,3,3,3,3,1]
[null,null,null,null,null,null,null,null,null,null,null,null,null,null,null,null,null,null,null,null,null,null,null,null,null,null,null,null,null,null,null,null,1020,10,20,10,10,10,10,10,{"$f":"$C$4","v":2},5,null,null,null,1,null,null,null,null,null,null,null,null,null,null,null,null,1020,10,20,10,10,10,10,10,{"$f":"$C$11","v":2},5,null,null,null,1]
[null,null,null,null,null,null,null,null,null,null,null,null,null,null,null,null,null,null,null,null,null,null,null,null,null,null,null,null,null,null,null,null,1112,11,12,{"$f":"$C$4","v":2},9,1,6,6,6,7,1,null,null,null,null,null,null,null,null,null,null,null,null,null,null,null,1112,11,12,{"$f":"$C$11","v":2},9,1,6,6,6,7,1]
[null,null,null,null,null,null,null,null,null,null,null,null,null,null,null,null,null,null,null,null,null,null,null,null,null,null,null,null,null,null,null,null,1120,11,20,10,10,10,10,{"$f":"$C$4","v":2},5,5,null,null,1,null,null,null,null,null,null,null,null,null,null,null,null,null,1120,11,20,10,10,10,10,{"$f":"$C$11","v":2},5,5,null,null,1]
[null,null,null,null,null,null,null,null,null,null,null,null,null,null,null,null,null,null,null,null,null,null,null,null,null,null,null,null,null,null,null,null,1220,12,20,10,10,10,10,10,{"$f":"$C$4","v":2},6,null,null,null,1,null,null,null,null,null,null,null,null,null,null,null,null,1220,12,20,10,10,10,10,10,{"$f":"$C$11","v":2},6,null,null,null,1]
[null,null,null,null,null,null,null,null,null,null,null,null,null,null,null,null,null,null,null,null,null,null,null,null,null,null,null,null,null,null,null,null,1320,13,20,10,10,10,10,{"$f":"$C$4","v":2},6,5,null,null,1,null,null,null,null,null,null,null,null,null,null,null,null,null,1320,13,20,10,10,10,10,{"$f":"$C$11","v":2},6,5,null,null,1]
[null,null,null,null,null,null,null,null,null,null,null,null,null,null,null,null,null,null,null,null,null,null,null,null,null,null,null,null,null,null,null,null,1420,14,20,10,10,10,10,10,{"$f":"$C$4","v":2},7,null,null,null,1,null,null,null,null,null,null,null,null,null,null,null,null,1420,14,20,10,10,10,10,10,{"$f":"$C$11","v":2},7,null,null,null,1]
[null,null,null,null,null,null,null,null,null,null,null,null,null,null,null,null,null,null,null,null,null,null,null,null,null,null,null,null,null,null,null,null,1520,15,20,10,10,10,10,{"$f":"$C$4","v":2},7,5,null,null,1,null,null,null,null,null,null,null,null,null,null,null,null,null,1520,15,20,10,10,10,10,{"$f":"$C$11","v":2},7,5,null,null,1]
[null,null,null,null,null,null,null,null,null,null,null,null,null,null,null,null,null,null,null,null,null,null,null,null,null,null,null,null,null,null,null,null,1620,16,20,10,10,10,10,10,{"$f":"$C$4","v":2},8,null,null,null,1,null,null,null,null,null,null,null,null,null,null,null,null,1620,16,20,10,10,10,10,10,{"$f":"$C$11","v":2},8,null,null,null,1]
[null,null,null,null,null,null,null,null,null,null,null,null,null,null,null,null,null,null,null,null,null,null,null,null,null,null,null,null,null,null,null,null,1720,17,20,10,10,10,10,{"$f":"$C$4","v":2},8,5,null,null,1,null,null,null,null,null,null,null,null,null,null,null,null,null,1720,17,20,10,10,10,10,{"$f":"$C$11","v":2},8,5,null,null,1]
[null,null,null,null,null,null,null,null,null,null,null,null,null,null,null,null,null,null,null,null,null,null,null,null,null,null,null,null,null,null,null,null,1820,18,20,10,10,10,10,10,{"$f":"$C$4","v":2},9,null,null,null,1,null,null,null,null,null,null,null,null,null,null,null,null,1820,18,20,10,10,10,10,10,{"$f":"$C$11","v":2},9,null,null,null,1]
[null,null,null,null,null,null,null,null,null,null,null,null,null,null,null,null,null,null,null,null,null,null,null,null,null,null,null,null,null,null,null,null,1920,19,20,10,10,10,10,{"$f":"$C$4","v":2},9,5,null,null,1,null,null,null,null,null,null,null,null,null,null,null,null,null,1920,19,20,10,10,10,10,{"$f":"$C$11","v":2},9,5,null,null,1]

{"sheet":"CALCHEIG","index":7,"n_rows":59,"n_cols":76,"rows_kept":59,"cut":false,"hidden":false,"merged":[[12,14,16,14],[12,15,16,30],[3,8,3,9],[3,10,3,11],[5,14,9,14],[5,15,9,30],[10,8,10,9],[10,10,10,11]]}
[null,null,null,null,5]
[null,null,"Interpret the value the calculator displays",null,null,null,null,null,null,null,null,null,null,null,null,null,null,null,null,null,null,null,null,null,null,null,{"$f":"IF(AP11>2,\"*\",\"•\")","v":"•"},{"$f":"IF(AP18>2,\"*  \",\"•\")","v":"*  "},null,null,null,null,null,null,null,{"$f":"AJ7","v":145},{"$f":"ABS(AJ2)","v":145},{"$f":"IF(AK2<100,1,0)","v":0},{"$f":"IF(AK2/100=ROUNDDOWN(AK2/100,0),1,0)","v":0},{"$f":"IF(AK2/10=ROUNDDOWN(AK2/10,0),1,0)","v":0},{"$f":"AL2+AM2*2+AN2*4","v":0},{"$f":"IF(AO2=0,CONCATENATE(,AK2/100-MOD(AK2/100,1),\" m \",ROUND(100*MOD(AK2/100,1),6),\" cm\"),IF(AO2=1,CONCATENATE(ROUND(AK2,0),\" cm\"),IF(AO2=4,CONCATENATE(,AK2/100-MOD(AK2/100,1),\" m \",ROUND(10*MOD(AK2/100,1),6),\"0 cm\"),IF(AO2=5,CONCATENATE(AK2,\" cm\"),IF(AO2=6,CONCATENATE(\"\",AK2/100,\" m\"),\"0 m\")))))","v":"1 m 45 cm"}]
[null,null,"after the division in the context of height.",null,null,null,null,null,null,null,null,null,null,null,null,null,null,null,null,null,null,null,null,null,null,null,0,{"$f":"IF(AA3=0,\"\",R28)","v":""},{"$f":"IF(AA3=0,\" m\",\"\")","v":" m"},{"$f":"IF(AA3=0,\" cm\",T28)","v":" cm"},null,null,null,null,null,{"$f":"AJ14","v":213},{"$f":"ABS(AJ3)","v":213},{"$f":"IF(AK3<100,1,0)","v":0},{"$f":"IF(AK3/100=ROUNDDOWN(AK3/100,0),1,0)","v":0},{"$f":"IF(AK3/10=ROUNDDOWN(AK3/10,0),1,0)","v":0},{"$f":"AL3+AM3*2+AN3*4","v":0},{"$f":"IF(AO3=0,CONCATENATE(,AK3/100-MOD(AK3/100,1),\" m \",ROUND(100*MOD(AK3/100,1),6),\" cm\"),IF(AO3=1,CONCATENATE(ROUND(AK3,0),\" cm\"),IF(AO3=4,CONCATENATE(,AK3/100-MOD(AK3/100,1),\" m \",ROUND(10*MOD(AK3/100,1),6),\"0 cm\"),IF(AO3=5,CONCATENATE(AK3,\" cm\"),IF(AO3=6,CONCATENATE(\"\",AK3/100,\" m\"),\"0 m\")))))","v":"2 m 13 cm"}]
[null,null,{"$f":"INT(10*RAND())+0","v":1},{"$f":"1*RAND()","v":4.3530797726764714E-2},{"$f":"IF(D4>0.5,\"ms\",\"hm\")","v":"hm"},{"$f":"RAND()","v":0.59448726208304858},{"$f":"IF(F4>0.5,20,12)","v":20},{"$f":"INT((G4-1)*RAND())+1","v":9},{"$f":"H4/G4","v":0.45},null,{"$f":"H4*100+G4","v":920},null,60,{"$f":"M4*H4/G4","v":27},{"$f":"IF(C4>1,\"s\",\"\")","v":""},null,{"$f":"RAND()","v":4.7371055723728128E-2},{"$f":"IF(Q4>0.5,\"What is \",\"Evaluate \")","v":"Evaluate "},{"$f":"IF(Q4>0.5,\"?\",\".\")","v":"."},null,null,null,null,null,{"$f":"AP11","v":2},{"$f":"AP18","v":3},{"$f":"IF(Y4=2,1,IF(Z4=2,1,0))","v":1}]
[null,null,{"$f":"CONCATENATE(R4,AB3,C4*AK20+AK19,AC3,\" divided by \",BX20,\" to the nearest\",AD3,S4)","v":"Evaluate 29 m divided by twenty to the nearest cm."}]
[null,null,null,null,null,null,null,null,null,null,null,null,null,null,"=",{"$f":"IF(AA3=1,AO7,AP2)","v":"1 m 45 cm"}]
[null,null,null,null,null,null,null,null,null,null,null,null,null,null,null,null,null,null,null,null,null,null,null,null,null,null,null,null,null,null,null,null,null,null,null,{"$f":"ROUND((C4+AK19/AK20)*100,0)","v":145},{"$f":"IF(AJ7<100,1,0)","v":0},{"$f":"IF(AJ7/100=ROUNDDOWN(AJ7/100,0),1,0)","v":0},{"$f":"IF(AJ7/10=ROUNDDOWN(AJ7/10,0),1,0)","v":0},{"$f":"AK7+AL7*2+AM7*4","v":0},{"$f":"IF(AN7=0,CONCATENATE($R$28,ROUND(AJ7/100,2)),IF(AN7=1,CONCATENATE(ROUND(AJ7,0),$S$28),IF(AN7=4,CONCATENATE($R$28,AJ7/100,\"0\"),IF(AN7=5,CONCATENATE(AJ7,$S$28),IF(AN7=6,CONCATENATE($R$28,AJ7/100),\"xxx\")))))","v":"R1.45"},{"$f":"AJ7/100","v":1.45},{"$f":"ROUND(AP7,0)","v":1},{"$f":"AQ7-AP7","v":-0.44999999999999996},{"$f":"IF(AR7=0,0,1)","v":1}]
[null,null,null,null,null,null,null,null,null,null,null,null,null,null,null,null,null,null,null,null,null,null,null,null,null,null,null,null,null,null,null,null,null,null,null,{"$f":"(C4+AK19/AK20)*10-ROUNDDOWN((C4+AK19/AK20)*10,0)","v":0.5},{"$f":"100*AJ8","v":50}]
[null,null,null,{"$f":"VLOOKUP($K$4,$AG$23:$AW$59,4)","v":10},{"$f":"VLOOKUP($K$4,$AG$23:$AW$59,5)","v":10},null,{"$f":"VLOOKUP($K$4,$AG$23:$AW$59,6)","v":10},{"$f":"VLOOKUP($K$4,$AG$23:$AW$59,7)","v":10},null,{"$f":"VLOOKUP($K$4,$AG$23:$AW$59,8)","v":1},null,{"$f":"VLOOKUP($K$4,$AG$23:$AW$59,9)","v":4},{"$f":"VLOOKUP($K$4,$AG$23:$AW$59,10)","v":5}]
[null,null,null,{"$f":"VLOOKUP($K$4,$AG$23:$AW$59,11)","v":0},null,null,{"$f":"IF(D11>0.5,8,12)","v":8},12,{"$f":"VLOOKUP($K$4,$AG$23:$AW$59,12)","v":0},null,{"$f":"VLOOKUP($K$4,$AG$23:$AW$59,13)","v":1},{"$f":"VLOOKUP($K$4,$AG$23:$AW$59,14)","v":0},null,null,null,null,null,null,null,null,null,null,null,null,null,null,null,null,null,null,null,null,null,null,null,{"$f":"ROUND((C4+AK19/AK20),9)","v":1.45},{"$f":"MOD(AJ10,1)","v":0.44999999999999996},{"$f":"ROUND(1000*AK10,0)","v":450},{"$f":"(AL10-MOD(AL10,100))/100","v":4},{"$f":"(AL10-AM11-MOD(AL10-AM11,10))/10","v":5},{"$f":"ROUNDDOWN(AL10-AM11-AN11,0)","v":0},{"$f":"MOD(1000*AJ10,1)","v":0}]
[null,null,{"$f":"INT(10*RAND())+0","v":2},{"$f":"1*RAND()","v":0.68185306627601661},{"$f":"IF(D11>0.5,\"dh\",\"ym\")","v":"dh"},{"$f":"RAND()","v":0.61840033560730512},{"$f":"IF(F11>0.5,G10,H10)","v":8},{"$f":"INT((G11-1)*RAND())+1","v":1},{"$f":"H11/G11","v":0.125},null,{"$f":"H11*100+G11","v":108},null,{"$f":"IF(D11>0.5,24,12)","v":24},{"$f":"M11*H11/G11","v":3},{"$f":"IF(C11>1,\"s\",\"\")","v":"s"},null,null,null,null,null,null,null,null,null,null,null,null,null,null,null,null,null,null,null,null,{"$f":"CONCATENATE(AJ10)","v":"1.45"},null,null,{"$f":"AM10*100","v":400},{"$f":"AN10*10","v":50},{"$f":"AO10","v":0},{"$f":"IF(AP10>0,7,IF(AO10>0,3,IF(AN10>0,2,1)))","v":2}]
[null,null,{"$f":"CONCATENATE(\"Split \",AB3,C11*BK20+BK19,\" metres into \",BX21,\" parts to the nearest\",AD3,\".\")","v":"Split 17 metres into eight parts to the nearest cm."}]
[null,null,null,null,null,null,null,null,null,null,null,null,null,null,"=",{"$f":"IF(AA3=1,AO14,AP3)","v":"2 m 13 cm"}]
[null,null,null,null,null,null,null,null,null,null,null,null,null,null,null,null,null,null,null,null,null,null,null,null,null,null,null,null,null,null,null,null,null,null,null,{"$f":"ROUND((C11+BK19/BK20)*100,0)","v":213},{"$f":"IF(AJ14<100,1,0)","v":0},{"$f":"IF(AJ14/100=ROUNDDOWN(AJ14/100,0),1,0)","v":0},{"$f":"IF(AJ14/10=ROUNDDOWN(AJ14/10,0),1,0)","v":0},{"$f":"AK14+AL14*2+AM14*4","v":0},{"$f":"IF(AN14=0,CONCATENATE($R$28,ROUND(AJ14/100,2)),IF(AN14=1,CONCATENATE(ROUND(AJ14,0),$S$28),IF(AN14=4,CONCATENATE($R$28,AJ14/100,\"0\"),IF(AN14=5,CONCATENATE(AJ14,$S$28),IF(AN14=6,CONCATENATE($R$28,AJ14/100),\"xxx\")))))","v":"R2.13"},{"$f":"AJ14/100","v":2.13},{"$f":"ROUND(AP14,0)","v":2},{"$f":"AQ14-AP14","v":-0.12999999999999989},{"$f":"IF(AR14=0,0,1)","v":1}]
[null,null,null,null,null,null,null,null,null,null,null,null,null,null,null,null,null,null,null,null,null,null,null,null,null,null,null,null,null,null,null,null,null,null,null,{"$f":"ROUND((C11+BK19/BK20)*100,0)","v":213},{"$f":"100*AJ15","v":21300}]
[null,null,null,{"$f":"VLOOKUP($K$11,$BG$23:$BW$59,4)","v":10},{"$f":"VLOOKUP($K$11,$BG$23:$BW$59,5)","v":10},null,{"$f":"VLOOKUP($K$11,$BG$23:$BW$59,6)","v":10},{"$f":"VLOOKUP($K$11,$BG$23:$BW$59,7)","v":2},null,{"$f":"VLOOKUP($K$11,$BG$23:$BW$59,8)","v":1},null,{"$f":"VLOOKUP($K$11,$BG$23:$BW$59,9)","v":2},{"$f":"VLOOKUP($K$11,$BG$23:$BW$59,10)","v":5}]
[null,null,null,{"$f":"VLOOKUP($K$11,$BG$23:$BW$59,11)","v":0},null,null,null,null,{"$f":"VLOOKUP($K$11,$BG$23:$BW$59,12)","v":1},null,{"$f":"VLOOKUP($K$11,$BG$23:$BW$59,13)","v":0},{"$f":"VLOOKUP($K$11,$BG$23:$BW$59,14)","v":0},null,null,null,null,null,null,null,null,null,null,null,null,null,null,null,null,null,null,null,null,null,null,null,{"$f":"ROUND((C11+BK19/BK20),9)","v":2.125},{"$f":"MOD(AJ17,1)","v":0.125},{"$f":"ROUND(1000*AK17,0)","v":125},{"$f":"(AL17-MOD(AL17,100))/100","v":1},{"$f":"(AL17-AM18-MOD(AL17-AM18,10))/10","v":2},{"$f":"ROUNDDOWN(AL17-AM18-AN18,0)","v":5},{"$f":"MOD(1000*AJ17,1)","v":0}]
[null,null,null,null,null,null,null,null,null,null,null,null,null,null,null,null,null,null,null,null,null,null,null,null,null,null,null,null,null,null,null,null,null,null,null,{"$f":"CONCATENATE(AJ17)","v":"2.125"},null,null,{"$f":"AM17*100","v":100},{"$f":"AN17*10","v":20},{"$f":"AO17","v":5},{"$f":"IF(AP17>0,7,IF(AO17>0,3,IF(AN17>0,2,1)))","v":3}]
[null,null,null,null,null,null,null,null,null,null,null,null,null,null,null,null,null,null,null,null,null,null,null,null,null,null,null,null,null,null,null,null,null,null,{"$f":"H4","v":9},{"$f":"IF(AI19=0,1,AI19*AI20/(MAX(AI19:AI20)*LEFT(TEXT(MIN(AI19:AI20)/MAX(AI19:AI20),\"000000000000000/000000000000000\"),15)))","v":1},{"$f":"AI19/AJ19","v":9},null,null,null,null,null,null,null,null,null,null,null,null,null,null,null,null,null,null,null,null,null,null,null,{"$f":"H11","v":1},{"$f":"IF(BI19=0,1,BI19*BI20/(MAX(BI19:BI20)*LEFT(TEXT(MIN(BI19:BI20)/MAX(BI19:BI20),\"000000000000000/000000000000000\"),15)))","v":1},{"$f":"BI19/BJ19","v":1}]
[null,null,null,null,null,null,null,null,null,null,null,null,null,null,null,null,null,null,null,null,null,null,null,null,null,null,null,null,null,null,null,null,null,null,{"$f":"G4","v":20},{"$f":"MAX(AI19:AI20)*LEFT(TEXT(MIN(AI19:AI20)/MAX(AI19:AI20),\"000000000000000/000000000000000\"),15)","v":180},{"$f":"IF(AI19=0,\"\",IF(AI19=AI20,\"\",AI20/AJ19))","v":20},null,null,null,null,null,null,null,null,null,null,null,null,null,null,null,null,null,null,null,null,null,null,null,{"$f":"G11","v":8},{"$f":"MAX(BI19:BI20)*LEFT(TEXT(MIN(BI19:BI20)/MAX(BI19:BI20),\"000000000000000/000000000000000\"),15)","v":8},{"$f":"IF(BI19=0,\"\",IF(BI19=BI20,\"\",BI20/BJ19))","v":8},null,null,null,null,null,null,null,null,null,null,null,{"$f":"AK20","v":20},{"$f":"VLOOKUP(BW20,$BW$22:$BX$33,2)","v":"twenty"}]
[null,null,null,null,null,null,null,null,null,null,null,null,null,null,null,null,null,null,null,null,null,null,null,null,null,null,null,null,null,null,null,null,null,null,null,null,null,null,null,null,null,null,null,null,null,null,null,null,null,null,null,null,null,null,null,null,null,null,null,null,null,null,null,null,null,null,null,null,null,null,null,null,null,null,{"$f":"BK20","v":8},{"$f":"VLOOKUP(BW21,$BW$22:$BX$33,2)","v":"eight"}]
[null,null,null,null,null,null,null,null,null,null,null,null,null,null,null,null,null,null,null,null,null,null,null,null,null,null,null,null,null,null,null,null,null,null,null,1,2,3,4,5,6,7,8,9,10,11,null,null,null,null,null,null,null,null,null,null,null,null,null,null,null,1,2,3,4,5,6,7,8,9,10,11,null,null,2,"two"]
[null,null,null,null,null,null,null,null,null,null,null,null,null,null,null,null,null,null,null,null,null,null,null,null,null,null,null,null,null,null,null,null,108,1,8,10,10,10,{"$f":"$C$4","v":1},1,2,5,null,1,null,null,null,null,null,null,null,null,null,null,null,null,null,null,108,1,8,10,10,10,{"$f":"$C$11","v":2},1,2,5,null,1,null,null,null,null,3,"three"]
[null,null,null,null,null,null,null,null,null,null,null,null,null,null,null,null,null,null,null,null,null,null,null,null,null,null,null,null,null,null,null,null,112,1,12,{"$f":"$C$4","v":1},0,8,3,3,3,3,1,null,null,null,null,null,null,null,null,null,null,null,null,null,null,null,112,1,12,{"$f":"$C$11","v":2},0,8,3,3,3,3,1,null,null,null,null,null,4,"four"]
[null,null,null,null,null,null,null,null,null,null,null,null,null,null,null,null,null,null,null,null,null,null,null,null,null,null,null,null,null,null,null,null,120,1,20,10,10,10,10,{"$f":"$C$4","v":1},0,5,null,null,1,null,null,null,null,null,null,null,null,null,null,null,null,null,120,1,20,10,10,10,10,{"$f":"$C$11","v":2},0,5,null,null,1,null,null,null,5,"five"]
[null,null,null,null,null,null,null,null,null,null,null,null,null,null,null,null,null,null,null,null,null,null,null,null,null,null,null,null,null,null,null,null,208,2,8,10,10,10,10,{"$f":"$C$4","v":1},2,5,null,null,1,null,null,null,null,null,null,null,null,null,null,null,null,null,208,2,8,10,10,10,10,{"$f":"$C$11","v":2},2,5,null,null,1,null,null,null,6,"six"]
[null,null,null,null,null,null,null,null,null,null,null,null,null,null,null,null,null,null,null,null,null,null,null,null,null,null,null,null,null,null,null,null,212,2,12,{"$f":"$C$4","v":1},1,6,6,6,6,7,1,null,null,null,null,null,null,null,null,null,null,null,null,null,null,null,212,2,12,{"$f":"$C$11","v":2},1,6,6,6,6,7,1,null,null,null,null,null,7,"seven"]
[null,null,null,null,null,null,null,null,null,null,null,null,null,null,null,null,{"$f":"E1","v":5},{"$f":"IF(Q28=1,\"£\",IF(Q28=2,\"$\",IF(Q28=3,\"€\",\"R\")))","v":"R"},{"$f":"IF(Q28=1,\"p\",\"c\")","v":"c"},{"$f":"IF(Q28=1,\" penny\",\" cent\")","v":" cent"},null,null,null,null,null,null,null,null,null,null,null,null,220,2,20,10,10,10,10,10,{"$f":"$C$4","v":1},1,null,null,null,1,null,null,null,null,null,null,null,null,null,null,null,null,220,2,20,10,10,10,10,10,{"$f":"$C$11","v":2},1,null,null,null,1,null,null,8,"eight"]
[null,null,null,null,null,null,null,null,null,null,null,null,null,null,null,null,null,null,null,null,null,null,null,null,null,null,null,null,null,null,null,null,308,3,8,10,10,10,{"$f":"$C$4","v":1},3,7,5,null,1,null,null,null,null,null,null,null,null,null,null,null,null,null,null,308,3,8,10,10,10,{"$f":"$C$11","v":2},3,7,5,null,1,null,null,null,null,9,"nine"]
[null,null,null,null,null,null,null,null,null,null,null,null,null,null,null,null,null,null,null,null,null,null,null,null,null,null,null,null,null,null,null,null,312,3,12,10,10,10,10,{"$f":"$C$4","v":1},2,5,null,null,1,null,null,null,null,null,null,null,null,null,null,null,null,null,312,3,12,10,10,10,10,{"$f":"$C$11","v":2},2,5,null,null,1,null,null,null,10,"ten"]
[null,null,null,null,null,null,null,null,null,null,null,null,null,null,null,null,null,null,null,null,null,null,null,null,null,null,null,null,null,null,null,null,320,3,20,10,10,10,10,{"$f":"$C$4","v":1},1,5,null,null,1,null,null,null,null,null,null,null,null,null,null,null,null,null,320,3,20,10,10,10,10,{"$f":"$C$11","v":2},1,5,null,null,1,null,null,null,11,"eleven"]
[null,null,null,null,null,null,null,null,null,null,null,null,null,null,null,null,null,null,null,null,null,null,null,null,null,null,null,null,null,null,null,null,408,4,8,10,10,10,10,10,{"$f":"$C$4","v":1},5,null,null,null,1,null,null,null,null,null,null,null,null,null,null,null,null,408,4,8,10,10,10,10,10,{"$f":"$C$11","v":2},5,null,null,null,1,null,null,12,"twelve"]
[null,null,null,null,null,null,null,null,null,null,null,null,null,null,null,null,null,null,null,null,null,null,null,null,null,null,null,null,null,null,null,null,412,4,12,{"$f":"$C$4","v":1},3,3,3,3,3,3,1,null,null,null,null,null,null,null,null,null,null,null,null,null,null,null,412,4,12,{"$f":"$C$11","v":2},3,3,3,3,3,3,1,null,null,null,null,null,20,"twenty"]
[null,null,null,null,null,null,null,null,null,null,null,null,null,null,null,null,null,null,null,null,null,null,null,null,null,null,null,null,null,null,null,null,420,4,20,10,10,10,10,10,{"$f":"$C$4","v":1},2,null,null,null,1,null,null,null,null,null,null,null,null,null,null,null,null,420,4,20,10,10,10,10,10,{"$f":"$C$11","v":2},2,null,null,null,1]
[null,null,null,null,null,null,null,null,null,null,null,null,null,null,null,null,null,null,null,null,null,null,null,null,null,null,null,null,null,null,null,null,508,5,8,10,10,10,{"$f":"$C$4","v":1},6,2,5,null,1,null,null,null,null,null,null,null,null,null,null,null,null,null,null,508,5,8,10,10,10,{"$f":"$C$11","v":2},6,2,5,null,1]
[null,null,null,null,null,null,null,null,null,null,null,null,null,null,null,null,null,null,null,null,null,null,null,null,null,null,null,null,null,null,null,null,512,5,12,{"$f":"$C$4","v":1},4,1,6,6,6,7,1,null,null,null,null,null,null,null,null,null,null,null,null,null,null,null,512,5,12,{"$f":"$C$11","v":2},4,1,6,6,6,7,1]
[null,null,null,null,null,null,null,null,null,null,null,null,null,null,null,null,null,null,null,null,null,null,null,null,null,null,null,null,null,null,null,null,520,5,20,10,10,10,10,{"$f":"$C$4","v":1},2,5,null,null,1,null,null,null,null,null,null,null,null,null,null,null,null,null,520,5,20,10,10,10,10,{"$f":"$C$11","v":2},2,5,null,null,1]
[null,null,null,null,null,null,null,null,null,null,null,null,null,null,null,null,null,null,null,null,null,null,null,null,null,null,null,null,null,null,null,null,608,6,8,10,10,10,10,{"$f":"$C$4","v":1},7,5,null,null,1,null,null,null,null,null,null,null,null,null,null,null,null,null,608,6,8,10,10,10,10,{"$f":"$C$11","v":2},7,5,null,null,1]
[null,null,null,null,null,null,null,null,null,null,null,null,null,null,null,null,null,null,null,null,null,null,null,null,null,null,null,null,null,null,null,null,612,6,12,10,10,10,10,10,{"$f":"$C$4","v":1},5,null,null,null,1,null,null,null,null,null,null,null,null,null,null,null,null,612,6,12,10,10,10,10,10,{"$f":"$C$11","v":2},5,null,null,null,1]
[null,null,null,null,null,null,null,null,null,null,null,null,null,null,null,null,null,null,null,null,null,null,null,null,null,null,null,null,null,null,null,null,620,6,20,10,10,10,10,10,{"$f":"$C$4","v":1},3,null,null,null,1,null,null,null,null,null,null,null,null,null,null,null,null,620,6,20,10,10,10,10,10,{"$f":"$C$11","v":2},3,null,null,null,1]
[null,null,null,null,null,null,null,null,null,null,null,null,null,null,null,null,null,null,null,null,null,null,null,null,null,null,null,null,null,null,null,null,708,7,8,10,10,10,{"$f":"$C$4","v":1},8,7,5,null,1,null,null,null,null,null,null,null,null,null,null,null,null,null,null,708,7,8,10,10,10,{"$f":"$C$11","v":2},8,7,5,null,1]
[null,null,null,null,null,null,null,null,null,null,null,null,null,null,null,null,null,null,null,null,null,null,null,null,null,null,null,null,null,null,null,null,712,7,12,{"$f":"$C$4","v":1},5,8,3,3,3,3,1,null,null,null,null,null,null,null,null,null,null,null,null,null,null,null,712,7,12,{"$f":"$C$11","v":2},5,8,3,3,3,3,1]
[null,null,null,null,null,null,null,null,null,null,null,null,null,null,null,null,null,null,null,null,null,null,null,null,null,null,null,null,null,null,null,null,720,7,20,10,10,10,10,{"$f":"$C$4","v":1},3,5,null,null,1,null,null,null,null,null,null,null,null,null,null,null,null,null,720,7,20,10,10,10,10,{"$f":"$C$11","v":2},3,5,null,null,1]
[null,null,null,null,null,null,null,null,null,null,null,null,null,null,null,null,null,null,null,null,null,null,null,null,null,null,null,null,null,null,null,null,812,8,12,{"$f":"$C$4","v":1},6,6,6,6,6,7,1,null,null,null,null,null,null,null,null,null,null,null,null,null,null,null,812,8,12,{"$f":"$C$11","v":2},6,6,6,6,6,7,1]
[null,null,null,null,null,null,null,null,null,null,null,null,null,null,null,null,null,null,null,null,null,null,null,null,null,null,null,null,null,null,null,null,820,8,20,10,10,10,10,10,{"$f":"$C$4","v":1},4,null,null,null,1,null,null,null,null,null,null,null,null,null,null,null,null,820,8,20,10,10,10,10,10,{"$f":"$C$11","v":2},4,null,null,null,1]
[null,null,null,null,null,null,null,null,null,null,null,null,null,null,null,null,null,null,null,null,null,null,null,null,null,null,null,null,null,null,null,null,912,9,12,10,10,10,10,{"$f":"$C$4","v":1},7,5,null,null,1,null,null,null,null,null,null,null,null,null,null,null,null,null,912,9,12,10,10,10,10,{"$f":"$C$11","v":2},7,5,null,null,1]
[null,null,null,null,null,null,null,null,null,null,null,null,null,null,null,null,null,null,null,null,null,null,null,null,null,null,null,null,null,null,null,null,920,9,20,10,10,10,10,{"$f":"$C$4","v":1},4,5,null,null,1,null,null,null,null,null,null,null,null,null,null,null,null,null,920,9,20,10,10,10,10,{"$f":"$C$11","v":2},4,5,null,null,1]
[null,null,null,null,null,null,null,null,null,null,null,null,null,null,null,null,null,null,null,null,null,null,null,null,null,null,null,null,null,null,null,null,1012,10,12,{"$f":"$C$4","v":1},8,3,3,3,3,3,1,null,null,null,null,null,null,null,null,null,null,null,null,null,null,null,1012,10,12,{"$f":"$C$11","v":2},8,3,3,3,3,3,1]
[null,null,null,null,null,null,null,null,null,null,null,null,null,null,null,null,null,null,null,null,null,null,null,null,null,null,null,null,null,null,null,null,1020,10,20,10,10,10,10,10,{"$f":"$C$4","v":1},5,null,null,null,1,null,null,null,null,null,null,null,null,null,null,null,null,1020,10,20,10,10,10,10,10,{"$f":"$C$11","v":2},5,null,null,null,1]
[null,null,null,null,null,null,null,null,null,null,null,null,null,null,null,null,null,null,null,null,null,null,null,null,null,null,null,null,null,null,null,null,1112,11,12,{"$f":"$C$4","v":1},9,1,6,6,6,7,1,null,null,null,null,null,null,null,null,null,null,null,null,null,null,null,1112,11,12,{"$f":"$C$11","v":2},9,1,6,6,6,7,1]
[null,null,null,null,null,null,null,null,null,null,null,null,null,null,null,null,null,null,null,null,null,null,null,null,null,null,null,null,null,null,null,null,1120,11,20,10,10,10,10,{"$f":"$C$4","v":1},5,5,null,null,1,null,null,null,null,null,null,null,null,null,null,null,null,null,1120,11,20,10,10,10,10,{"$f":"$C$11","v":2},5,5,null,null,1]
[null,null,null,null,null,null,null,null,null,null,null,null,null,null,null,null,null,null,null,null,null,null,null,null,null,null,null,null,null,null,null,null,1220,12,20,10,10,10,10,10,{"$f":"$C$4","v":1},6,null,null,null,1,null,null,null,null,null,null,null,null,null,null,null,null,1220,12,20,10,10,10,10,10,{"$f":"$C$11","v":2},6,null,null,null,1]
[null,null,null,null,null,null,null,null,null,null,null,null,null,null,null,null,null,null,null,null,null,null,null,null,null,null,null,null,null,null,null,null,1320,13,20,10,10,10,10,{"$f":"$C$4","v":1},6,5,null,null,1,null,null,null,null,null,null,null,null,null,null,null,null,null,1320,13,20,10,10,10,10,{"$f":"$C$11","v":2},6,5,null,null,1]
[null,null,null,null,null,null,null,null,null,null,null,null,null,null,null,null,null,null,null,null,null,null,null,null,null,null,null,null,null,null,null,null,1420,14,20,10,10,10,10,10,{"$f":"$C$4","v":1},7,null,null,null,1,null,null,null,null,null,null,null,null,null,null,null,null,1420,14,20,10,10,10,10,10,{"$f":"$C$11","v":2},7,null,null,null,1]
[null,null,null,null,null,null,null,null,null,null,null,null,null,null,null,null,null,null,null,null,null,null,null,null,null,null,null,null,null,null,null,null,1520,15,20,10,10,10,10,{"$f":"$C$4","v":1},7,5,null,null,1,null,null,null,null,null,null,null,null,null,null,null,null,null,1520,15,20,10,10,10,10,{"$f":"$C$11","v":2},7,5,null,null,1]
[null,null,null,null,null,null,null,null,null,null,null,null,null,null,null,null,null,null,null,null,null,null,null,null,null,null,null,null,null,null,null,null,1620,16,20,10,10,10,10,10,{"$f":"$C$4","v":1},8,null,null,null,1,null,null,null,null,null,null,null,null,null,null,null,null,1620,16,20,10,10,10,10,10,{"$f":"$C$11","v":2},8,null,null,null,1]
[null,null,null,null,null,null,null,null,null,null,null,null,null,null,null,null,null,null,null,null,null,null,null,null,null,null,null,null,null,null,null,null,1720,17,20,10,10,10,10,{"$f":"$C$4","v":1},8,5,null,null,1,null,null,null,null,null,null,null,null,null,null,null,null,null,1720,17,20,10,10,10,10,{"$f":"$C$11","v":2},8,5,null,null,1]
[null,null,null,null,null,null,null,null,null,null,null,null,null,null,null,null,null,null,null,null,null,null,null,null,null,null,null,null,null,null,null,null,1820,18,20,10,10,10,10,10,{"$f":"$C$4","v":1},9,null,null,null,1,null,null,null,null,null,null,null,null,null,null,null,null,1820,18,20,10,10,10,10,10,{"$f":"$C$11","v":2},9,null,null,null,1]
[null,null,null,null,null,null,null,null,null,null,null,null,null,null,null,null,null,null,null,null,null,null,null,null,null,null,null,null,null,null,null,null,1920,19,20,10,10,10,10,{"$f":"$C$4","v":1},9,5,null,null,1,null,null,null,null,null,null,null,null,null,null,null,null,null,1920,19,20,10,10,10,10,{"$f":"$C$11","v":2},9,5,null,null,1]

{"sheet":"CALCVOLU","index":8,"n_rows":59,"n_cols":76,"rows_kept":59,"cut":false,"hidden":false,"merged":[[12,14,16,14],[12,15,16,30],[3,8,3,9],[3,10,3,11],[5,14,9,14],[5,15,9,30],[10,8,10,9],[10,10,10,11]]}
[null,null,null,null,5]
[null,null,"Interpret the value the calculator displays",null,null,null,null,null,null,null,null,null,null,null,null,null,null,null,null,null,null,null,null,null,null,null,{"$f":"IF(AK20=8,\"•\",IF(AP11>2,\"*\",\"•\"))","v":"•"},{"$f":"IF(BK20=8,\"•\",IF(AP18>2,\"*  \",\"•\"))","v":"•"},null,null,null,"𝒙","𝒍","𝒎",{"$f":"CONCATENATE(\" \",AH2,AG2)","v":" 𝒎𝒍"},{"$f":"AJ7","v":9800},{"$f":"ABS(AJ2)","v":9800},{"$f":"IF(AK2<1000,1,0)","v":0},{"$f":"IF(AK2/1000=ROUNDDOWN(AK2/1000,0),1,0)","v":0},{"$f":"IF(AK2/10=ROUNDDOWN(AK2/10,0),1,0)","v":1},{"$f":"AL2+AM2*2+AN2*4","v":4},{"$f":"IF(AO2=0,CONCATENATE(,AK2/1000-MOD(AK2/1000,1),\" \",AG2,\" \",ROUND(1000*MOD(AK2/1000,1),6),AI2),IF(AO2=1,CONCATENATE(ROUND(AK2,0),AI2),IF(AO2=4,CONCATENATE(,AK2/1000-MOD(AK2/1000,1),\" \",AG2,\" \",ROUND(100*MOD(AK2/1000,1),6),\"0\",AI2),IF(AO2=5,CONCATENATE(AK2,AI2),IF(AO2=6,CONCATENATE(\"\",AK2/1000,\" \",AG2,\"\"),AI3)))))","v":"9 𝒍 800 𝒎𝒍"}]
[null,null,"after the division in the context of volume.",null,null,null,null,null,null,null,null,null,null,null,null,null,null,null,null,null,null,null,null,null,null,null,0,{"$f":"IF(AA3=0,\"\",R28)","v":""},{"$f":"IF(AA3=0,\" litres\",\"\")","v":" litres"},{"$f":"IF(AA3=0,AI2,T28)","v":" 𝒎𝒍"},null,null,null,null,{"$f":"CONCATENATE(0,\" \",AG2)","v":"0 𝒍"},{"$f":"AJ14","v":9875},{"$f":"ABS(AJ3)","v":9875},{"$f":"IF(AK3<1000,1,0)","v":0},{"$f":"IF(AK3/1000=ROUNDDOWN(AK3/1000,0),1,0)","v":0},{"$f":"IF(AK3/10=ROUNDDOWN(AK3/10,0),1,0)","v":0},{"$f":"AL3+AM3*2+AN3*4","v":0},{"$f":"IF(AO3=0,CONCATENATE(AK3/1000-MOD(AK3/1000,1),\" \",AG2,\" \",ROUND(1000*MOD(AK3/1000,1),6),AI2),IF(AO3=1,CONCATENATE(ROUND(AK3,0),AI2),IF(AO3=4,CONCATENATE(AK3/1000-MOD(AK3/1000,1),\" \",AG2,\" \",ROUND(100*MOD(AK3/1000,1),6),\"0\",AI2),IF(AO3=5,CONCATENATE(AK3,AI2),IF(AO3=6,CONCATENATE(\"\",AK3/1000,\" \",AG2,\"\"),AI3)))))","v":"9 𝒍 875 𝒎𝒍"}]
[null,null,{"$f":"INT(10*RAND())+0","v":9},{"$f":"1*RAND()","v":0.19970046794313767},{"$f":"IF(D4>0.5,\"ms\",\"hm\")","v":"hm"},{"$f":"RAND()","v":0.86018588147468633},{"$f":"IF(F4>0.5,20,12)","v":20},{"$f":"INT((G4-1)*RAND())+1","v":16},{"$f":"H4/G4","v":0.8},null,{"$f":"H4*100+G4","v":1620},null,60,{"$f":"M4*H4/G4","v":48},{"$f":"IF(C4>1,\"s\",\"\")","v":"s"},null,{"$f":"RAND()","v":0.79097443104687337},{"$f":"IF(Q4>0.5,\"What is \",\"Evaluate \")","v":"What is "},{"$f":"IF(Q4>0.5,\"?\",\".\")","v":"?"},null,null,null,null,null,{"$f":"AP11","v":1},{"$f":"AP18","v":3},{"$f":"IF(Y4=2,1,IF(Z4=2,1,0))","v":0}]
[null,null,{"$f":"CONCATENATE(R4,AB3,C4*AK20+AK19,\" \",AG2,\" divided by \",BX20,\" to the nearest\",AD3,S4)","v":"What is 49 𝒍 divided by five to the nearest 𝒎𝒍?"}]
[null,null,null,null,null,null,null,null,null,null,null,null,null,null,"=",{"$f":"IF(AA3=1,AO7,AP2)","v":"9 𝒍 800 𝒎𝒍"}]
[null,null,null,null,null,null,null,null,null,null,null,null,null,null,null,null,null,null,null,null,null,null,null,null,null,null,null,null,null,null,null,null,null,null,null,{"$f":"ROUND((C4+AK19/AK20)*1000,0)","v":9800},{"$f":"IF(AJ7<100,1,0)","v":0},{"$f":"IF(AJ7/100=ROUNDDOWN(AJ7/100,0),1,0)","v":1},{"$f":"IF(AJ7/10=ROUNDDOWN(AJ7/10,0),1,0)","v":1},{"$f":"AK7+AL7*2+AM7*4","v":6},{"$f":"IF(AN7=0,CONCATENATE($R$28,ROUND(AJ7/100,2)),IF(AN7=1,CONCATENATE(ROUND(AJ7,0),$S$28),IF(AN7=4,CONCATENATE($R$28,AJ7/100,\"0\"),IF(AN7=5,CONCATENATE(AJ7,$S$28),IF(AN7=6,CONCATENATE($R$28,AJ7/100),\"xxx\")))))","v":"R98"},{"$f":"AJ7/100","v":98},{"$f":"ROUND(AP7,0)","v":98},{"$f":"AQ7-AP7","v":0},{"$f":"IF(AR7=0,0,1)","v":0}]
[null,null,null,null,null,null,null,null,null,null,null,null,null,null,null,null,null,null,null,null,null,null,null,null,null,null,null,null,null,null,null,null,null,null,null,{"$f":"(C4+AK19/AK20)*10-ROUNDDOWN((C4+AK19/AK20)*10,0)","v":0},{"$f":"100*AJ8","v":0}]
[null,null,null,{"$f":"VLOOKUP($K$4,$AG$23:$AW$59,4)","v":10},{"$f":"VLOOKUP($K$4,$AG$23:$AW$59,5)","v":10},null,{"$f":"VLOOKUP($K$4,$AG$23:$AW$59,6)","v":10},{"$f":"VLOOKUP($K$4,$AG$23:$AW$59,7)","v":10},null,{"$f":"VLOOKUP($K$4,$AG$23:$AW$59,8)","v":10},null,{"$f":"VLOOKUP($K$4,$AG$23:$AW$59,9)","v":9},{"$f":"VLOOKUP($K$4,$AG$23:$AW$59,10)","v":8}]
[null,null,null,{"$f":"VLOOKUP($K$4,$AG$23:$AW$59,11)","v":0},null,null,{"$f":"IF(D11>0.5,8,12)","v":8},12,{"$f":"VLOOKUP($K$4,$AG$23:$AW$59,12)","v":0},null,{"$f":"VLOOKUP($K$4,$AG$23:$AW$59,13)","v":0},{"$f":"VLOOKUP($K$4,$AG$23:$AW$59,14)","v":1},null,null,null,null,null,null,null,null,null,null,null,null,null,null,null,null,null,null,null,null,null,null,null,{"$f":"ROUND((C4+AK19/AK20),9)","v":9.8000000000000007},{"$f":"MOD(AJ10,1)","v":0.80000000000000071},{"$f":"ROUND(1000*AK10,0)","v":800},{"$f":"(AL10-MOD(AL10,100))/100","v":8},{"$f":"(AL10-AM11-MOD(AL10-AM11,10))/10","v":0},{"$f":"ROUNDDOWN(AL10-AM11-AN11,0)","v":0},{"$f":"MOD(1000*AJ10,1)","v":0}]
[null,null,{"$f":"INT(10*RAND())+0","v":9},{"$f":"1*RAND()","v":0.62768515086103294},{"$f":"IF(D11>0.5,\"dh\",\"ym\")","v":"dh"},{"$f":"RAND()","v":0.76313540259373513},{"$f":"IF(F11>0.5,G10,H10)","v":8},{"$f":"INT((G11-1)*RAND())+1","v":7},{"$f":"H11/G11","v":0.875},null,{"$f":"H11*100+G11","v":708},null,{"$f":"IF(D11>0.5,24,12)","v":24},{"$f":"M11*H11/G11","v":21},{"$f":"IF(C11>1,\"s\",\"\")","v":"s"},null,null,null,null,null,null,null,null,null,null,null,null,null,null,null,null,null,null,null,null,{"$f":"CONCATENATE(AJ10)","v":"9.8"},null,null,{"$f":"AM10*100","v":800},{"$f":"AN10*10","v":0},{"$f":"AO10","v":0},{"$f":"IF(AP10>0,7,IF(AO10>0,3,IF(AN10>0,2,1)))","v":1}]
[null,null,{"$f":"CONCATENATE(\"Split \",AB3,C11*BK20+BK19,AC3,\" into \",BX21,\" parts to the nearest\",AD3,\".\")","v":"Split 79 litres into eight parts to the nearest 𝒎𝒍."}]
[null,null,null,null,null,null,null,null,null,null,null,null,null,null,"=",{"$f":"IF(AA3=1,AO14,AP3)","v":"9 𝒍 875 𝒎𝒍"}]
[null,null,null,null,null,null,null,null,null,null,null,null,null,null,null,null,null,null,null,null,null,null,null,null,null,null,null,null,null,null,null,null,null,null,null,{"$f":"ROUND((C11+BK19/BK20)*1000,0)","v":9875},{"$f":"IF(AJ14<100,1,0)","v":0},{"$f":"IF(AJ14/100=ROUNDDOWN(AJ14/100,0),1,0)","v":0},{"$f":"IF(AJ14/10=ROUNDDOWN(AJ14/10,0),1,0)","v":0},{"$f":"AK14+AL14*2+AM14*4","v":0},{"$f":"IF(AN14=0,CONCATENATE($R$28,ROUND(AJ14/100,2)),IF(AN14=1,CONCATENATE(ROUND(AJ14,0),$S$28),IF(AN14=4,CONCATENATE($R$28,AJ14/100,\"0\"),IF(AN14=5,CONCATENATE(AJ14,$S$28),IF(AN14=6,CONCATENATE($R$28,AJ14/100),\"xxx\")))))","v":"R98.75"},{"$f":"AJ14/100","v":98.75},{"$f":"ROUND(AP14,0)","v":99},{"$f":"AQ14-AP14","v":0.25},{"$f":"IF(AR14=0,0,1)","v":1}]
[null,null,null,null,null,null,null,null,null,null,null,null,null,null,null,null,null,null,null,null,null,null,null,null,null,null,null,null,null,null,null,null,null,null,null,{"$f":"ROUND((C11+BK19/BK20)*10,0)","v":99},{"$f":"100*AJ15","v":9900}]
[null,null,null,{"$f":"VLOOKUP($K$11,$BG$23:$BW$59,4)","v":10},{"$f":"VLOOKUP($K$11,$BG$23:$BW$59,5)","v":10},null,{"$f":"VLOOKUP($K$11,$BG$23:$BW$59,6)","v":10},{"$f":"VLOOKUP($K$11,$BG$23:$BW$59,7)","v":9},null,{"$f":"VLOOKUP($K$11,$BG$23:$BW$59,8)","v":8},null,{"$f":"VLOOKUP($K$11,$BG$23:$BW$59,9)","v":7},{"$f":"VLOOKUP($K$11,$BG$23:$BW$59,10)","v":5}]
[null,null,null,{"$f":"VLOOKUP($K$11,$BG$23:$BW$59,11)","v":0},null,null,null,null,{"$f":"VLOOKUP($K$11,$BG$23:$BW$59,12)","v":1},null,{"$f":"VLOOKUP($K$11,$BG$23:$BW$59,13)","v":0},{"$f":"VLOOKUP($K$11,$BG$23:$BW$59,14)","v":0},null,null,null,null,null,null,null,null,null,null,null,null,null,null,null,null,null,null,null,null,null,null,null,{"$f":"ROUND((C11+BK19/BK20),9)","v":9.875},{"$f":"MOD(AJ17,1)","v":0.875},{"$f":"ROUND(1000*AK17,0)","v":875},{"$f":"(AL17-MOD(AL17,100))/100","v":8},{"$f":"(AL17-AM18-MOD(AL17-AM18,10))/10","v":7},{"$f":"ROUNDDOWN(AL17-AM18-AN18,0)","v":5},{"$f":"MOD(1000*AJ17,1)","v":0}]
[null,null,null,null,null,null,null,null,null,null,null,null,null,null,null,null,null,null,null,null,null,null,null,null,null,null,null,null,null,null,null,null,null,null,null,{"$f":"CONCATENATE(AJ17)","v":"9.875"},null,null,{"$f":"AM17*100","v":800},{"$f":"AN17*10","v":70},{"$f":"AO17","v":5},{"$f":"IF(AP17>0,7,IF(AO17>0,3,IF(AN17>0,2,1)))","v":3}]
[null,null,null,null,null,null,null,null,null,null,null,null,null,null,null,null,null,null,null,null,null,null,null,null,null,null,null,null,null,null,null,null,null,null,{"$f":"H4","v":16},{"$f":"IF(AI19=0,1,AI19*AI20/(MAX(AI19:AI20)*LEFT(TEXT(MIN(AI19:AI20)/MAX(AI19:AI20),\"000000000000000/000000000000000\"),15)))","v":4},{"$f":"AI19/AJ19","v":4},null,null,null,null,null,null,null,null,null,null,null,null,null,null,null,null,null,null,null,null,null,null,null,{"$f":"H11","v":7},{"$f":"IF(BI19=0,1,BI19*BI20/(MAX(BI19:BI20)*LEFT(TEXT(MIN(BI19:BI20)/MAX(BI19:BI20),\"000000000000000/000000000000000\"),15)))","v":1},{"$f":"BI19/BJ19","v":7}]
[null,null,null,null,null,null,null,null,null,null,null,null,null,null,null,null,null,null,null,null,null,null,null,null,null,null,null,null,null,null,null,null,null,null,{"$f":"G4","v":20},{"$f":"MAX(AI19:AI20)*LEFT(TEXT(MIN(AI19:AI20)/MAX(AI19:AI20),\"000000000000000/000000000000000\"),15)","v":80},{"$f":"IF(AI19=0,\"\",IF(AI19=AI20,\"\",AI20/AJ19))","v":5},null,null,null,null,null,null,null,null,null,null,null,null,null,null,null,null,null,null,null,null,null,null,null,{"$f":"G11","v":8},{"$f":"MAX(BI19:BI20)*LEFT(TEXT(MIN(BI19:BI20)/MAX(BI19:BI20),\"000000000000000/000000000000000\"),15)","v":56},{"$f":"IF(BI19=0,\"\",IF(BI19=BI20,\"\",BI20/BJ19))","v":8},null,null,null,null,null,null,null,null,null,null,null,{"$f":"AK20","v":5},{"$f":"VLOOKUP(BW20,$BW$22:$BX$33,2)","v":"five"}]
[null,null,null,null,null,null,null,null,null,null,null,null,null,null,null,null,null,null,null,null,null,null,null,null,null,null,null,null,null,null,null,null,null,null,null,null,null,null,null,null,null,null,null,null,null,null,null,null,null,null,null,null,null,null,null,null,null,null,null,null,null,null,null,null,null,null,null,null,null,null,null,null,null,null,{"$f":"BK20","v":8},{"$f":"VLOOKUP(BW21,$BW$22:$BX$33,2)","v":"eight"}]
[null,null,null,null,null,null,null,null,null,null,null,null,null,null,null,null,null,null,null,null,null,null,null,null,null,null,null,null,null,null,null,null,null,null,null,1,2,3,4,5,6,7,8,9,10,11,null,null,null,null,null,null,null,null,null,null,null,null,null,null,null,1,2,3,4,5,6,7,8,9,10,11,null,null,2,"two"]
[null,null,null,null,null,null,null,null,null,null,null,null,null,null,null,null,null,null,null,null,null,null,null,null,null,null,null,null,null,null,null,null,108,1,8,10,10,10,{"$f":"$C$4","v":9},1,2,5,null,1,null,null,null,null,null,null,null,null,null,null,null,null,null,null,108,1,8,10,10,10,{"$f":"$C$11","v":9},1,2,5,null,1,null,null,null,null,3,"three"]
[null,null,null,null,null,null,null,null,null,null,null,null,null,null,null,null,null,null,null,null,null,null,null,null,null,null,null,null,null,null,null,null,112,1,12,{"$f":"$C$4","v":9},0,8,3,3,3,3,1,null,null,null,null,null,null,null,null,null,null,null,null,null,null,null,112,1,12,{"$f":"$C$11","v":9},0,8,3,3,3,3,1,null,null,null,null,null,4,"four"]
[null,null,null,null,null,null,null,null,null,null,null,null,null,null,null,null,null,null,null,null,null,null,null,null,null,null,null,null,null,null,null,null,120,1,20,10,10,10,10,{"$f":"$C$4","v":9},0,5,null,null,1,null,null,null,null,null,null,null,null,null,null,null,null,null,120,1,20,10,10,10,10,{"$f":"$C$11","v":9},0,5,null,null,1,null,null,null,5,"five"]
[null,null,null,null,null,null,null,null,null,null,null,null,null,null,null,null,null,null,null,null,null,null,null,null,null,null,null,null,null,null,null,null,208,2,8,10,10,10,10,{"$f":"$C$4","v":9},2,5,null,null,1,null,null,null,null,null,null,null,null,null,null,null,null,null,208,2,8,10,10,10,10,{"$f":"$C$11","v":9},2,5,null,null,1,null,null,null,6,"six"]
[null,null,null,null,null,null,null,null,null,null,null,null,null,null,null,null,null,null,null,null,null,null,null,null,null,null,null,null,null,null,null,null,212,2,12,{"$f":"$C$4","v":9},1,6,6,6,6,7,1,null,null,null,null,null,null,null,null,null,null,null,null,null,null,null,212,2,12,{"$f":"$C$11","v":9},1,6,6,6,6,7,1,null,null,null,null,null,7,"seven"]
[null,null,null,null,null,null,null,null,null,null,null,null,null,null,null,null,{"$f":"E1","v":5},{"$f":"IF(Q28=1,\"£\",IF(Q28=2,\"$\",IF(Q28=3,\"€\",\"R\")))","v":"R"},{"$f":"IF(Q28=1,\"p\",\"c\")","v":"c"},{"$f":"IF(Q28=1,\" penny\",\" cent\")","v":" cent"},null,null,null,null,null,null,null,null,null,null,null,null,220,2,20,10,10,10,10,10,{"$f":"$C$4","v":9},1,null,null,null,1,null,null,null,null,null,null,null,null,null,null,null,null,220,2,20,10,10,10,10,10,{"$f":"$C$11","v":9},1,null,null,null,1,null,null,8,"eight"]
[null,null,null,null,null,null,null,null,null,null,null,null,null,null,null,null,null,null,null,null,null,null,null,null,null,null,null,null,null,null,null,null,308,3,8,10,10,10,{"$f":"$C$4","v":9},3,7,5,null,1,null,null,null,null,null,null,null,null,null,null,null,null,null,null,308,3,8,10,10,10,{"$f":"$C$11","v":9},3,7,5,null,1,null,null,null,null,9,"nine"]
[null,null,null,null,null,null,null,null,null,null,null,null,null,null,null,null,null,null,null,null,null,null,null,null,null,null,null,null,null,null,null,null,312,3,12,10,10,10,10,{"$f":"$C$4","v":9},2,5,null,null,1,null,null,null,null,null,null,null,null,null,null,null,null,null,312,3,12,10,10,10,10,{"$f":"$C$11","v":9},2,5,null,null,1,null,null,null,10,"ten"]
[null,null,null,null,null,null,null,null,null,null,null,null,null,null,null,null,null,null,null,null,null,null,null,null,null,null,null,null,null,null,null,null,320,3,20,10,10,10,10,{"$f":"$C$4","v":9},1,5,null,null,1,null,null,null,null,null,null,null,null,null,null,null,null,null,320,3,20,10,10,10,10,{"$f":"$C$11","v":9},1,5,null,null,1,null,null,null,11,"eleven"]
[null,null,null,null,null,null,null,null,null,null,null,null,null,null,null,null,null,null,null,null,null,null,null,null,null,null,null,null,null,null,null,null,408,4,8,10,10,10,10,10,{"$f":"$C$4","v":9},5,null,null,null,1,null,null,null,null,null,null,null,null,null,null,null,null,408,4,8,10,10,10,10,10,{"$f":"$C$11","v":9},5,null,null,null,1,null,null,12,"twelve"]
[null,null,null,null,null,null,null,null,null,null,null,null,null,null,null,null,null,null,null,null,null,null,null,null,null,null,null,null,null,null,null,null,412,4,12,{"$f":"$C$4","v":9},3,3,3,3,3,3,1,null,null,null,null,null,null,null,null,null,null,null,null,null,null,null,412,4,12,{"$f":"$C$11","v":9},3,3,3,3,3,3,1,null,null,null,null,null,20,"twenty"]
[null,null,null,null,null,null,null,null,null,null,null,null,null,null,null,null,null,null,null,null,null,null,null,null,null,null,null,null,null,null,null,null,420,4,20,10,10,10,10,10,{"$f":"$C$4","v":9},2,null,null,null,1,null,null,null,null,null,null,null,null,null,null,null,null,420,4,20,10,10,10,10,10,{"$f":"$C$11","v":9},2,null,null,null,1]
[null,null,null,null,null,null,null,null,null,null,null,null,null,null,null,null,null,null,null,null,null,null,null,null,null,null,null,null,null,null,null,null,508,5,8,10,10,10,{"$f":"$C$4","v":9},6,2,5,null,1,null,null,null,null,null,null,null,null,null,null,null,null,null,null,508,5,8,10,10,10,{"$f":"$C$11","v":9},6,2,5,null,1]
[null,null,null,null,null,null,null,null,null,null,null,null,null,null,null,null,null,null,null,null,null,null,null,null,null,null,null,null,null,null,null,null,512,5,12,{"$f":"$C$4","v":9},4,1,6,6,6,7,1,null,null,null,null,null,null,null,null,null,null,null,null,null,null,null,512,5,12,{"$f":"$C$11","v":9},4,1,6,6,6,7,1]
[null,null,null,null,null,null,null,null,null,null,null,null,null,null,null,null,null,null,null,null,null,null,null,null,null,null,null,null,null,null,null,null,520,5,20,10,10,10,10,{"$f":"$C$4","v":9},2,5,null,null,1,null,null,null,null,null,null,null,null,null,null,null,null,null,520,5,20,10,10,10,10,{"$f":"$C$11","v":9},2,5,null,null,1]
[null,null,null,null,null,null,null,null,null,null,null,null,null,null,null,null,null,null,null,null,null,null,null,null,null,null,null,null,null,null,null,null,608,6,8,10,10,10,10,{"$f":"$C$4","v":9},7,5,null,null,1,null,null,null,null,null,null,null,null,null,null,null,null,null,608,6,8,10,10,10,10,{"$f":"$C$11","v":9},7,5,null,null,1]
[null,null,null,null,null,null,null,null,null,null,null,null,null,null,null,null,null,null,null,null,null,null,null,null,null,null,null,null,null,null,null,null,612,6,12,10,10,10,10,10,{"$f":"$C$4","v":9},5,null,null,null,1,null,null,null,null,null,null,null,null,null,null,null,null,612,6,12,10,10,10,10,10,{"$f":"$C$11","v":9},5,null,null,null,1]
[null,null,null,null,null,null,null,null,null,null,null,null,null,null,null,null,null,null,null,null,null,null,null,null,null,null,null,null,null,null,null,null,620,6,20,10,10,10,10,10,{"$f":"$C$4","v":9},3,null,null,null,1,null,null,null,null,null,null,null,null,null,null,null,null,620,6,20,10,10,10,10,10,{"$f":"$C$11","v":9},3,null,null,null,1]
[null,null,null,null,null,null,null,null,null,null,null,null,null,null,null,null,null,null,null,null,null,null,null,null,null,null,null,null,null,null,null,null,708,7,8,10,10,10,{"$f":"$C$4","v":9},8,7,5,null,1,null,null,null,null,null,null,null,null,null,null,null,null,null,null,708,7,8,10,10,10,{"$f":"$C$11","v":9},8,7,5,null,1]
[null,null,null,null,null,null,null,null,null,null,null,null,null,null,null,null,null,null,null,null,null,null,null,null,null,null,null,null,null,null,null,null,712,7,12,{"$f":"$C$4","v":9},5,8,3,3,3,3,1,null,null,null,null,null,null,null,null,null,null,null,null,null,null,null,712,7,12,{"$f":"$C$11","v":9},5,8,3,3,3,3,1]
[null,null,null,null,null,null,null,null,null,null,null,null,null,null,null,null,null,null,null,null,null,null,null,null,null,null,null,null,null,null,null,null,720,7,20,10,10,10,10,{"$f":"$C$4","v":9},3,5,null,null,1,null,null,null,null,null,null,null,null,null,null,null,null,null,720,7,20,10,10,10,10,{"$f":"$C$11","v":9},3,5,null,null,1]
[null,null,null,null,null,null,null,null,null,null,null,null,null,null,null,null,null,null,null,null,null,null,null,null,null,null,null,null,null,null,null,null,812,8,12,{"$f":"$C$4","v":9},6,6,6,6,6,7,1,null,null,null,null,null,null,null,null,null,null,null,null,null,null,null,812,8,12,{"$f":"$C$11","v":9},6,6,6,6,6,7,1]
[null,null,null,null,null,null,null,null,null,null,null,null,null,null,null,null,null,null,null,null,null,null,null,null,null,null,null,null,null,null,null,null,820,8,20,10,10,10,10,10,{"$f":"$C$4","v":9},4,null,null,null,1,null,null,null,null,null,null,null,null,null,null,null,null,820,8,20,10,10,10,10,10,{"$f":"$C$11","v":9},4,null,null,null,1]
[null,null,null,null,null,null,null,null,null,null,null,null,null,null,null,null,null,null,null,null,null,null,null,null,null,null,null,null,null,null,null,null,912,9,12,10,10,10,10,{"$f":"$C$4","v":9},7,5,null,null,1,null,null,null,null,null,null,null,null,null,null,null,null,null,912,9,12,10,10,10,10,{"$f":"$C$11","v":9},7,5,null,null,1]
[null,null,null,null,null,null,null,null,null,null,null,null,null,null,null,null,null,null,null,null,null,null,null,null,null,null,null,null,null,null,null,null,920,9,20,10,10,10,10,{"$f":"$C$4","v":9},4,5,null,null,1,null,null,null,null,null,null,null,null,null,null,null,null,null,920,9,20,10,10,10,10,{"$f":"$C$11","v":9},4,5,null,null,1]
[null,null,null,null,null,null,null,null,null,null,null,null,null,null,null,null,null,null,null,null,null,null,null,null,null,null,null,null,null,null,null,null,1012,10,12,{"$f":"$C$4","v":9},8,3,3,3,3,3,1,null,null,null,null,null,null,null,null,null,null,null,null,null,null,null,1012,10,12,{"$f":"$C$11","v":9},8,3,3,3,3,3,1]
[null,null,null,null,null,null,null,null,null,null,null,null,null,null,null,null,null,null,null,null,null,null,null,null,null,null,null,null,null,null,null,null,1020,10,20,10,10,10,10,10,{"$f":"$C$4","v":9},5,null,null,null,1,null,null,null,null,null,null,null,null,null,null,null,null,1020,10,20,10,10,10,10,10,{"$f":"$C$11","v":9},5,null,null,null,1]
[null,null,null,null,null,null,null,null,null,null,null,null,null,null,null,null,null,null,null,null,null,null,null,null,null,null,null,null,null,null,null,null,1112,11,12,{"$f":"$C$4","v":9},9,1,6,6,6,7,1,null,null,null,null,null,null,null,null,null,null,null,null,null,null,null,1112,11,12,{"$f":"$C$11","v":9},9,1,6,6,6,7,1]
[null,null,null,null,null,null,null,null,null,null,null,null,null,null,null,null,null,null,null,null,null,null,null,null,null,null,null,null,null,null,null,null,1120,11,20,10,10,10,10,{"$f":"$C$4","v":9},5,5,null,null,1,null,null,null,null,null,null,null,null,null,null,null,null,null,1120,11,20,10,10,10,10,{"$f":"$C$11","v":9},5,5,null,null,1]
[null,null,null,null,null,null,null,null,null,null,null,null,null,null,null,null,null,null,null,null,null,null,null,null,null,null,null,null,null,null,null,null,1220,12,20,10,10,10,10,10,{"$f":"$C$4","v":9},6,null,null,null,1,null,null,null,null,null,null,null,null,null,null,null,null,1220,12,20,10,10,10,10,10,{"$f":"$C$11","v":9},6,null,null,null,1]
[null,null,null,null,null,null,null,null,null,null,null,null,null,null,null,null,null,null,null,null,null,null,null,null,null,null,null,null,null,null,null,null,1320,13,20,10,10,10,10,{"$f":"$C$4","v":9},6,5,null,null,1,null,null,null,null,null,null,null,null,null,null,null,null,null,1320,13,20,10,10,10,10,{"$f":"$C$11","v":9},6,5,null,null,1]
[null,null,null,null,null,null,null,null,null,null,null,null,null,null,null,null,null,null,null,null,null,null,null,null,null,null,null,null,null,null,null,null,1420,14,20,10,10,10,10,10,{"$f":"$C$4","v":9},7,null,null,null,1,null,null,null,null,null,null,null,null,null,null,null,null,1420,14,20,10,10,10,10,10,{"$f":"$C$11","v":9},7,null,null,null,1]
[null,null,null,null,null,null,null,null,null,null,null,null,null,null,null,null,null,null,null,null,null,null,null,null,null,null,null,null,null,null,null,null,1520,15,20,10,10,10,10,{"$f":"$C$4","v":9},7,5,null,null,1,null,null,null,null,null,null,null,null,null,null,null,null,null,1520,15,20,10,10,10,10,{"$f":"$C$11","v":9},7,5,null,null,1]
[null,null,null,null,null,null,null,null,null,null,null,null,null,null,null,null,null,null,null,null,null,null,null,null,null,null,null,null,null,null,null,null,1620,16,20,10,10,10,10,10,{"$f":"$C$4","v":9},8,null,null,null,1,null,null,null,null,null,null,null,null,null,null,null,null,1620,16,20,10,10,10,10,10,{"$f":"$C$11","v":9},8,null,null,null,1]
[null,null,null,null,null,null,null,null,null,null,null,null,null,null,null,null,null,null,null,null,null,null,null,null,null,null,null,null,null,null,null,null,1720,17,20,10,10,10,10,{"$f":"$C$4","v":9},8,5,null,null,1,null,null,null,null,null,null,null,null,null,null,null,null,null,1720,17,20,10,10,10,10,{"$f":"$C$11","v":9},8,5,null,null,1]
[null,null,null,null,null,null,null,null,null,null,null,null,null,null,null,null,null,null,null,null,null,null,null,null,null,null,null,null,null,null,null,null,1820,18,20,10,10,10,10,10,{"$f":"$C$4","v":9},9,null,null,null,1,null,null,null,null,null,null,null,null,null,null,null,null,1820,18,20,10,10,10,10,10,{"$f":"$C$11","v":9},9,null,null,null,1]
[null,null,null,null,null,null,null,null,null,null,null,null,null,null,null,null,null,null,null,null,null,null,null,null,null,null,null,null,null,null,null,null,1920,19,20,10,10,10,10,{"$f":"$C$4","v":9},9,5,null,null,1,null,null,null,null,null,null,null,null,null,null,null,null,null,1920,19,20,10,10,10,10,{"$f":"$C$11","v":9},9,5,null,null,1]

{"sheet":"FUEL","index":9,"n_rows":28,"n_cols":44,"rows_kept":28,"cut":false,"hidden":false,"merged":[[14,2,15,4],[14,6,14,8],[15,6,15,8],[3,2,3,7],[14,20,15,28],[14,10,15,18],[14,19,15,19],[14,9,15,9],[3,11,3,16],[3,20,3,25],[14,5,15,5]]}
[null,null,null,null,1]
[null,null,{"$f":"IF(E1=1,\"The cost of each fuel is given in pence per litre.\",\"The cost of each fuel is given in cents per litre.\")","v":"The cost of each fuel is given in pence per litre."},null,null,null,null,null,null,null,null,null,null,null,null,null,null,null,null,null,null,null,null,null,null,null,null,null,null,{"$f":"CALCVOLU!AG2","v":"𝒍"}]
[null,null,{"$f":"INT(70*RAND())+1-30","v":23},{"$f":"IF(RAND()>0.5,0.9,0.5)","v":0.9},{"$f":"D3+C3","v":23.9},{"$f":"IF(I3<0,I3+10,I3)","v":2},{"$f":"MOD(C3,10)","v":3},{"$f":"10*D3","v":9},{"$f":"($C$3-$G$3)/10","v":2},null,{"$f":"INT(5*RAND())+1","v":1},{"$f":"ROUND(N3-M3,0)","v":22},{"$f":"D3","v":0.9},{"$f":"E3-K3","v":22.9},{"$f":"IF(S3<0,S3+10,S3)","v":2},{"$f":"MOD(L3,10)","v":2},{"$f":"10*M3","v":9},null,{"$f":"($L$3-$P$3)/10","v":2},{"$f":"INT(5*RAND())+1","v":2},{"$f":"ROUND(W3-V3,0)","v":20},{"$f":"M3","v":0.9},{"$f":"N3-T3","v":20.9},{"$f":"10*V3","v":9},{"$f":"IF(AD3<0,AD3+10,AD3)","v":2},{"$f":"MOD(U3,10)","v":0},null,null,null,{"$f":"($U$3-$Z$3)/10","v":2},null,{"$f":"IF(I3<0,0,1)","v":1},{"$f":"IF(S3<0,0,1)","v":1},{"$f":"IF(AD3<0,0,1)","v":1}]
[null,null,"Unleaded",null,null,null,null,null,null,null,null,"Diesel",null,null,null,null,null,null,null,null,"Bio-Fuel"]
[]
[null,{"$f":"IF(RAND()>0.5,1,0)","v":1}]
[]
[null,null,{"$f":"INT(3*RAND())+1","v":2},{"$f":"IF(C8=1,100+$E$3,IF(C8=2,100+$N$3,100+$W$3))","v":122.9},{"$f":"INT(50*RAND())+10","v":34},{"$f":"INT(10*RAND())+0","v":5},{"$f":"INT(9*RAND())+1","v":9},{"$f":"E8+F8/10+G8/100","v":34.590000000000003},{"$f":"IF(C8=1,$C$4,IF(C8=2,$L$4,$U$4))","v":"Diesel"},null,null,{"$f":"IF(C8=1,INT(2*RAND())+2,IF(C8=2,IF(RAND()>0.5,1,3),INT(2*RAND())+1))","v":1},{"$f":"IF(L8=1,100+$E$3,IF(L8=2,100+$N$3,100+$W$3))","v":123.9},{"$f":"INT(46*RAND())+5","v":8},null,null,null,{"$f":"IF(L8=1,$C$4,IF(L8=2,$L$4,$U$4))","v":"Unleaded"}]
[null,null,{"$f":"IF(B6=1,CONCATENATE(\"How much does \",H8,\" \",AD2,\" of \",I8,\" cost?\"),CONCATENATE(\"Calculate the cost of \",H8,\" \",AD2,\" of \",I8,\".\"))","v":"How much does 34.59 𝒍 of Diesel cost?"},null,null,null,null,null,null,null,null,null,null,null,null,null,null,null,null,null,null,null,null,null,null,null,null,null,null,null,null,null,{"$f":"ROUND(H8*D8,0)","v":4251},{"$f":"IF(AG9<100,1,0)","v":0},{"$f":"IF(AG9/100=ROUNDDOWN(AG9/100,0),1,0)","v":0},{"$f":"IF(AG9/10=ROUNDDOWN(AG9/10,0),1,0)","v":0},{"$f":"AH9+AI9*2+AJ9*4","v":0},{"$f":"IF(AK9=0,CONCATENATE($R$28,ROUND(AG9/100,2)),IF(AK9=1,CONCATENATE(ROUND(AG9,0),$S$28),IF(AK9=4,CONCATENATE($R$28,AG9/100,\"0\"),IF(AK9=5,CONCATENATE(AG9,$S$28),IF(AK9=6,CONCATENATE($R$28,AG9/100),\"xxx\")))))","v":"£42.51"}]
[]
[null,null,null,null,"cost","=",{"$f":"CONCATENATE(H8)","v":"34.59"},null,null,"×",{"$f":"CONCATENATE($D$8/100)","v":"1.229"},null,null,"=",{"$f":"CONCATENATE(H8*(D8/100))","v":"42.51111"},null,null,null,null,"=",{"$f":"CONCATENATE(AL9,\" (nearest \",S28,\")\")","v":"£42.51 (nearest p)"}]
[]
[null,null,{"$f":"IF(B6=1,CONCATENATE(\"I have \",$R$28,N8,\". What volume of \",R8,\" can I buy?\"),CONCATENATE(\"How much \",R8,\" can I buy if I spend \",$R$28,N8,\"?\"))","v":"I have £8. What volume of Unleaded can I buy?"},null,null,null,null,null,null,null,null,null,null,null,null,null,null,null,null,null,null,null,null,null,null,null,null,null,null,null,null,null,2,{"$f":"N8/M8*100","v":6.456820016142049},{"$f":"AH13^1","v":6.456820016142049},{"$f":"CONCATENATE(AH13)","v":"6.45682001614205"},{"$f":"IF(AH13=0,CONCATENATE(\"0\",AH15,\"\"),CONCATENATE(AN13,AM13))","v":"6.46 𝒍 (2 d.p.)"},{"$f":"CONCATENATE(ROUND(AJ14,9))","v":"6.456820016"},{"$f":"IF(AN14=0,CONCATENATE(AH15),CONCATENATE(AR14,AH15,\" (\",AG13,\" d.p.)\"))","v":" 𝒍 (2 d.p.)"},{"$f":"IF(AN14=0,AI14,AH14)","v":6.46},{"$f":"ROUND(100*AH14,0)","v":646},{"$f":"AO13-AO14*100","v":46},{"$f":"IF(AN14=0,\"\",IF(AP14=0,\".0\",\"\"))","v":""},{"$f":"AO13-AO14*100-AP14*10","v":6}]
[null,null,null,null,null,null,null,null,null,null,null,null,null,null,null,null,null,null,null,null,null,null,null,null,null,null,null,null,null,null,null,null,{"$f":"ROUNDDOWN(AI13,0)","v":6},{"$f":"ROUND(AI13,AG13)","v":6.46},{"$f":"ROUND(AI13,6)","v":6.4568199999999996},{"$f":"ROUND(AI13,9)","v":6.456820016},{"$f":"ROUND(AJ14-AG14,9)","v":0.456820016},{"$f":"ROUND(AI14-AG14,9)","v":0.45682},{"$f":"ROUND(AJ14-AG14,9)","v":0.456820016},{"$f":"AM14-AL14","v":1.5999999991578306E-8},{"$f":"ROUNDDOWN(AO13/100,0)","v":6},{"$f":"ROUNDDOWN(AP13/10,0)","v":4},{"$f":"IF(AR13=0,0,\"\")","v":""},{"$f":"IF(AG13=2,IF(AR13=0,CONCATENATE(AQ13,AQ14),AQ14),AQ13)","v":""}]
[null,null,"fuel",null,null,"=",{"$f":"CONCATENATE(\"    \",N8,\"    \")","v":"    8    "},null,null,"=",{"$f":"CONCATENATE(ROUND(N8/M8*100,8))","v":"6.45682002"},null,null,null,null,null,null,null,null,"=",{"$f":"AK13","v":"6.46 𝒍 (2 d.p.)"},null,null,null,null,null,null,null,null,null,null,null,null,{"$f":"IF(AI15=\"cm\",\" cm\",CONCATENATE(\" \",AD2))","v":" 𝒍"},"litres",null,{"$f":"ROUND(AI13,2)","v":6.46}]
[null,null,null,null,null,null,{"$f":"CONCATENATE(M8/100)","v":"1.239"}]
[]
[]
[]
[]
[]
[]
[]
[]
[]
[]
[]
[null,null,null,null,null,null,null,null,null,null,null,null,null,null,null,null,{"$f":"E1","v":1},{"$f":"IF(Q28=1,\"£\",IF(Q28=2,\"$\",IF(Q28=3,\"€\",\"R\")))","v":"£"},{"$f":"IF(Q28=1,\"p\",\"c\")","v":"p"}]

{"sheet":"BUREAU","index":10,"n_rows":16,"n_cols":38,"rows_kept":16,"cut":false,"hidden":false,"merged":[[14,18,15,28],[14,2,15,2],[15,4,15,7],[14,4,14,7],[14,3,15,3],[14,8,15,8],[14,9,15,15],[14,16,15,17]]}
[]
[null,{"$f":"AJ6","v":1},"Currency exchange rates are displayed below."]
[null,null,null,null,null,{"$f":"(I3-G3)/10","v":1},{"$f":"MOD(I3,10)","v":1},{"$f":"INT(10*RAND())+0","v":7},{"$f":"1*(INT(6*RAND())+10)","v":11},null,null,null,null,null,{"$f":"INT(10*RAND())+0","v":2},{"$f":"INT(10*RAND())+0","v":0},{"$f":"(T3-Y3)/10","v":1},null,null,{"$f":"1*(INT(6*RAND())+10)","v":12},null,null,null,{"$f":"INT(10*RAND())+0","v":6},{"$f":"MOD(T3,10)","v":2},{"$f":"INT(10*RAND())+0","v":9},{"$f":"INT(10*RAND())+0","v":1}]
[]
[]
[null,null,null,null,null,null,null,null,null,null,null,null,null,null,null,null,null,null,null,null,null,null,null,null,null,null,null,null,null,null,null,null,{"$f":"$V$8*$K$8","v":1244.2560000000001},{"$f":"AG6*100","v":124425.60000000001},{"$f":"AH6-ROUND(AH6,0)","v":-0.39999999999417923},{"$f":"IF(AI6=0,0,1)","v":1}]
[]
[null,null,{"$f":"I3/10+H3/100+O3/1000+P3/10000","v":1.1720000000000002},{"$f":"CONCATENATE(C8)","v":"1.172"},null,{"$f":"T3/10+Z3/100+X3/1000+AA3/10000","v":1.2961},{"$f":"CONCATENATE(F8)","v":"1.2961"},{"$f":"IF(RAND()>0.5,1,2)","v":2},{"$f":"IF($H$8=1,\"US Dollars\",\"Euros\")","v":"Euros"},{"$f":"IF($H$8=1,\"$\",\"€\")","v":"€"},{"$f":"IF($H$8=1,$C$8,$F$8)","v":1.2961},{"$f":"IF($H$8=1,\"c\",\"c\")","v":"c"},null,{"$f":"IF($H$8=2,\"dollars\",\"euros\")","v":"dollars"},{"$f":"IF($H$8=2,\"$\",\"€\")","v":"$"},{"$f":"IF($H$8=2,$C$8,$F$8)","v":1.1720000000000002},{"$f":"IF($H$8=2,\"¢\",\"c\")","v":"¢"},null,null,null,null,{"$f":"W8+X8","v":960},{"$f":"100*(INT(9*RAND())+1)","v":900},{"$f":"10*(INT(9*RAND())+1)","v":60},{"$f":"Z8+AA8","v":240},{"$f":"100*(INT(9*RAND())+1)","v":200},{"$f":"10*(INT(9*RAND())+1)","v":40},null,null,null,null,null,null,null,null,null,null,{"$f":"J8","v":"€"}]
[null,{"$f":"IF(RAND()>0.5,1,0)","v":1},{"$f":"IF(B9=1,CONCATENATE(\"How many \",I8,\" can be bought for \",\"£\",V8,\"?\"),CONCATENATE(\"Convert \",\"£\",V8,\" into \",I8,\".\"))","v":"How many Euros can be bought for £960?"},null,null,null,null,null,null,null,null,null,null,null,null,null,null,null,null,null,null,null,null,null,null,null,null,null,null,null,null,null,{"$f":"ROUND(V8*K8*100,0)","v":124426},{"$f":"IF(AG9<100,1,0)","v":0},{"$f":"IF(AG9/100=ROUNDDOWN(AG9/100,0),1,0)","v":0},{"$f":"IF(AG9/10=ROUNDDOWN(AG9/10,0),1,0)","v":0},{"$f":"AH9+AI9*2+AJ9*4","v":0},{"$f":"IF(AK9=0,CONCATENATE(J8,ROUND(AG9/100,2)),IF(AK9=1,CONCATENATE(ROUND(AG9,0),\"p\"),IF(AK9=4,CONCATENATE(J8,AG9/100,\"0\"),IF(AK9=5,CONCATENATE(AG9,\"p\"),IF(AK9=6,CONCATENATE(J8,AG9/100),\"xxx\")))))","v":"€1244.26"}]
[]
[null,null,{"$f":"J8","v":"€"},"=",{"$f":"CONCATENATE($V$8)","v":"960"},null,"×",{"$f":"CONCATENATE($K$8)","v":"1.2961"},null,null,null,"=",{"$f":"CONCATENATE(,$V$8*$K$8,)","v":"1244.256"},null,null,null,null,"=",{"$f":"CONCATENATE($AL$9,\" (nearest \",$L$8,\")\")","v":"€1244.26 (nearest c)"}]
[null,null,null,null,null,null,null,null,null,null,null,null,null,null,null,null,null,null,null,null,null,null,null,null,null,null,null,null,null,null,null,null,{"$f":"ROUND(Y8/P8*100,0)","v":20478},{"$f":"IF(AG12<100,1,0)","v":0},{"$f":"IF(AG12/100=ROUNDDOWN(AG12/100,0),1,0)","v":0},{"$f":"IF(AG12/10=ROUNDDOWN(AG12/10,0),1,0)","v":0},{"$f":"AH12+AI12*2+AJ12*4","v":0},{"$f":"IF(AK12=0,CONCATENATE(\"£\",ROUND(AG12/100,2)),IF(AK12=1,CONCATENATE(ROUND(AG12,0),\"p\"),IF(AK12=4,CONCATENATE(\"£\",AG12/100,\"0\"),IF(AK12=5,CONCATENATE(AG12,\"p\"),IF(AK12=6,CONCATENATE(\"£\",AG12/100),\"xxx\")))))","v":"£204.78"}]
[null,null,{"$f":"IF(B9=1,CONCATENATE(\"Convert \",O8,Y8,\" into UK Pounds.\"),CONCATENATE(\"I change \",O8,Y8,\". How many UK Pounds do I get?\"))","v":"Convert $240 into UK Pounds."}]
[]
[null,null,"£","=",{"$f":"CONCATENATE(\"   \",$Y$8,\"   \")","v":"   240   "},null,null,null,"=",{"$f":"CONCATENATE(\"\",ROUND($Y$8/$P$8,8))","v":"204.778157"},null,null,null,null,null,null,"=",null,{"$f":"CONCATENATE(\"\",$AL$12,\" (nearest p)\")","v":"£204.78 (nearest p)"}]
[null,null,null,null,{"$f":"CONCATENATE($P$8,)","v":"1.172"}]

{"sheet":"CAFEMENU","index":11,"n_rows":66,"n_cols":69,"rows_kept":66,"cut":false,"hidden":false,"merged":[[5,41,6,41]]}
[null,null,null,null,1,4]
[null,null,"Prices of food and drink at a café are shown."]
[null,null,null,null,null,null,null,null,null,null,null,null,null,null,null,null,null,null,null,null,null,null,null,null,null,null,null,null,null,null,null,null,null,null,null,null,null,null,null,null,null,null,null,null,null,null,null,{"$f":"F1","v":4},null,0]
[]
[]
[null,null,null,null,{"$f":"AY21","v":"Shake"},null,null,null,null,null,null,null,null,null,null,null,null,{"$f":"CONCATENATE(AZ21)","v":"85"},{"$f":"$BE$47","v":"p"},null,null,null,null,{"$f":"AY35","v":"Bagel"},null,null,null,null,null,null,null,null,null,null,null,null,{"$f":"BF48","v":"£1.60"},null,null,null,null,{"$f":"IF(BK59<100,\"*\",\"\")","v":"*"}]
[null,null,null,null,{"$f":"AY22","v":"Tea"},null,null,null,null,null,null,null,null,null,null,null,null,{"$f":"CONCATENATE(AZ22)","v":"50"},{"$f":"$BE$47","v":"p"},null,null,null,null,{"$f":"AY36","v":"Pie"},null,null,null,null,null,null,null,null,null,null,null,null,{"$f":"BF49","v":"£2.10"}]
[null,null,null,null,{"$f":"AY23","v":"Juice"},null,null,null,null,null,null,null,null,null,null,null,null,{"$f":"CONCATENATE(AZ23)","v":"90"},{"$f":"$BE$47","v":"p"},null,null,null,null,{"$f":"AY37","v":"Pizza"},null,null,null,null,null,null,null,null,null,null,null,null,{"$f":"BF50","v":"£3.55"}]
[null,null,null,null,{"$f":"AY24","v":"Latté"},null,null,null,null,null,null,null,null,null,null,null,null,{"$f":"CONCATENATE(AZ24)","v":"75"},{"$f":"$BE$47","v":"p"},null,null,null,null,{"$f":"AY38","v":"Cuban"},null,null,null,null,null,null,null,null,null,null,null,null,{"$f":"BF51","v":"£3.15"}]
[]
[null,null,{"$f":"IF(F1=2,BG49,IF(F1=3,BG50,BG52))","v":"I give £20 for 2 shakes, a latté, a bagel and 5 cubans."}]
[null,null,"Find (i) the total cost (ii) change from the note given."]
[]
[null,null,null,null,{"$f":"BG53","v":"2 shakes"},null,null,null,null,null,null,null,null,null,null,null,null,{"$f":"BP53","v":"£1.70"},{"$f":"BQ53","v":""}]
[null,null,null,null,{"$f":"IF(F1=4,BG54,IF(F1=3,BG55,BG55))","v":"1 latté"},null,null,null,null,null,null,null,null,null,null,null,null,{"$f":"IF(F1=4,BP54,IF(F1=3,BP55,BP55))","v":"75"},{"$f":"IF(F1=4,BQ54,\"\")","v":"p"},null,null,null,null,"note",null,null,null,null,null,null,null,null,null,null,null,null,{"$f":"CONCATENATE(BC47,BI58,\".00\")","v":"£20.00"}]
[null,null,null,null,{"$f":"IF(F1=4,BG55,IF(F1=3,BG56,\"total\"))","v":"1 bagel"},null,null,null,null,null,null,null,null,null,null,null,null,{"$f":"IF(F1=4,BP55,IF(F1=3,BP56,BP58))","v":"£1.60"},null,null,null,null,null,"total",null,null,null,null,null,null,null,null,null,null,null,null,{"$f":"CONCATENATE(\"−  \",BP58,\"\")","v":"−  £19.80"}]
[null,null,null,null,{"$f":"IF(F1=4,BG56,IF(F1=3,\"total\",\"\"))","v":"5 cubans"},null,null,null,null,null,null,null,null,null,null,null,null,{"$f":"IF(F1=4,BP56,IF(F1=3,BP58,\"\"))","v":"£15.75"},null,null,null,null,null,"change",null,null,null,null,null,null,null,null,null,null,null,null,{"$f":"BP59","v":"20"},{"$f":"BQ59","v":"p"}]
[null,null,null,null,{"$f":"IF(F1=4,\"total\",\"\")","v":"total"},null,null,null,null,null,null,null,null,null,null,null,null,{"$f":"IF(F1=4,BP58,\"\")","v":"£19.80"}]
[]
[null,null,null,null,null,null,null,null,null,null,null,null,null,null,null,null,null,null,null,null,null,null,null,null,null,null,null,null,null,null,null,null,null,null,null,null,null,null,null,null,null,null,null,null,null,null,null,null,null,null,null,null,null,{"$f":"INT(12*RAND())+1","v":6},{"$f":"VLOOKUP($BB$20,$BB$21:$BF$32,2)","v":4},{"$f":"VLOOKUP($BB$20,$BB$21:$BF$32,3)","v":10},{"$f":"VLOOKUP($BB$20,$BB$21:$BF$32,4)","v":9},{"$f":"VLOOKUP($BB$20,$BB$21:$BF$32,5)","v":3}]
[null,null,null,null,null,null,null,null,null,null,null,null,null,null,null,null,null,null,null,null,null,null,null,null,null,null,null,null,null,null,null,null,null,null,null,null,null,null,null,null,null,null,null,null,null,null,1,"Coffee",{"$f":"5*(INT(8*RAND())+6)","v":50},{"$f":"BC20","v":4},{"$f":"VLOOKUP(AX21,$AU$21:$AV$30,2)","v":"Shake"},{"$f":"VLOOKUP(AX21,$AU$21:$AW$30,3)","v":85},{"$f":"INT(3*RAND())+1","v":3},1,{"$f":"$BA$21","v":3},{"$f":"$BA$22","v":4},{"$f":"$BA$23","v":9},{"$f":"$BA$24","v":10},null,1,"coffee"]
[null,null,null,null,null,null,null,null,null,null,null,null,null,null,null,null,null,null,null,null,null,null,null,null,null,null,null,null,null,null,null,null,null,null,null,null,null,null,null,null,null,null,null,null,null,null,2,"Mocha",{"$f":"5*(INT(6*RAND())+14)","v":90},{"$f":"BD20","v":10},{"$f":"VLOOKUP(AX22,$AU$21:$AV$30,2)","v":"Tea"},{"$f":"VLOOKUP(AX22,$AU$21:$AW$30,3)","v":50},{"$f":"INT(3*RAND())+4","v":4},2,{"$f":"$BA$21","v":3},{"$f":"$BA$23","v":9},{"$f":"$BA$24","v":10},{"$f":"$BA$22","v":4},null,2,"mocha"]
[null,null,null,null,null,null,null,null,null,null,null,null,null,null,null,null,null,null,null,null,null,null,null,null,null,null,null,null,null,null,null,null,null,null,null,null,null,null,null,null,null,null,null,null,null,null,3,"Latté",{"$f":"5*(INT(6*RAND())+14)","v":75},{"$f":"BE20","v":9},{"$f":"VLOOKUP(AX23,$AU$21:$AV$30,2)","v":"Juice"},{"$f":"VLOOKUP(AX23,$AU$21:$AW$30,3)","v":90},{"$f":"INT(3*RAND())+7","v":9},3,{"$f":"$BA$21","v":3},{"$f":"$BA$24","v":10},{"$f":"$BA$22","v":4},{"$f":"$BA$23","v":9},null,3,"latté"]
[null,null,null,null,null,null,null,null,null,null,null,null,null,null,null,null,null,null,null,null,null,null,null,null,null,null,null,null,null,null,null,null,null,null,null,null,null,null,null,null,null,null,null,null,null,null,4,"Shake",{"$f":"5*(INT(6*RAND())+14)","v":85},{"$f":"BF20","v":3},{"$f":"VLOOKUP(AX24,$AU$21:$AV$30,2)","v":"Latté"},{"$f":"VLOOKUP(AX24,$AU$21:$AW$30,3)","v":75},{"$f":"IF(BA23=7,INT(3*RAND())+8,IF(BA23=8,INT(2*RAND())+9,10))","v":10},4,{"$f":"$BA$22","v":4},{"$f":"$BA$21","v":3},{"$f":"$BA$24","v":10},{"$f":"$BA$23","v":9},null,4,"shake"]
[null,null,null,null,null,null,null,null,null,null,null,null,null,null,null,null,null,null,null,null,null,null,null,null,null,null,null,null,null,null,null,null,null,null,null,null,null,null,null,null,null,null,null,null,null,null,5,"Cocoa",{"$f":"5*(INT(6*RAND())+14)","v":75},{"$f":"AX21","v":4},{"$f":"VLOOKUP(AX25,$BH$21:$BI$30,2)","v":"shake"},null,null,5,{"$f":"$BA$22","v":4},{"$f":"$BA$23","v":9},{"$f":"$BA$21","v":3},{"$f":"$BA$24","v":10},null,5,"cocoa"]
[null,null,null,null,null,null,null,null,null,null,null,null,null,null,null,null,null,null,null,null,null,null,null,null,null,null,null,null,null,null,null,null,null,null,null,null,null,null,null,null,null,null,null,null,null,null,6,"Milk",{"$f":"5*(INT(8*RAND())+6)","v":45},{"$f":"AX22","v":10},{"$f":"VLOOKUP(AX26,$BH$21:$BI$30,2)","v":"tea"},null,null,6,{"$f":"$BA$22","v":4},{"$f":"$BA$24","v":10},{"$f":"$BA$23","v":9},{"$f":"$BA$21","v":3},null,6,"milk"]
[null,null,null,null,null,null,null,null,null,null,null,null,null,null,null,null,null,null,null,null,null,null,null,null,null,null,null,null,null,null,null,null,null,null,null,null,null,null,null,null,null,null,null,null,null,null,7,"Cola",{"$f":"5*(INT(8*RAND())+6)","v":55},{"$f":"AX23","v":9},{"$f":"VLOOKUP(AX27,$BH$21:$BI$30,2)","v":"juice"},null,null,7,{"$f":"$BA$23","v":9},{"$f":"$BA$21","v":3},{"$f":"$BA$22","v":4},{"$f":"$BA$24","v":10},null,7,"cola"]
[null,null,null,null,null,null,null,null,null,null,null,null,null,null,null,null,null,null,null,null,null,null,null,null,null,null,null,null,null,null,null,null,null,null,null,null,null,null,null,null,null,null,null,null,null,null,8,"Soup",{"$f":"5*(INT(6*RAND())+14)","v":75},{"$f":"AX24","v":3},{"$f":"VLOOKUP(AX28,$BH$21:$BI$30,2)","v":"latté"},null,null,8,{"$f":"$BA$23","v":9},{"$f":"$BA$24","v":10},{"$f":"$BA$21","v":3},{"$f":"$BA$22","v":4},null,8,"soup"]
[null,null,null,null,null,null,null,null,null,null,null,null,null,null,null,null,null,null,null,null,null,null,null,null,null,null,null,null,null,null,null,null,null,null,null,null,null,null,null,null,null,null,null,null,null,null,9,"Juice",{"$f":"5*(INT(10*RAND())+10)","v":90},null,null,null,null,9,{"$f":"$BA$23","v":9},{"$f":"$BA$22","v":4},{"$f":"$BA$24","v":10},{"$f":"$BA$21","v":3},null,9,"juice"]
[null,null,null,null,null,null,null,null,null,null,null,null,null,null,null,null,null,null,null,null,null,null,null,null,null,null,null,null,null,null,null,null,null,null,null,null,null,null,null,null,null,null,null,null,null,null,10,"Tea",{"$f":"5*(INT(8*RAND())+6)","v":50},null,null,null,null,10,{"$f":"$BA$24","v":10},{"$f":"$BA$21","v":3},{"$f":"$BA$23","v":9},{"$f":"$BA$22","v":4},null,10,"tea"]
[null,null,null,null,null,null,null,null,null,null,null,null,null,null,null,null,null,null,null,null,null,null,null,null,null,null,null,null,null,null,null,null,null,null,null,null,null,null,null,null,null,null,null,null,null,null,null,null,null,null,null,null,null,11,{"$f":"$BA$24","v":10},{"$f":"$BA$22","v":4},{"$f":"$BA$21","v":3},{"$f":"$BA$23","v":9}]
[null,null,null,null,null,null,null,null,null,null,null,null,null,null,null,null,null,null,null,null,null,null,null,null,null,null,null,null,null,null,null,null,null,null,null,null,null,null,null,null,null,null,null,null,null,null,null,null,null,null,null,null,null,12,{"$f":"$BA$24","v":10},{"$f":"$BA$23","v":9},{"$f":"$BA$22","v":4},{"$f":"$BA$21","v":3}]
[]
[null,null,null,null,null,null,null,null,null,null,null,null,null,null,null,null,null,null,null,null,null,null,null,null,null,null,null,null,null,null,null,null,null,null,null,null,null,null,null,null,null,null,null,null,null,null,null,null,null,null,null,null,null,{"$f":"INT(12*RAND())+1","v":6},{"$f":"VLOOKUP($BB$34,$BB$35:$BF$46,2)","v":9},{"$f":"VLOOKUP($BB$34,$BB$35:$BF$46,3)","v":27},{"$f":"VLOOKUP($BB$34,$BB$35:$BF$46,4)","v":18},{"$f":"VLOOKUP($BB$34,$BB$35:$BF$46,5)","v":7}]
[null,null,null,null,null,null,null,null,null,null,null,null,null,null,null,null,null,null,null,null,null,null,null,null,null,null,null,null,null,null,null,null,null,null,null,null,null,null,null,null,1,"BLT",{"$f":"RAND()","v":0.79048691407644611},{"$f":"5*(INT(19*RAND())+21)","v":145},{"$f":"5*(INT(19*RAND())+41)","v":270},{"$f":"5*(INT(19*RAND())+61)","v":345},1,"BLT",{"$f":"AS35","v":270},{"$f":"BC34","v":9},{"$f":"VLOOKUP(AX35,$AU$35:$AV$66,2)","v":"Bagel"},{"$f":"VLOOKUP(AX35,$AU$35:$AW$66,3)","v":160},{"$f":"INT(7*RAND())+1","v":7},1,{"$f":"$BA$35","v":7},{"$f":"$BA$36","v":9},{"$f":"$BA$37","v":18},{"$f":"$BA$38","v":27}]
[null,null,null,null,null,null,null,null,null,null,null,null,null,null,null,null,null,null,null,null,null,null,null,null,null,null,null,null,null,null,null,null,null,null,null,null,null,null,null,null,2,"burger",0.93596543098083385,175,{"$f":"5*(INT(19*RAND())+41)","v":225},{"$f":"5*(INT(19*RAND())+61)","v":370},2,"Burger",{"$f":"AT36","v":370},{"$f":"BD34","v":27},{"$f":"VLOOKUP(AX36,$AU$35:$AV$66,2)","v":"Pie"},{"$f":"VLOOKUP(AX36,$AU$35:$AW$66,3)","v":210},{"$f":"INT(7*RAND())+8","v":9},2,{"$f":"$BA$35","v":7},{"$f":"$BA$37","v":18},{"$f":"$BA$38","v":27},{"$f":"$BA$36","v":9}]
[null,null,null,null,null,null,null,null,null,null,null,null,null,null,null,null,null,null,null,null,null,null,null,null,null,null,null,null,null,null,null,null,null,null,null,null,null,null,null,null,3,"burrito",0.52903706556544128,135,220,310,3,"Burrito",{"$f":"AT37","v":310},{"$f":"BE34","v":18},{"$f":"VLOOKUP(AX37,$AU$35:$AV$66,2)","v":"Pizza"},{"$f":"VLOOKUP(AX37,$AU$35:$AW$66,3)","v":355},{"$f":"INT(7*RAND())+15","v":18},3,{"$f":"$BA$35","v":7},{"$f":"$BA$38","v":27},{"$f":"$BA$36","v":9},{"$f":"$BA$37","v":18}]
[null,null,null,null,null,null,null,null,null,null,null,null,null,null,null,null,null,null,null,null,null,null,null,null,null,null,null,null,null,null,null,null,null,null,null,null,null,null,null,null,4,"cake",0.12288944366354193,190,220,340,4,"Cake",{"$f":"AR38","v":190},{"$f":"BF34","v":7},{"$f":"VLOOKUP(AX38,$AU$35:$AV$66,2)","v":"Cuban"},{"$f":"VLOOKUP(AX38,$AU$35:$AW$66,3)","v":315},{"$f":"INT(7*RAND())+22","v":27},4,{"$f":"$BA$36","v":9},{"$f":"$BA$35","v":7},{"$f":"$BA$38","v":27},{"$f":"$BA$37","v":18}]
[null,null,null,null,null,null,null,null,null,null,null,null,null,null,null,null,null,null,null,null,null,null,null,null,null,null,null,null,null,null,null,null,null,null,null,null,null,null,null,null,5,"taco",0.52769912641299621,145,230,315,5,"Taco",{"$f":"AT39","v":315},{"$f":"AX35","v":9},{"$f":"VLOOKUP(AX39,$AO$35:$AP$66,2)","v":"bagel"},null,null,5,{"$f":"$BA$36","v":9},{"$f":"$BA$37","v":18},{"$f":"$BA$35","v":7},{"$f":"$BA$38","v":27}]
[null,null,null,null,null,null,null,null,null,null,null,null,null,null,null,null,null,null,null,null,null,null,null,null,null,null,null,null,null,null,null,null,null,null,null,null,null,null,null,null,6,"cronut",0.53404607307617691,165,280,360,6,"Cronut",{"$f":"AR40","v":165},{"$f":"AX36","v":27},{"$f":"VLOOKUP(AX40,$AO$35:$AP$66,2)","v":"pie"},null,null,6,{"$f":"$BA$36","v":9},{"$f":"$BA$38","v":27},{"$f":"$BA$37","v":18},{"$f":"$BA$35","v":7}]
[null,null,null,null,null,null,null,null,null,null,null,null,null,null,null,null,null,null,null,null,null,null,null,null,null,null,null,null,null,null,null,null,null,null,null,null,null,null,null,null,7,"cuban",0.88882424286072004,135,290,315,7,"Cuban",{"$f":"AT41","v":315},{"$f":"AX37","v":18},{"$f":"VLOOKUP(AX41,$AO$35:$AP$66,2)","v":"pizza"},null,null,7,{"$f":"$BA$37","v":18},{"$f":"$BA$35","v":7},{"$f":"$BA$36","v":9},{"$f":"$BA$38","v":27}]
[null,null,null,null,null,null,null,null,null,null,null,null,null,null,null,null,null,null,null,null,null,null,null,null,null,null,null,null,null,null,null,null,null,null,null,null,null,null,null,null,8,"donut",0.23275624812814555,165,295,385,8,"Donut",{"$f":"AR42","v":165},{"$f":"AX38","v":7},{"$f":"VLOOKUP(AX42,$AO$35:$AP$66,2)","v":"cuban"},null,null,8,{"$f":"$BA$37","v":18},{"$f":"$BA$38","v":27},{"$f":"$BA$35","v":7},{"$f":"$BA$36","v":9}]
[null,null,null,null,null,null,null,null,null,null,null,null,null,null,null,null,null,null,null,null,null,null,null,null,null,null,null,null,null,null,null,null,null,null,null,null,null,null,null,null,9,"bagel",0.47304226855019971,160,250,325,9,"Bagel",{"$f":"AR43","v":160},null,null,null,null,9,{"$f":"$BA$37","v":18},{"$f":"$BA$36","v":9},{"$f":"$BA$38","v":27},{"$f":"$BA$35","v":7}]
[null,null,null,null,null,null,null,null,null,null,null,null,null,null,null,null,null,null,null,null,null,null,null,null,null,null,null,null,null,null,null,null,null,null,null,null,null,null,null,null,10,"fajita",0.23978380430001112,105,285,330,10,"Fajita",{"$f":"AT44","v":330},null,null,null,null,10,{"$f":"$BA$38","v":27},{"$f":"$BA$35","v":7},{"$f":"$BA$37","v":18},{"$f":"$BA$36","v":9}]
[null,null,null,null,null,null,null,null,null,null,null,null,null,null,null,null,null,null,null,null,null,null,null,null,null,null,null,null,null,null,null,null,null,null,null,null,null,null,null,null,11,"fritter",0.48887785007095708,145,225,350,11,"Fritter",{"$f":"AR45","v":145},null,null,null,null,11,{"$f":"$BA$38","v":27},{"$f":"$BA$36","v":9},{"$f":"$BA$35","v":7},{"$f":"$BA$37","v":18}]
[null,null,null,null,null,null,null,null,null,null,null,null,null,null,null,null,null,null,null,null,null,null,null,null,null,null,null,null,null,null,null,null,null,null,null,null,null,null,null,null,12,"gyro",0.41489617058113282,105,230,385,12,"Gyro",{"$f":"AS46","v":230},null,null,null,null,12,{"$f":"$BA$38","v":27},{"$f":"$BA$37","v":18},{"$f":"$BA$36","v":9},{"$f":"$BA$35","v":7}]
[null,null,null,null,null,null,null,null,null,null,null,null,null,null,null,null,null,null,null,null,null,null,null,null,null,null,null,null,null,null,null,null,null,null,null,null,null,null,null,null,13,"hotdog",0.46174648285705944,190,255,380,13,"Hotdog",{"$f":"AR47","v":190},null,null,null,null,{"$f":"E1","v":1},{"$f":"IF(BB47=1,\"£\",IF(BB47=2,\"$\",IF(BB47=3,\"€\",\"R\")))","v":"£"},{"$f":"IF(BB47=1,\"\",\"\")","v":""},{"$f":"IF(BB47=1,\"p\",\"c\")","v":"p"}]
[null,null,null,null,null,null,null,null,null,null,null,null,null,null,null,null,null,null,null,null,null,null,null,null,null,null,null,null,null,null,null,null,null,null,null,null,null,null,null,null,14,"kebab",0.47105332104860254,130,240,365,14,"Kebab",{"$f":"AT48","v":365},null,null,null,{"$f":"AZ35","v":160},{"$f":"IF(BA48<100,1,0)","v":0},{"$f":"IF(BA48/100=ROUNDDOWN(BA48/100,0),1,0)","v":0},{"$f":"IF(BA48/10=ROUNDDOWN(BA48/10,0),1,0)","v":1},{"$f":"BB48+BC48*2+BD48*4","v":4},{"$f":"IF(BE48=0,CONCATENATE($BC$47,ROUND(BA48/100,2)),IF(BE48=1,CONCATENATE(ROUND(BA48,0),$BD$47),IF(BE48=4,CONCATENATE($BC$47,BA48/100,\"0\"),IF(BE48=5,CONCATENATE(BA48,$BD$47),IF(BE48=6,CONCATENATE($BC$47,BA48/100),\"xxx\")))))","v":"£1.60"}]
[null,null,null,null,null,null,null,null,null,null,null,null,null,null,null,null,null,null,null,null,null,null,null,null,null,null,null,null,null,null,null,null,null,null,null,null,null,null,null,null,15,"muffin",0.26281298929065211,120,240,305,15,"Muffin",{"$f":"AR49","v":120},null,null,null,{"$f":"AZ36","v":210},{"$f":"IF(BA49<100,1,0)","v":0},{"$f":"IF(BA49/100=ROUNDDOWN(BA49/100,0),1,0)","v":0},{"$f":"IF(BA49/10=ROUNDDOWN(BA49/10,0),1,0)","v":1},{"$f":"BB49+BC49*2+BD49*4","v":4},{"$f":"IF(BE49=0,CONCATENATE($BC$47,ROUND(BA49/100,2)),IF(BE49=1,CONCATENATE(ROUND(BA49,0),$BD$47),IF(BE49=4,CONCATENATE($BC$47,BA49/100,\"0\"),IF(BE49=5,CONCATENATE(BA49,$BD$47),IF(BE49=6,CONCATENATE($BC$47,BA49/100),\"xxx\")))))","v":"£2.10"},{"$f":"CONCATENATE(\"I give \",BC47,BI58,\" for \",BI53,\" and \",BI55,\".\")","v":"I give £20 for 2 shakes and a bagel."}]
[null,null,null,null,null,null,null,null,null,null,null,null,null,null,null,null,null,null,null,null,null,null,null,null,null,null,null,null,null,null,null,null,null,null,null,null,null,null,null,null,16,"panini",0.352090559162058,135,265,315,16,"Panini",{"$f":"AS50","v":265},null,null,null,{"$f":"AZ37","v":355},{"$f":"IF(BA50<100,1,0)","v":0},{"$f":"IF(BA50/100=ROUNDDOWN(BA50/100,0),1,0)","v":0},{"$f":"IF(BA50/10=ROUNDDOWN(BA50/10,0),1,0)","v":0},{"$f":"BB50+BC50*2+BD50*4","v":0},{"$f":"IF(BE50=0,CONCATENATE($BC$47,ROUND(BA50/100,2)),IF(BE50=1,CONCATENATE(ROUND(BA50,0),$BD$47),IF(BE50=4,CONCATENATE($BC$47,BA50/100,\"0\"),IF(BE50=5,CONCATENATE(BA50,$BD$47),IF(BE50=6,CONCATENATE($BC$47,BA50/100),\"xxx\")))))","v":"£3.55"},{"$f":"CONCATENATE(\"I give \",BC47,BI58,\" for \",BI53,\", \",BI55,\" and \",BI56,\".\")","v":"I give £20 for 2 shakes, a bagel and 5 cubans."}]
[null,null,null,null,null,null,null,null,null,null,null,null,null,null,null,null,null,null,null,null,null,null,null,null,null,null,null,null,null,null,null,null,null,null,null,null,null,null,null,null,17,"pastie",0.71338071688563587,150,235,330,17,"Pastie",{"$f":"AR51","v":150},null,null,null,{"$f":"AZ38","v":315},{"$f":"IF(BA51<100,1,0)","v":0},{"$f":"IF(BA51/100=ROUNDDOWN(BA51/100,0),1,0)","v":0},{"$f":"IF(BA51/10=ROUNDDOWN(BA51/10,0),1,0)","v":0},{"$f":"BB51+BC51*2+BD51*4","v":0},{"$f":"IF(BE51=0,CONCATENATE($BC$47,ROUND(BA51/100,2)),IF(BE51=1,CONCATENATE(ROUND(BA51,0),$BD$47),IF(BE51=4,CONCATENATE($BC$47,BA51/100,\"0\"),IF(BE51=5,CONCATENATE(BA51,$BD$47),IF(BE51=6,CONCATENATE($BC$47,BA51/100),\"xxx\")))))","v":"£3.15"},{"$f":"CONCATENATE(\"I buy \",BI53,\", \",BI54,\", \",BI55,\" and \",BI56,\" with \",BC47,BI58,\".\")","v":"I buy 2 shakes, a latté, a bagel and 5 cubans with £20."}]
[null,null,null,null,null,null,null,null,null,null,null,null,null,null,null,null,null,null,null,null,null,null,null,null,null,null,null,null,null,null,null,null,null,null,null,null,null,null,null,null,18,"pizza",0.46458453962869783,140,285,355,18,"Pizza",{"$f":"AT52","v":355},null,null,{"$f":"INT(6*RAND())+1","v":3},{"$f":"F1","v":4},null,null,null,null,null,{"$f":"CONCATENATE(\"I give \",BC47,BI58,\" for \",BI53,\", \",BI54,\", \",BI55,\" and \",BI56,\".\")","v":"I give £20 for 2 shakes, a latté, a bagel and 5 cubans."}]
[null,null,null,null,null,null,null,null,null,null,null,null,null,null,null,null,null,null,null,null,null,null,null,null,null,null,null,null,null,null,null,null,null,null,null,null,null,null,null,null,19,"quiche",0.20144933880072957,155,265,320,19,"Quiche",{"$f":"AS53","v":265},null,null,{"$f":"VLOOKUP($AZ$52,$BB$53:$BD$58,2)","v":1},{"$f":"IF(F1=4,INT(5*RAND())+1,IF(F1=3,INT(4*RAND())+2,INT(3*RAND())+1))","v":2},1,1,2,{"$f":"IF(AZ53=1,$AZ$21,IF(AZ53=2,$AZ$22,IF(AZ53=3,$AZ$23,$AZ$24)))","v":85},{"$f":"IF(AZ53=1,$AY$21,IF(AZ53=2,$AY$22,IF(AZ53=3,$AY$23,$AY$24)))","v":"Shake"},{"$f":"IF(BA53=1,CONCATENATE(BA53,\" \",BH53,\"\"),CONCATENATE(BA53,\" \",BH53,\"s\"))","v":"2 shakes"},{"$f":"IF(AZ53=1,$AY$25,IF(AZ53=2,$AY$26,IF(AZ53=3,$AY$27,$AY$28)))","v":"shake"},{"$f":"IF(BA53=1,CONCATENATE(\"a \",BH53,\"\"),CONCATENATE(BA53,\" \",BH53,\"s\"))","v":"2 shakes"},{"$f":"BE53*BA53","v":170},{"$f":"BJ53","v":170},{"$f":"IF(BK53<100,1,0)","v":0},{"$f":"IF(BK53/100=ROUNDDOWN(BK53/100,0),1,0)","v":0},{"$f":"IF(BK53/10=ROUNDDOWN(BK53/10,0),1,0)","v":1},{"$f":"BL53+BM53*2+BN53*4","v":4},{"$f":"IF(BO53=0,CONCATENATE($BC$47,ROUND(BK53/100,2)),IF(BO53=1,CONCATENATE(ROUND(BK53,0),$BD$47),IF(BO53=4,CONCATENATE($BC$47,BK53/100,\"0\"),IF(BO53=5,CONCATENATE(BK53,$BD$47),IF(BO53=6,CONCATENATE($BC$47,BK53/100,\".00\"),\"xxx\")))))","v":"£1.70"},{"$f":"IF(OR(BO53=1,BO53=5),$BE$47,\"\")","v":""}]
[null,null,null,null,null,null,null,null,null,null,null,null,null,null,null,null,null,null,null,null,null,null,null,null,null,null,null,null,null,null,null,null,null,null,null,null,null,null,null,null,20,"salad",0.36516951686442278,125,265,380,20,"Salad",{"$f":"AS54","v":265},null,null,{"$f":"VLOOKUP($AZ$52,$BB$53:$BD$58,3)","v":4},{"$f":"IF(BA53=1,INT(4*RAND())+2,1)","v":1},2,1,3,{"$f":"IF(AZ54=1,$AZ$21,IF(AZ54=2,$AZ$22,IF(AZ54=3,$AZ$23,$AZ$24)))","v":75},{"$f":"IF(AZ54=1,$AY$21,IF(AZ54=2,$AY$22,IF(AZ54=3,$AY$23,$AY$24)))","v":"Latté"},{"$f":"IF(BA54=1,CONCATENATE(BA54,\" \",BH54,\"\"),CONCATENATE(BA54,\" \",BH54,\"s\"))","v":"1 latté"},{"$f":"IF(AZ54=1,$AY$25,IF(AZ54=2,$AY$26,IF(AZ54=3,$AY$27,$AY$28)))","v":"latté"},{"$f":"IF(BA54=1,CONCATENATE(\"a \",BH54,\"\"),CONCATENATE(BA54,\" \",BH54,\"s\"))","v":"a latté"},{"$f":"BE54*BA54","v":75},{"$f":"BJ54","v":75},1,0,0,1,"75","p"]
[null,null,null,null,null,null,null,null,null,null,null,null,null,null,null,null,null,null,null,null,null,null,null,null,null,null,null,null,null,null,null,null,null,null,null,null,null,null,null,null,21,"scone",5.8266971635984266E-2,145,295,390,21,"Scone",{"$f":"AR55","v":145},null,null,{"$f":"VLOOKUP($AZ$57,$BB$53:$BD$58,2)","v":1},{"$f":"IF(F1=2,INT(3*RAND())+1,INT(5*RAND())+1)","v":1},3,1,4,{"$f":"IF(AZ55=1,$AZ$35,IF(AZ55=2,$AZ$36,IF(AZ55=3,$AZ$37,$AZ$38)))","v":160},{"$f":"IF(AZ55=1,$AY$35,IF(AZ55=2,$AY$36,IF(AZ55=3,$AY$37,$AY$38)))","v":"Bagel"},{"$f":"IF(BA55=1,CONCATENATE(BA55,\" \",BH55,\"\"),CONCATENATE(BA55,\" \",BH55,\"s\"))","v":"1 bagel"},{"$f":"IF(AZ55=1,$AY$39,IF(AZ55=2,$AY$40,IF(AZ55=3,$AY$41,$AY$42)))","v":"bagel"},{"$f":"IF(BA55=1,CONCATENATE(\"a \",BH55,\"\"),CONCATENATE(BA55,\" \",BH55,\"s\"))","v":"a bagel"},{"$f":"BE55*BA55","v":160},{"$f":"BJ55","v":160},0,0,1,4,"£1.60",""]
[null,null,null,null,null,null,null,null,null,null,null,null,null,null,null,null,null,null,null,null,null,null,null,null,null,null,null,null,null,null,null,null,null,null,null,null,null,null,null,null,22,"sub",0.55304330402120261,125,290,380,22,"Sub",{"$f":"AR56","v":125},null,null,{"$f":"VLOOKUP($AZ$57,$BB$53:$BD$58,3)","v":4},{"$f":"IF(BA55=1,INT(4*RAND())+2,1)","v":5},4,2,3,{"$f":"IF(AZ56=1,$AZ$35,IF(AZ56=2,$AZ$36,IF(AZ56=3,$AZ$37,$AZ$38)))","v":315},{"$f":"IF(AZ56=1,$AY$35,IF(AZ56=2,$AY$36,IF(AZ56=3,$AY$37,$AY$38)))","v":"Cuban"},{"$f":"IF(BA56=1,CONCATENATE(BA56,\" \",BH56,\"\"),CONCATENATE(BA56,\" \",BH56,\"s\"))","v":"5 cubans"},{"$f":"IF(AZ56=1,$AY$39,IF(AZ56=2,$AY$40,IF(AZ56=3,$AY$41,$AY$42)))","v":"cuban"},{"$f":"IF(BA56=1,CONCATENATE(\"a \",BH56,\"\"),CONCATENATE(BA56,\" \",BH56,\"s\"))","v":"5 cubans"},{"$f":"BE56*BA56","v":1575},{"$f":"BJ56","v":1575},0,0,0,0,"£15.75",""]
[null,null,null,null,null,null,null,null,null,null,null,null,null,null,null,null,null,null,null,null,null,null,null,null,null,null,null,null,null,null,null,null,null,null,null,null,null,null,null,null,23,"fry-up",0.11098376875588767,195,290,380,23,"Fry-up",{"$f":"AT57","v":380},null,null,{"$f":"INT(6*RAND())+1","v":3},null,5,2,4,null,null,null,null,null,null,90,1,0,1,5,"90","p"]
[null,null,null,null,null,null,null,null,null,null,null,null,null,null,null,null,null,null,null,null,null,null,null,null,null,null,null,null,null,null,null,null,null,null,null,null,null,null,null,null,24,"tart",4.1365747301337019E-2,190,245,350,24,"Tart",{"$f":"AR58","v":190},null,null,null,null,6,3,4,null,null,null,null,{"$f":"BJ58/100","v":20},{"$f":"IF(BK58>1999,5000,IF(BK58>999,2000,IF(BK58>499,1000,500)))","v":2000},{"$f":"IF(F1=4,BK53+BK54+BK55+BK56,IF(F1=3,BK53+0+BK55+BK56,BK53+0+BK55+0))","v":1980},0,0,1,4,"£19.80",""]
[null,null,null,null,null,null,null,null,null,null,null,null,null,null,null,null,null,null,null,null,null,null,null,null,null,null,null,null,null,null,null,null,null,null,null,null,null,null,null,null,25,"toastie",1.7544457930542823E-2,125,230,375,25,"Toastie",{"$f":"AR59","v":125},null,null,null,null,null,null,null,null,null,null,null,null,null,{"$f":"BJ58-BK58","v":20},1,0,1,5,"20","p"]
[null,null,null,null,null,null,null,null,null,null,null,null,null,null,null,null,null,null,null,null,null,null,null,null,null,null,null,null,null,null,null,null,null,null,null,null,null,null,null,null,26,"trifle",0.25219897623244925,155,295,315,26,"Trifle",{"$f":"AR60","v":155}]
[null,null,null,null,null,null,null,null,null,null,null,null,null,null,null,null,null,null,null,null,null,null,null,null,null,null,null,null,null,null,null,null,null,null,null,null,null,null,null,null,27,"pie",0.93879482017960358,125,210,355,27,"Pie",{"$f":"AS61","v":210}]
[null,null,null,null,null,null,null,null,null,null,null,null,null,null,null,null,null,null,null,null,null,null,null,null,null,null,null,null,null,null,null,null,null,null,null,null,null,null,null,null,28,"yogurt",0.21714000964104996,160,285,340,28,"Yogurt",{"$f":"AR62","v":160}]
[null,null,null,null,null,null,null,null,null,null,null,null,null,null,null,null,null,null,null,null,null,null,null,null,null,null,null,null,null,null,null,null,null,null,null,null,null,null,null,null,29,"x",null,null,null,null,29,"x"]
[null,null,null,null,null,null,null,null,null,null,null,null,null,null,null,null,null,null,null,null,null,null,null,null,null,null,null,null,null,null,null,null,null,null,null,null,null,null,null,null,30,"x",null,null,null,null,30,"x"]
[null,null,null,null,null,null,null,null,null,null,null,null,null,null,null,null,null,null,null,null,null,null,null,null,null,null,null,null,null,null,null,null,null,null,null,null,null,null,null,null,31,"x",null,null,null,null,31,"x"]
[null,null,null,null,null,null,null,null,null,null,null,null,null,null,null,null,null,null,null,null,null,null,null,null,null,null,null,null,null,null,null,null,null,null,null,null,null,null,null,null,32,"x",null,null,null,null,32,"x"]

{"sheet":"REALMONEY","index":12,"n_rows":454,"n_cols":52,"rows_kept":454,"cut":false,"hidden":false,"merged":[]}
[null,null,null,null,1]
[null,null,{"$f":"CONCATENATE(\"Prices and quantities of two items are given.\",)","v":"Prices and quantities of two items are given."},null,null,null,null,null,null,null,null,null,null,null,null,null,null,null,null,null,null,null,null,null,null,null,null,null,null,null,null,null,null,null,{"$f":"ROUND(AJ34*100,0)","v":590},{"$f":"IF(AI2<100,1,0)","v":0},{"$f":"IF(AI2/100=ROUNDDOWN(AI2/100,0),1,0)","v":0},{"$f":"IF(AI2/10=ROUNDDOWN(AI2/10,0),1,0)","v":1},{"$f":"AJ2+AK2*2+AL2*4","v":4},{"$f":"IF(AM2=0,CONCATENATE(AR2,ROUND(AI2/100,2)),IF(AM2=1,CONCATENATE(ROUND(AI2,0),AO2),IF(AM2=4,CONCATENATE(AR2,AI2/100,\"0\"),IF(AM2=5,CONCATENATE(AI2,AO2),IF(AM2=6,CONCATENATE(AR2,AI2/100),AP2)))))","v":"£5.90"},{"$f":"IF(AQ2=1,\"p\",\"c\")","v":"p"},{"$f":"IF(AQ2=1,\"0p\",IF(AQ2=2,\"0c\",\"0c\"))","v":"0p"},{"$f":"E1","v":1},{"$f":"IF(AQ2=1,\"£\",IF(AQ2=2,\"$\",IF(AQ2=3,\"€\",\"R\")))","v":"£"}]
[null,null,null,null,null,null,null,null,null,null,null,null,null,null,null,null,null,null,null,null,null,null,null,null,null,null,null,null,null,null,null,null,null,null,{"$f":"1-AT31","v":0},{"$f":"AI3","v":0}]
[null,null,{"$f":"AF26","v":"Nineteen designer tiles at £1.10 each and four"}]
[null,null,{"$f":"AF27","v":"plain tiles at 80p each are purchased together."}]
[null,null,{"$f":"CONCATENATE(AF28,\" given.\")","v":"Find (i) the total cost (ii) change from £30 given."}]
[]
[null,null,null,null,null,null,null,null,null,null,null,null,null,null,"total cost",{"$f":"AK29","v":"="},{"$f":"CONCATENATE(AL29)","v":"(19 × 1.1) + (4 × 0.8)"}]
[null,null,null,null,null,null,null,null,null,null,null,null,null,null,null,{"$f":"AK30","v":"="},{"$f":"CONCATENATE(AL30)","v":"20.9 + 3.2"}]
[null,null,null,null,null,null,null,null,null,null,null,null,null,null,null,{"$f":"AK31","v":"="},{"$f":"CONCATENATE(AL31)","v":"24.1"}]
[]
[null,null,null,null,null,null,null,null,null,null,null,null,null,null,{"$f":"O8","v":"total cost"},{"$f":"AK32","v":"="},{"$f":"CONCATENATE(AL32)","v":"£24.10"}]
[null,null,null,null,null,null,null,null,null,null,null,null,null,null,"change",{"$f":"AK33","v":"="},{"$f":"CONCATENATE(AL35)","v":"30 − 24.1"}]
[null,null,null,null,null,null,null,null,null,null,null,null,null,null,null,"=",{"$f":"CONCATENATE(AJ34)","v":"5.9"}]
[]
[null,null,null,null,null,null,null,null,null,null,null,null,null,null,{"$f":"O13","v":"change"},{"$f":"AK34","v":"="},{"$f":"CONCATENATE(AN2)","v":"£5.90"}]
[]
[]
[]
[]
[]
[]
[]
[]
[null,null,null,null,null,null,null,null,null,null,null,null,null,null,null,null,null,null,null,null,null,null,null,null,null,null,null,null,null,null,{"$f":"2*(INT(10*RAND())+1)-1","v":15}]
[null,null,null,null,null,null,null,null,null,null,null,null,null,null,null,null,null,null,null,null,null,null,null,null,null,null,null,null,null,null,{"$f":"11*AE25-10","v":155},{"$f":"VLOOKUP(AE26,$AE$37:$AU$325,2)","v":"Nineteen designer tiles at £1.10 each and four"}]
[null,null,null,null,null,null,null,null,null,null,null,null,null,null,null,null,null,null,null,null,null,null,null,null,null,null,null,null,null,null,{"$f":"AE26+1","v":156},{"$f":"VLOOKUP(AE27,$AE$37:$AU$325,2)","v":"plain tiles at 80p each are purchased together."}]
[null,null,null,null,null,null,null,null,null,null,null,null,null,null,null,null,{"$f":"E1","v":1},{"$f":"IF(Q28=1,\"£\",IF(Q28=2,\"$\",IF(Q28=3,\"€\",\"R\")))","v":"£"},{"$f":"IF(Q28=1,\"p\",\"c\")","v":"p"},null,null,null,null,null,null,null,null,null,null,null,157,{"$f":"VLOOKUP(AE28,$AE$37:$AU$325,2)","v":"Find (i) the total cost (ii) change from £30"}]
[null,null,null,null,null,null,null,null,null,null,null,null,null,null,null,null,null,null,null,null,null,null,null,null,null,null,null,null,null,null,158,null,null,null,null,{"$f":"VLOOKUP(AE29,$AE$37:$AU$325,6)","v":"Total cost"},"=",{"$f":"VLOOKUP(AE29,$AE$37:$AU$325,8)","v":"(19 × 1.1) + (4 × 0.8)"}]
[null,null,null,null,null,null,null,null,null,null,null,null,null,null,null,null,null,null,null,null,null,null,null,null,null,null,null,null,null,null,159,null,null,null,null,0,"=","20.9 + 3.2"]
[null,null,null,null,null,null,null,null,null,null,null,null,null,null,null,null,null,null,null,null,null,null,null,null,null,null,null,null,null,null,160,null,null,null,null,0,"=","24.1",null,null,null,null,null,null,null,{"$f":"VLOOKUP(AE31,$AE$37:$AU$325,16)","v":1}]
[null,null,null,null,null,null,null,null,null,null,null,null,null,null,null,null,null,null,null,null,null,null,null,null,null,null,null,null,null,null,161,null,null,null,null,0,"=","£24.10"]
[null,null,null,null,null,null,null,null,null,null,null,null,null,null,null,null,null,null,null,null,null,null,null,null,null,null,null,null,null,null,162,null,null,null,null,"change","=","£30 − £24.10"]
[null,null,null,null,null,null,null,null,null,null,null,null,null,null,null,null,null,null,null,null,null,null,null,null,null,null,null,null,null,null,163,null,null,null,null,5.9,"=","£5.90",{"$f":"VLOOKUP(AE34,$AE$37:$AU$325,9)","v":0}]
[null,null,null,null,null,null,null,null,null,null,null,null,null,null,null,null,null,null,null,null,null,null,null,null,null,null,null,null,null,null,164,null,null,null,null,0,"=","30 − 24.1",{"$f":"VLOOKUP(AE35,$AE$37:$AU$325,9)","v":0}]
[null,null,null,null,null,null,null,null,null,null,null,null,null,null,null,null,null,null,null,null,null,null,null,null,null,null,null,null,null,null,165,null,null,null,null,0,"=",0,{"$f":"VLOOKUP(AE36,$AE$37:$AU$325,9)","v":0}]
[null,null,null,null,null,null,null,null,null,null,null,null,null,null,null,null,null,null,null,null,null,null,null,null,null,null,null,null,null,null,1,{"$f":"CONCATENATE(AQ43,\" adult tickets at \",AT37,\" each and \",AP44)","v":"Nineteen adult tickets at £6.55 each and five"},null,null,null,null,null,null,null,null,{"$f":"ROUND((INT(5*RAND())+12)/2*100+AR43,0)","v":655},{"$f":"IF(AO37<100,1,0)","v":0},{"$f":"IF(AO37/100=ROUNDDOWN(AO37/100,0),1,0)","v":0},{"$f":"IF(AO37/10=ROUNDDOWN(AO37/10,0),1,0)","v":0},{"$f":"AP37+AQ37*2+AR37*4","v":0},{"$f":"IF(AS37=0,CONCATENATE($R$28,ROUND(AO37/100,2)),IF(AS37=1,CONCATENATE(ROUND(AO37,0),$S$28),IF(AS37=4,CONCATENATE($R$28,AO37/100,\"0\"),IF(AS37=5,CONCATENATE(AO37,$S$28),IF(AS37=6,CONCATENATE($R$28,AO37/100),\"xxx\")))))","v":"£6.55"},null,null,null,1,"one","One"]
[null,null,null,null,null,null,null,null,null,null,null,null,null,null,null,null,null,null,null,null,null,null,null,null,null,null,null,null,null,null,2,{"$f":"CONCATENATE(\"child tickets at \",AT38,\" each are purchased together.\")","v":"child tickets at £3.25 each are purchased together."},null,null,null,null,null,null,null,null,{"$f":"ROUND((INT(5*RAND())+5)/2*100+AR44,0)","v":325},{"$f":"IF(AO38<100,1,0)","v":0},{"$f":"IF(AO38/100=ROUNDDOWN(AO38/100,0),1,0)","v":0},{"$f":"IF(AO38/10=ROUNDDOWN(AO38/10,0),1,0)","v":0},{"$f":"AP38+AQ38*2+AR38*4","v":0},{"$f":"IF(AS38=0,CONCATENATE($R$28,ROUND(AO38/100,2)),IF(AS38=1,CONCATENATE(ROUND(AO38,0),$S$28),IF(AS38=4,CONCATENATE($R$28,AO38/100,\"0\"),IF(AS38=5,CONCATENATE(AO38,$S$28),IF(AS38=6,CONCATENATE($R$28,AO38/100),\"xxx\")))))","v":"£3.25"},null,null,null,2,"two","Two"]
[null,null,null,null,null,null,null,null,null,null,null,null,null,null,null,null,null,null,null,null,null,null,null,null,null,null,null,null,null,null,3,{"$f":"CONCATENATE(\"Find (i) the total cost (ii) change from \",AT40,\"\")","v":"Find (i) the total cost (ii) change from £150"},null,null,null,null,null,null,null,null,{"$f":"ROUND(AO43*AO37+AO44*AO38,0)","v":14070},{"$f":"IF(AO39<100,1,0)","v":0},{"$f":"IF(AO39/100=ROUNDDOWN(AO39/100,0),1,0)","v":0},{"$f":"IF(AO39/10=ROUNDDOWN(AO39/10,0),1,0)","v":1},{"$f":"AP39+AQ39*2+AR39*4","v":4},{"$f":"IF(AS39=0,CONCATENATE($R$28,ROUND(AO39/100,2)),IF(AS39=1,CONCATENATE(ROUND(AO39,0),$S$28),IF(AS39=4,CONCATENATE($R$28,AO39/100,\"0\"),IF(AS39=5,CONCATENATE(AO39,$S$28),IF(AS39=6,CONCATENATE($R$28,AO39/100),\"xxx\")))))","v":"£140.70"},null,null,null,3,"three","Three"]
[null,null,null,null,null,null,null,null,null,null,null,null,null,null,null,null,null,null,null,null,null,null,null,null,null,null,null,null,null,null,4,null,null,null,null,"Total cost","=",{"$f":"CONCATENATE(\"(\",AO43,\" × \",AO37/100,\") + (\",AO44,\" × \",AO38/100,\")\")","v":"(19 × 6.55) + (5 × 3.25)"},null,null,{"$f":"ROUNDUP(AO39,-3)","v":15000},{"$f":"IF(AO40<100,1,0)","v":0},{"$f":"IF(AO40/100=ROUNDDOWN(AO40/100,0),1,0)","v":1},{"$f":"IF(AO40/10=ROUNDDOWN(AO40/10,0),1,0)","v":1},{"$f":"AP40+AQ40*2+AR40*4","v":6},{"$f":"IF(AS40=0,CONCATENATE($R$28,ROUND(AO40/100,2)),IF(AS40=1,CONCATENATE(ROUND(AO40,0),$S$28),IF(AS40=4,CONCATENATE($R$28,AO40/100,\"0\"),IF(AS40=5,CONCATENATE(AO40,$S$28),IF(AS40=6,CONCATENATE($R$28,AO40/100),\"xxx\")))))","v":"£150"},null,null,null,4,"four","Four"]
[null,null,null,null,null,null,null,null,null,null,null,null,null,null,null,null,null,null,null,null,null,null,null,null,null,null,null,null,null,null,5,null,null,null,null,null,"=",{"$f":"CONCATENATE(AO43*AO37/100,\" + \",AO44*AO38/100)","v":"124.45 + 16.25"},null,null,{"$f":"ROUND(AO40-AO39,0)","v":930},{"$f":"IF(AO41<100,1,0)","v":0},{"$f":"IF(AO41/100=ROUNDDOWN(AO41/100,0),1,0)","v":0},{"$f":"IF(AO41/10=ROUNDDOWN(AO41/10,0),1,0)","v":1},{"$f":"AP41+AQ41*2+AR41*4","v":4},{"$f":"IF(AS41=0,CONCATENATE($R$28,ROUND(AO41/100,2)),IF(AS41=1,CONCATENATE(ROUND(AO41,0),$S$28),IF(AS41=4,CONCATENATE($R$28,AO41/100,\"0\"),IF(AS41=5,CONCATENATE(AO41,$S$28),IF(AS41=6,CONCATENATE($R$28,AO41/100),\"xxx\")))))","v":"£9.30"},null,null,null,5,"five","Five"]
[null,null,null,null,null,null,null,null,null,null,null,null,null,null,null,null,null,null,null,null,null,null,null,null,null,null,null,null,null,null,6,null,null,null,null,null,"=",{"$f":"CONCATENATE(AO43*AO37/100+AO44*AO38/100)","v":"140.7"},null,null,19,{"$f":"1*(INT(AO42*RAND())+1)","v":18},{"$f":"1*(INT((AO42-1)*RAND())+1)","v":5},{"$f":"AQ42+AP42","v":23},{"$f":"MOD(AR42-1,AO42)+1","v":4},{"$f":"IF(AO41=0,0,1)","v":1},null,null,null,6,"six","Six"]
[null,null,null,null,null,null,null,null,null,null,null,null,null,null,null,null,null,null,null,null,null,null,null,null,null,null,null,null,null,null,7,null,null,null,null,null,"=",{"$f":"AT39","v":"£140.70"},null,null,{"$f":"AP42+1","v":19},{"$f":"VLOOKUP(AO43,$AX$37:$AY$56,2)","v":"nineteen"},{"$f":"VLOOKUP(AO43,$AX$37:$AZ$56,3)","v":"Nineteen"},{"$f":"5*(INT(9*RAND())+1)","v":5},null,null,null,null,null,7,"seven","Seven"]
[null,null,null,null,null,null,null,null,null,null,null,null,null,null,null,null,null,null,null,null,null,null,null,null,null,null,null,null,null,null,8,null,null,null,null,"change","=",{"$f":"CONCATENATE(AT40,\" − \",AT39)","v":"£150 − £140.70"},null,null,{"$f":"AS42+1","v":5},{"$f":"VLOOKUP(AO44,$AX$37:$AY$56,2)","v":"five"},{"$f":"VLOOKUP(AO44,$AX$37:$AZ$56,3)","v":"Five"},{"$f":"5*(INT(9*RAND())+1)","v":25},null,null,null,null,null,8,"eight","Eight"]
[null,null,null,null,null,null,null,null,null,null,null,null,null,null,null,null,null,null,null,null,null,null,null,null,null,null,null,null,null,null,9,null,null,null,null,{"$f":"AO41/100","v":9.3000000000000007},"=",{"$f":"AT41*1","v":9.3000000000000007},null,null,{"$f":"AO40/100","v":150},null,null,null,null,null,null,null,null,9,"nine","Nine"]
[null,null,null,null,null,null,null,null,null,null,null,null,null,null,null,null,null,null,null,null,null,null,null,null,null,null,null,null,null,null,10,null,null,null,null,null,"=",{"$f":"CONCATENATE(AO45,\" − \",AL42)","v":"150 − 140.7"},null,null,null,null,null,null,null,null,null,null,null,10,"ten","Ten"]
[null,null,null,null,null,null,null,null,null,null,null,null,null,null,null,null,null,null,null,null,null,null,null,null,null,null,null,null,null,null,11,null,null,null,null,null,null,{"$f":"AO41/100","v":9.3000000000000007},null,null,null,null,null,null,null,null,null,null,null,11,"eleven","Eleven"]
[null,null,null,null,null,null,null,null,null,null,null,null,null,null,null,null,null,null,null,null,null,null,null,null,null,null,null,null,null,null,{"$f":"AE37+11","v":12},null,null,null,null,null,null,null,null,null,null,null,null,null,null,null,null,null,null,12,"twelve","Twelve"]
[null,null,null,null,null,null,null,null,null,null,null,null,null,null,null,null,null,null,null,null,null,null,null,null,null,null,null,null,null,null,13,null,null,null,null,null,null,null,null,null,null,null,null,null,null,null,null,null,null,13,"thirteen","Thirteen"]
[null,null,null,null,null,null,null,null,null,null,null,null,null,null,null,null,null,null,null,null,null,null,null,null,null,null,null,null,null,null,14,null,null,null,null,null,null,null,null,null,null,null,null,null,null,null,null,null,null,14,"fourteen","Fourteen"]
[null,null,null,null,null,null,null,null,null,null,null,null,null,null,null,null,null,null,null,null,null,null,null,null,null,null,null,null,null,null,15,null,null,null,null,null,null,null,null,null,null,null,null,null,null,null,null,null,null,15,"fifteen","Fifteen"]
[null,null,null,null,null,null,null,null,null,null,null,null,null,null,null,null,null,null,null,null,null,null,null,null,null,null,null,null,null,null,16,null,null,null,null,null,null,null,null,null,null,null,null,null,null,null,null,null,null,16,"sixteen","Sixteen"]
[null,null,null,null,null,null,null,null,null,null,null,null,null,null,null,null,null,null,null,null,null,null,null,null,null,null,null,null,null,null,17,null,null,null,null,null,null,null,null,null,null,null,null,null,null,null,null,null,null,17,"seventeen","Seventeen"]
[null,null,null,null,null,null,null,null,null,null,null,null,null,null,null,null,null,null,null,null,null,null,null,null,null,null,null,null,null,null,18,null,null,null,null,null,null,null,null,null,null,null,null,null,null,null,null,null,null,18,"eighteen","Eighteen"]
[null,null,null,null,null,null,null,null,null,null,null,null,null,null,null,null,null,null,null,null,null,null,null,null,null,null,null,null,null,null,19,null,null,null,null,null,null,null,null,null,null,null,null,null,null,null,null,null,null,19,"nineteen","Nineteen"]
[null,null,null,null,null,null,null,null,null,null,null,null,null,null,null,null,null,null,null,null,null,null,null,null,null,null,null,null,null,null,20,null,null,null,null,null,null,null,null,null,null,null,null,null,null,null,null,null,null,20,"twenty","Twenty"]
[null,null,null,null,null,null,null,null,null,null,null,null,null,null,null,null,null,null,null,null,null,null,null,null,null,null,null,null,null,null,21]
[null,null,null,null,null,null,null,null,null,null,null,null,null,null,null,null,null,null,null,null,null,null,null,null,null,null,null,null,null,null,22]
[null,null,null,null,null,null,null,null,null,null,null,null,null,null,null,null,null,null,null,null,null,null,null,null,null,null,null,null,null,null,23,{"$f":"CONCATENATE(AQ65,\" 12'' pizzas at \",AT59,\" each and \",AP66)","v":"Two 12'' pizzas at £8.30 each and ten"},null,null,null,null,null,null,null,null,{"$f":"ROUND((INT(5*RAND())+16)/2*100+AR65,0)","v":830},{"$f":"IF(AO59<100,1,0)","v":0},{"$f":"IF(AO59/100=ROUNDDOWN(AO59/100,0),1,0)","v":0},{"$f":"IF(AO59/10=ROUNDDOWN(AO59/10,0),1,0)","v":1},{"$f":"AP59+AQ59*2+AR59*4","v":4},{"$f":"IF(AS59=0,CONCATENATE($R$28,ROUND(AO59/100,2)),IF(AS59=1,CONCATENATE(ROUND(AO59,0),$S$28),IF(AS59=4,CONCATENATE($R$28,AO59/100,\"0\"),IF(AS59=5,CONCATENATE(AO59,$S$28),IF(AS59=6,CONCATENATE($R$28,AO59/100),\"xxx\")))))","v":"£8.30"}]
[null,null,null,null,null,null,null,null,null,null,null,null,null,null,null,null,null,null,null,null,null,null,null,null,null,null,null,null,null,null,24,{"$f":"CONCATENATE(\"8'' pizzas at \",AT60,\" each are purchased together.\")","v":"8'' pizzas at £6.10 each are purchased together."},null,null,null,null,null,null,null,null,{"$f":"ROUND((INT(5*RAND())+8)/2*100+AR66,0)","v":610},{"$f":"IF(AO60<100,1,0)","v":0},{"$f":"IF(AO60/100=ROUNDDOWN(AO60/100,0),1,0)","v":0},{"$f":"IF(AO60/10=ROUNDDOWN(AO60/10,0),1,0)","v":1},{"$f":"AP60+AQ60*2+AR60*4","v":4},{"$f":"IF(AS60=0,CONCATENATE($R$28,ROUND(AO60/100,2)),IF(AS60=1,CONCATENATE(ROUND(AO60,0),$S$28),IF(AS60=4,CONCATENATE($R$28,AO60/100,\"0\"),IF(AS60=5,CONCATENATE(AO60,$S$28),IF(AS60=6,CONCATENATE($R$28,AO60/100),\"xxx\")))))","v":"£6.10"}]
[null,null,null,null,null,null,null,null,null,null,null,null,null,null,null,null,null,null,null,null,null,null,null,null,null,null,null,null,null,null,25,{"$f":"CONCATENATE(\"Find (i) the total cost (ii) change from \",AT62,\"\")","v":"Find (i) the total cost (ii) change from £80"},null,null,null,null,null,null,null,null,{"$f":"ROUND(AO65*AO59+AO66*AO60,0)","v":7760},{"$f":"IF(AO61<100,1,0)","v":0},{"$f":"IF(AO61/100=ROUNDDOWN(AO61/100,0),1,0)","v":0},{"$f":"IF(AO61/10=ROUNDDOWN(AO61/10,0),1,0)","v":1},{"$f":"AP61+AQ61*2+AR61*4","v":4},{"$f":"IF(AS61=0,CONCATENATE($R$28,ROUND(AO61/100,2)),IF(AS61=1,CONCATENATE(ROUND(AO61,0),$S$28),IF(AS61=4,CONCATENATE($R$28,AO61/100,\"0\"),IF(AS61=5,CONCATENATE(AO61,$S$28),IF(AS61=6,CONCATENATE($R$28,AO61/100),\"xxx\")))))","v":"£77.60"}]
[null,null,null,null,null,null,null,null,null,null,null,null,null,null,null,null,null,null,null,null,null,null,null,null,null,null,null,null,null,null,26,null,null,null,null,"Total cost","=",{"$f":"CONCATENATE(\"(\",AO65,\" × \",AO59/100,\") + (\",AO66,\" × \",AO60/100,\")\")","v":"(2 × 8.3) + (10 × 6.1)"},null,null,{"$f":"ROUNDUP(AO61,-3)","v":8000},{"$f":"IF(AO62<100,1,0)","v":0},{"$f":"IF(AO62/100=ROUNDDOWN(AO62/100,0),1,0)","v":1},{"$f":"IF(AO62/10=ROUNDDOWN(AO62/10,0),1,0)","v":1},{"$f":"AP62+AQ62*2+AR62*4","v":6},{"$f":"IF(AS62=0,CONCATENATE($R$28,ROUND(AO62/100,2)),IF(AS62=1,CONCATENATE(ROUND(AO62,0),$S$28),IF(AS62=4,CONCATENATE($R$28,AO62/100,\"0\"),IF(AS62=5,CONCATENATE(AO62,$S$28),IF(AS62=6,CONCATENATE($R$28,AO62/100),\"xxx\")))))","v":"£80"}]
[null,null,null,null,null,null,null,null,null,null,null,null,null,null,null,null,null,null,null,null,null,null,null,null,null,null,null,null,null,null,27,null,null,null,null,null,"=",{"$f":"CONCATENATE(AO65*AO59/100,\" + \",AO66*AO60/100)","v":"16.6 + 61"},null,null,{"$f":"ROUND(AO62-AO61,0)","v":240},{"$f":"IF(AO63<100,1,0)","v":0},{"$f":"IF(AO63/100=ROUNDDOWN(AO63/100,0),1,0)","v":0},{"$f":"IF(AO63/10=ROUNDDOWN(AO63/10,0),1,0)","v":1},{"$f":"AP63+AQ63*2+AR63*4","v":4},{"$f":"IF(AS63=0,CONCATENATE($R$28,ROUND(AO63/100,2)),IF(AS63=1,CONCATENATE(ROUND(AO63,0),$S$28),IF(AS63=4,CONCATENATE($R$28,AO63/100,\"0\"),IF(AS63=5,CONCATENATE(AO63,$S$28),IF(AS63=6,CONCATENATE($R$28,AO63/100),\"xxx\")))))","v":"£2.40"}]
[null,null,null,null,null,null,null,null,null,null,null,null,null,null,null,null,null,null,null,null,null,null,null,null,null,null,null,null,null,null,28,null,null,null,null,null,"=",{"$f":"CONCATENATE(AO65*AO59/100+AO66*AO60/100)","v":"77.6"},null,null,19,{"$f":"1*(INT(AO64*RAND())+1)","v":1},{"$f":"1*(INT((AO64-1)*RAND())+1)","v":8},{"$f":"AQ64+AP64","v":9},{"$f":"MOD(AR64-1,AO64)+1","v":9},{"$f":"IF(AO63=0,0,1)","v":1}]
[null,null,null,null,null,null,null,null,null,null,null,null,null,null,null,null,null,null,null,null,null,null,null,null,null,null,null,null,null,null,29,null,null,null,null,null,"=",{"$f":"AT61","v":"£77.60"},null,null,{"$f":"AP64+1","v":2},{"$f":"VLOOKUP(AO65,$AX$37:$AY$56,2)","v":"two"},{"$f":"VLOOKUP(AO65,$AX$37:$AZ$56,3)","v":"Two"},{"$f":"10*(INT(5*RAND())+1)","v":30}]
[null,null,null,null,null,null,null,null,null,null,null,null,null,null,null,null,null,null,null,null,null,null,null,null,null,null,null,null,null,null,30,null,null,null,null,"change","=",{"$f":"CONCATENATE(AT62,\" − \",AT61)","v":"£80 − £77.60"},null,null,{"$f":"AS64+1","v":10},{"$f":"VLOOKUP(AO66,$AX$37:$AY$56,2)","v":"ten"},{"$f":"VLOOKUP(AO66,$AX$37:$AZ$56,3)","v":"Ten"},{"$f":"10*(INT(5*RAND())+1)","v":10}]
[null,null,null,null,null,null,null,null,null,null,null,null,null,null,null,null,null,null,null,null,null,null,null,null,null,null,null,null,null,null,31,null,null,null,null,{"$f":"AO63/100","v":2.4},"=",{"$f":"AT63","v":"£2.40"},null,null,{"$f":"AO62/100","v":80}]
[null,null,null,null,null,null,null,null,null,null,null,null,null,null,null,null,null,null,null,null,null,null,null,null,null,null,null,null,null,null,32,null,null,null,null,null,"=",{"$f":"CONCATENATE(AO67,\" − \",AL64)","v":"80 − 77.6"},null,null,{"$f":"AO63/100","v":2.4}]
[null,null,null,null,null,null,null,null,null,null,null,null,null,null,null,null,null,null,null,null,null,null,null,null,null,null,null,null,null,null,33]
[null,null,null,null,null,null,null,null,null,null,null,null,null,null,null,null,null,null,null,null,null,null,null,null,null,null,null,null,null,null,34]
[null,null,null,null,null,null,null,null,null,null,null,null,null,null,null,null,null,null,null,null,null,null,null,null,null,null,null,null,null,null,35]
[null,null,null,null,null,null,null,null,null,null,null,null,null,null,null,null,null,null,null,null,null,null,null,null,null,null,null,null,null,null,36]
[null,null,null,null,null,null,null,null,null,null,null,null,null,null,null,null,null,null,null,null,null,null,null,null,null,null,null,null,null,null,37]
[null,null,null,null,null,null,null,null,null,null,null,null,null,null,null,null,null,null,null,null,null,null,null,null,null,null,null,null,null,null,38]
[null,null,null,null,null,null,null,null,null,null,null,null,null,null,null,null,null,null,null,null,null,null,null,null,null,null,null,null,null,null,39]
[null,null,null,null,null,null,null,null,null,null,null,null,null,null,null,null,null,null,null,null,null,null,null,null,null,null,null,null,null,null,40]
[null,null,null,null,null,null,null,null,null,null,null,null,null,null,null,null,null,null,null,null,null,null,null,null,null,null,null,null,null,null,41,"A carafe of wine costs £4 more than a ½-litre."]
[null,null,null,null,null,null,null,null,null,null,null,null,null,null,null,null,null,null,null,null,null,null,null,null,null,null,null,null,null,null,42,"The total cost of 5 carafes and 5 ½-litres is £80."]
[null,null,null,null,null,null,null,null,null,null,null,null,null,null,null,null,null,null,null,null,null,null,null,null,null,null,null,null,null,null,43]
[null,null,null,null,null,null,null,null,null,null,null,null,null,null,null,null,null,null,null,null,null,null,null,null,null,null,null,null,null,null,44]
[null,null,null,null,null,null,null,null,null,null,null,null,null,null,null,null,null,null,null,null,null,null,null,null,null,null,null,null,null,null,45,{"$f":"CONCATENATE(AQ87,\" carafes of wine at \",AT81,\" each and \",AP88)","v":"Five carafes of wine at £8.50 each and eighteen"},null,null,null,null,null,null,null,null,{"$f":"ROUND(2*(INT(7*RAND())+4)*100+AR87,0)","v":850},{"$f":"IF(AO81<100,1,0)","v":0},{"$f":"IF(AO81/100=ROUNDDOWN(AO81/100,0),1,0)","v":0},{"$f":"IF(AO81/10=ROUNDDOWN(AO81/10,0),1,0)","v":1},{"$f":"AP81+AQ81*2+AR81*4","v":4},{"$f":"IF(AS81=0,CONCATENATE($R$28,ROUND(AO81/100,2)),IF(AS81=1,CONCATENATE(ROUND(AO81,0),$S$28),IF(AS81=4,CONCATENATE($R$28,AO81/100,\"0\"),IF(AS81=5,CONCATENATE(AO81,$S$28),IF(AS81=6,CONCATENATE($R$28,AO81/100),\"xxx\")))))","v":"£8.50"}]
[null,null,null,null,null,null,null,null,null,null,null,null,null,null,null,null,null,null,null,null,null,null,null,null,null,null,null,null,null,null,46,{"$f":"CONCATENATE(\"½-litre bottles at \",AT82,\" each are purchased together.\")","v":"½-litre bottles at £5.75 each are purchased together."},null,null,null,null,null,null,null,null,{"$f":"ROUND(AO81/2+100+AR88,0)","v":575},{"$f":"IF(AO82<100,1,0)","v":0},{"$f":"IF(AO82/100=ROUNDDOWN(AO82/100,0),1,0)","v":0},{"$f":"IF(AO82/10=ROUNDDOWN(AO82/10,0),1,0)","v":0},{"$f":"AP82+AQ82*2+AR82*4","v":0},{"$f":"IF(AS82=0,CONCATENATE($R$28,ROUND(AO82/100,2)),IF(AS82=1,CONCATENATE(ROUND(AO82,0),$S$28),IF(AS82=4,CONCATENATE($R$28,AO82/100,\"0\"),IF(AS82=5,CONCATENATE(AO82,$S$28),IF(AS82=6,CONCATENATE($R$28,AO82/100),\"xxx\")))))","v":"£5.75"}]
[null,null,null,null,null,null,null,null,null,null,null,null,null,null,null,null,null,null,null,null,null,null,null,null,null,null,null,null,null,null,47,{"$f":"CONCATENATE(\"Find (i) the total cost (ii) change from \",AT84,\"\")","v":"Find (i) the total cost (ii) change from £150"},null,null,null,null,null,null,null,null,{"$f":"ROUND(AO87*AO81+AO88*AO82,0)","v":14600},{"$f":"IF(AO83<100,1,0)","v":0},{"$f":"IF(AO83/100=ROUNDDOWN(AO83/100,0),1,0)","v":1},{"$f":"IF(AO83/10=ROUNDDOWN(AO83/10,0),1,0)","v":1},{"$f":"AP83+AQ83*2+AR83*4","v":6},{"$f":"IF(AS83=0,CONCATENATE($R$28,ROUND(AO83/100,2)),IF(AS83=1,CONCATENATE(ROUND(AO83,0),$S$28),IF(AS83=4,CONCATENATE($R$28,AO83/100,\"0\"),IF(AS83=5,CONCATENATE(AO83,$S$28),IF(AS83=6,CONCATENATE($R$28,AO83/100),\"xxx\")))))","v":"£146"}]
[null,null,null,null,null,null,null,null,null,null,null,null,null,null,null,null,null,null,null,null,null,null,null,null,null,null,null,null,null,null,48,null,null,null,null,"Total cost","=",{"$f":"CONCATENATE(\"(\",AO87,\" × \",AO81/100,\") + (\",AO88,\" × \",AO82/100,\")\")","v":"(5 × 8.5) + (18 × 5.75)"},null,null,{"$f":"ROUNDUP(AO83,-3)","v":15000},{"$f":"IF(AO84<100,1,0)","v":0},{"$f":"IF(AO84/100=ROUNDDOWN(AO84/100,0),1,0)","v":1},{"$f":"IF(AO84/10=ROUNDDOWN(AO84/10,0),1,0)","v":1},{"$f":"AP84+AQ84*2+AR84*4","v":6},{"$f":"IF(AS84=0,CONCATENATE($R$28,ROUND(AO84/100,2)),IF(AS84=1,CONCATENATE(ROUND(AO84,0),$S$28),IF(AS84=4,CONCATENATE($R$28,AO84/100,\"0\"),IF(AS84=5,CONCATENATE(AO84,$S$28),IF(AS84=6,CONCATENATE($R$28,AO84/100),\"xxx\")))))","v":"£150"}]
[null,null,null,null,null,null,null,null,null,null,null,null,null,null,null,null,null,null,null,null,null,null,null,null,null,null,null,null,null,null,49,null,null,null,null,null,"=",{"$f":"CONCATENATE(AO87*AO81/100,\" + \",AO88*AO82/100)","v":"42.5 + 103.5"},null,null,{"$f":"ROUND(AO84-AO83,0)","v":400},{"$f":"IF(AO85<100,1,0)","v":0},{"$f":"IF(AO85/100=ROUNDDOWN(AO85/100,0),1,0)","v":1},{"$f":"IF(AO85/10=ROUNDDOWN(AO85/10,0),1,0)","v":1},{"$f":"AP85+AQ85*2+AR85*4","v":6},{"$f":"IF(AS85=0,CONCATENATE($R$28,ROUND(AO85/100,2)),IF(AS85=1,CONCATENATE(ROUND(AO85,0),$S$28),IF(AS85=4,CONCATENATE($R$28,AO85/100,\"0\"),IF(AS85=5,CONCATENATE(AO85,$S$28),IF(AS85=6,CONCATENATE($R$28,AO85/100),\"xxx\")))))","v":"£4"}]
[null,null,null,null,null,null,null,null,null,null,null,null,null,null,null,null,null,null,null,null,null,null,null,null,null,null,null,null,null,null,50,null,null,null,null,null,"=",{"$f":"CONCATENATE(AO87*AO81/100+AO88*AO82/100)","v":"146"},null,null,19,{"$f":"1*(INT(AO86*RAND())+1)","v":4},{"$f":"1*(INT((AO86-1)*RAND())+1)","v":13},{"$f":"AQ86+AP86","v":17},{"$f":"MOD(AR86-1,AO86)+1","v":17},{"$f":"IF(AO85=0,0,1)","v":1}]
[null,null,null,null,null,null,null,null,null,null,null,null,null,null,null,null,null,null,null,null,null,null,null,null,null,null,null,null,null,null,51,null,null,null,null,null,"=",{"$f":"AT83","v":"£146"},null,null,{"$f":"AP86+1","v":5},{"$f":"VLOOKUP(AO87,$AX$37:$AY$56,2)","v":"five"},{"$f":"VLOOKUP(AO87,$AX$37:$AZ$56,3)","v":"Five"},{"$f":"50*(INT(2*RAND())+1)","v":50}]
[null,null,null,null,null,null,null,null,null,null,null,null,null,null,null,null,null,null,null,null,null,null,null,null,null,null,null,null,null,null,52,null,null,null,null,"change","=",{"$f":"CONCATENATE(AT84,\" − \",AT83)","v":"£150 − £146"},null,null,{"$f":"AS86+1","v":18},{"$f":"VLOOKUP(AO88,$AX$37:$AY$56,2)","v":"eighteen"},{"$f":"VLOOKUP(AO88,$AX$37:$AZ$56,3)","v":"Eighteen"},{"$f":"25*(INT(4*RAND())+1)","v":50}]
[null,null,null,null,null,null,null,null,null,null,null,null,null,null,null,null,null,null,null,null,null,null,null,null,null,null,null,null,null,null,53,null,null,null,null,{"$f":"AO85/100","v":4},"=",{"$f":"AT85","v":"£4"},null,null,{"$f":"AO84/100","v":150}]
[null,null,null,null,null,null,null,null,null,null,null,null,null,null,null,null,null,null,null,null,null,null,null,null,null,null,null,null,null,null,54,null,null,null,null,null,"=",{"$f":"CONCATENATE(AO89,\" − \",AL86)","v":"150 − 146"},null,null,{"$f":"AO85/100","v":4}]
[null,null,null,null,null,null,null,null,null,null,null,null,null,null,null,null,null,null,null,null,null,null,null,null,null,null,null,null,null,null,55,null,null,null,null,null,null,{"$f":"AO85/100","v":4}]
[null,null,null,null,null,null,null,null,null,null,null,null,null,null,null,null,null,null,null,null,null,null,null,null,null,null,null,null,null,null,56]
[null,null,null,null,null,null,null,null,null,null,null,null,null,null,null,null,null,null,null,null,null,null,null,null,null,null,null,null,null,null,57]
[null,null,null,null,null,null,null,null,null,null,null,null,null,null,null,null,null,null,null,null,null,null,null,null,null,null,null,null,null,null,58]
[null,null,null,null,null,null,null,null,null,null,null,null,null,null,null,null,null,null,null,null,null,null,null,null,null,null,null,null,null,null,59]
[null,null,null,null,null,null,null,null,null,null,null,null,null,null,null,null,null,null,null,null,null,null,null,null,null,null,null,null,null,null,60]
[null,null,null,null,null,null,null,null,null,null,null,null,null,null,null,null,null,null,null,null,null,null,null,null,null,null,null,null,null,null,61]
[null,null,null,null,null,null,null,null,null,null,null,null,null,null,null,null,null,null,null,null,null,null,null,null,null,null,null,null,null,null,62]
[null,null,null,null,null,null,null,null,null,null,null,null,null,null,null,null,null,null,null,null,null,null,null,null,null,null,null,null,null,null,63,"A colour print costs £3.50 more than a sepia."]
[null,null,null,null,null,null,null,null,null,null,null,null,null,null,null,null,null,null,null,null,null,null,null,null,null,null,null,null,null,null,64,"The total cost of 4 colour and 5 sepia is £72.50."]
[null,null,null,null,null,null,null,null,null,null,null,null,null,null,null,null,null,null,null,null,null,null,null,null,null,null,null,null,null,null,65]
[null,null,null,null,null,null,null,null,null,null,null,null,null,null,null,null,null,null,null,null,null,null,null,null,null,null,null,null,null,null,66]
[null,null,null,null,null,null,null,null,null,null,null,null,null,null,null,null,null,null,null,null,null,null,null,null,null,null,null,null,null,null,67,{"$f":"CONCATENATE(AQ109,\" colour prints at \",AT103,\" each and \",AP110)","v":"Ten colour prints at £1.10 each and sixteen"},null,null,null,null,null,null,null,null,{"$f":"ROUND(2*(INT(12*RAND())+4)/2*10,0)","v":110},{"$f":"IF(AO103<100,1,0)","v":0},{"$f":"IF(AO103/100=ROUNDDOWN(AO103/100,0),1,0)","v":0},{"$f":"IF(AO103/10=ROUNDDOWN(AO103/10,0),1,0)","v":1},{"$f":"AP103+AQ103*2+AR103*4","v":4},{"$f":"IF(AS103=0,CONCATENATE($R$28,ROUND(AO103/100,2)),IF(AS103=1,CONCATENATE(ROUND(AO103,0),$S$28),IF(AS103=4,CONCATENATE($R$28,AO103/100,\"0\"),IF(AS103=5,CONCATENATE(AO103,$S$28),IF(AS103=6,CONCATENATE($R$28,AO103/100),\"xxx\")))))","v":"£1.10"}]
[null,null,null,null,null,null,null,null,null,null,null,null,null,null,null,null,null,null,null,null,null,null,null,null,null,null,null,null,null,null,68,{"$f":"CONCATENATE(\"sepia prints at \",AT104,\" each are purchased together.\")","v":"sepia prints at 70p each are purchased together."},null,null,null,null,null,null,null,null,{"$f":"ROUND(AO103/2+15,0)","v":70},{"$f":"IF(AO104<100,1,0)","v":1},{"$f":"IF(AO104/100=ROUNDDOWN(AO104/100,0),1,0)","v":0},{"$f":"IF(AO104/10=ROUNDDOWN(AO104/10,0),1,0)","v":1},{"$f":"AP104+AQ104*2+AR104*4","v":5},{"$f":"IF(AS104=0,CONCATENATE($R$28,ROUND(AO104/100,2)),IF(AS104=1,CONCATENATE(ROUND(AO104,0),$S$28),IF(AS104=4,CONCATENATE($R$28,AO104/100,\"0\"),IF(AS104=5,CONCATENATE(AO104,$S$28),IF(AS104=6,CONCATENATE($R$28,AO104/100),\"xxx\")))))","v":"70p"}]
[null,null,null,null,null,null,null,null,null,null,null,null,null,null,null,null,null,null,null,null,null,null,null,null,null,null,null,null,null,null,69,{"$f":"CONCATENATE(\"Find (i) the total cost (ii) change from \",AT106,\"\")","v":"Find (i) the total cost (ii) change from £30"},null,null,null,null,null,null,null,null,{"$f":"ROUND(AO109*AO103+AO110*AO104,0)","v":2220},{"$f":"IF(AO105<100,1,0)","v":0},{"$f":"IF(AO105/100=ROUNDDOWN(AO105/100,0),1,0)","v":0},{"$f":"IF(AO105/10=ROUNDDOWN(AO105/10,0),1,0)","v":1},{"$f":"AP105+AQ105*2+AR105*4","v":4},{"$f":"IF(AS105=0,CONCATENATE($R$28,ROUND(AO105/100,2)),IF(AS105=1,CONCATENATE(ROUND(AO105,0),$S$28),IF(AS105=4,CONCATENATE($R$28,AO105/100,\"0\"),IF(AS105=5,CONCATENATE(AO105,$S$28),IF(AS105=6,CONCATENATE($R$28,AO105/100),\"xxx\")))))","v":"£22.20"}]
[null,null,null,null,null,null,null,null,null,null,null,null,null,null,null,null,null,null,null,null,null,null,null,null,null,null,null,null,null,null,70,null,null,null,null,"Total cost","=",{"$f":"CONCATENATE(\"(\",AO109,\" × \",AO103/100,\") + (\",AO110,\" × \",AO104/100,\")\")","v":"(10 × 1.1) + (16 × 0.7)"},null,null,{"$f":"ROUNDUP(AO105,-3)","v":3000},{"$f":"IF(AO106<100,1,0)","v":0},{"$f":"IF(AO106/100=ROUNDDOWN(AO106/100,0),1,0)","v":1},{"$f":"IF(AO106/10=ROUNDDOWN(AO106/10,0),1,0)","v":1},{"$f":"AP106+AQ106*2+AR106*4","v":6},{"$f":"IF(AS106=0,CONCATENATE($R$28,ROUND(AO106/100,2)),IF(AS106=1,CONCATENATE(ROUND(AO106,0),$S$28),IF(AS106=4,CONCATENATE($R$28,AO106/100,\"0\"),IF(AS106=5,CONCATENATE(AO106,$S$28),IF(AS106=6,CONCATENATE($R$28,AO106/100),\"xxx\")))))","v":"£30"}]
[null,null,null,null,null,null,null,null,null,null,null,null,null,null,null,null,null,null,null,null,null,null,null,null,null,null,null,null,null,null,71,null,null,null,null,null,"=",{"$f":"CONCATENATE(AO109*AO103/100,\" + \",AO110*AO104/100)","v":"11 + 11.2"},null,null,{"$f":"ROUND(AO106-AO105,0)","v":780},{"$f":"IF(AO107<100,1,0)","v":0},{"$f":"IF(AO107/100=ROUNDDOWN(AO107/100,0),1,0)","v":0},{"$f":"IF(AO107/10=ROUNDDOWN(AO107/10,0),1,0)","v":1},{"$f":"AP107+AQ107*2+AR107*4","v":4},{"$f":"IF(AS107=0,CONCATENATE($R$28,ROUND(AO107/100,2)),IF(AS107=1,CONCATENATE(ROUND(AO107,0),$S$28),IF(AS107=4,CONCATENATE($R$28,AO107/100,\"0\"),IF(AS107=5,CONCATENATE(AO107,$S$28),IF(AS107=6,CONCATENATE($R$28,AO107/100),\"xxx\")))))","v":"£7.80"}]
[null,null,null,null,null,null,null,null,null,null,null,null,null,null,null,null,null,null,null,null,null,null,null,null,null,null,null,null,null,null,72,null,null,null,null,null,"=",{"$f":"CONCATENATE(AO109*AO103/100+AO110*AO104/100)","v":"22.2"},null,null,19,{"$f":"1*(INT(AO108*RAND())+1)","v":9},{"$f":"1*(INT((AO108-1)*RAND())+1)","v":6},{"$f":"AQ108+AP108","v":15},{"$f":"MOD(AR108-1,AO108)+1","v":15},{"$f":"IF(AO107=0,0,1)","v":1}]
[null,null,null,null,null,null,null,null,null,null,null,null,null,null,null,null,null,null,null,null,null,null,null,null,null,null,null,null,null,null,73,null,null,null,null,null,"=",{"$f":"AT105","v":"£22.20"},null,null,{"$f":"AP108+1","v":10},{"$f":"VLOOKUP(AO109,$AX$37:$AY$56,2)","v":"ten"},{"$f":"VLOOKUP(AO109,$AX$37:$AZ$56,3)","v":"Ten"},"x"]
[null,null,null,null,null,null,null,null,null,null,null,null,null,null,null,null,null,null,null,null,null,null,null,null,null,null,null,null,null,null,74,null,null,null,null,"change","=",{"$f":"CONCATENATE(AT106,\" − \",AT105)","v":"£30 − £22.20"},null,null,{"$f":"AS108+1","v":16},{"$f":"VLOOKUP(AO110,$AX$37:$AY$56,2)","v":"sixteen"},{"$f":"VLOOKUP(AO110,$AX$37:$AZ$56,3)","v":"Sixteen"},"x"]
[null,null,null,null,null,null,null,null,null,null,null,null,null,null,null,null,null,null,null,null,null,null,null,null,null,null,null,null,null,null,75,null,null,null,null,{"$f":"AO107/100","v":7.8},"=",{"$f":"AT107","v":"£7.80"},null,null,{"$f":"AO106/100","v":30}]
[null,null,null,null,null,null,null,null,null,null,null,null,null,null,null,null,null,null,null,null,null,null,null,null,null,null,null,null,null,null,{"$f":"AE101+11","v":76},null,null,null,null,null,"=",{"$f":"CONCATENATE(AO111,\" − \",AL108)","v":"30 − 22.2"},null,null,{"$f":"AO107/100","v":7.8}]
[null,null,null,null,null,null,null,null,null,null,null,null,null,null,null,null,null,null,null,null,null,null,null,null,null,null,null,null,null,null,77]
[null,null,null,null,null,null,null,null,null,null,null,null,null,null,null,null,null,null,null,null,null,null,null,null,null,null,null,null,null,null,78]
[null,null,null,null,null,null,null,null,null,null,null,null,null,null,null,null,null,null,null,null,null,null,null,null,null,null,null,null,null,null,79]
[null,null,null,null,null,null,null,null,null,null,null,null,null,null,null,null,null,null,null,null,null,null,null,null,null,null,null,null,null,null,80]
[null,null,null,null,null,null,null,null,null,null,null,null,null,null,null,null,null,null,null,null,null,null,null,null,null,null,null,null,null,null,81]
[null,null,null,null,null,null,null,null,null,null,null,null,null,null,null,null,null,null,null,null,null,null,null,null,null,null,null,null,null,null,82]
[null,null,null,null,null,null,null,null,null,null,null,null,null,null,null,null,null,null,null,null,null,null,null,null,null,null,null,null,null,null,83]
[null,null,null,null,null,null,null,null,null,null,null,null,null,null,null,null,null,null,null,null,null,null,null,null,null,null,null,null,null,null,84]
[null,null,null,null,null,null,null,null,null,null,null,null,null,null,null,null,null,null,null,null,null,null,null,null,null,null,null,null,null,null,85,"A large cola costs £1.10 more than a regular."]
[null,null,null,null,null,null,null,null,null,null,null,null,null,null,null,null,null,null,null,null,null,null,null,null,null,null,null,null,null,null,86,"The total cost of 4 large and 4 regular is £14.80."]
[null,null,null,null,null,null,null,null,null,null,null,null,null,null,null,null,null,null,null,null,null,null,null,null,null,null,null,null,null,null,87]
[null,null,null,null,null,null,null,null,null,null,null,null,null,null,null,null,null,null,null,null,null,null,null,null,null,null,null,null,null,null,88]
[null,null,null,null,null,null,null,null,null,null,null,null,null,null,null,null,null,null,null,null,null,null,null,null,null,null,null,null,null,null,89,{"$f":"CONCATENATE(AQ131,\" large colas at \",AT125,\" each and \",AP132)","v":"Eighteen large colas at £1.30 each and eleven"},null,null,null,null,null,null,null,null,{"$f":"ROUND(0.2*(INT(7*RAND())+2)*100+AR131,0)","v":130},{"$f":"IF(AO125<100,1,0)","v":0},{"$f":"IF(AO125/100=ROUNDDOWN(AO125/100,0),1,0)","v":0},{"$f":"IF(AO125/10=ROUNDDOWN(AO125/10,0),1,0)","v":1},{"$f":"AP125+AQ125*2+AR125*4","v":4},{"$f":"IF(AS125=0,CONCATENATE($R$28,ROUND(AO125/100,2)),IF(AS125=1,CONCATENATE(ROUND(AO125,0),$S$28),IF(AS125=4,CONCATENATE($R$28,AO125/100,\"0\"),IF(AS125=5,CONCATENATE(AO125,$S$28),IF(AS125=6,CONCATENATE($R$28,AO125/100),\"xxx\")))))","v":"£1.30"}]
[null,null,null,null,null,null,null,null,null,null,null,null,null,null,null,null,null,null,null,null,null,null,null,null,null,null,null,null,null,null,90,{"$f":"CONCATENATE(\"regular colas at \",AT126,\" each are purchased together.\")","v":"regular colas at 81p each are purchased together."},null,null,null,null,null,null,null,null,{"$f":"ROUND(AO125/2+10+AR132,0)","v":81},{"$f":"IF(AO126<100,1,0)","v":1},{"$f":"IF(AO126/100=ROUNDDOWN(AO126/100,0),1,0)","v":0},{"$f":"IF(AO126/10=ROUNDDOWN(AO126/10,0),1,0)","v":0},{"$f":"AP126+AQ126*2+AR126*4","v":1},{"$f":"IF(AS126=0,CONCATENATE($R$28,ROUND(AO126/100,2)),IF(AS126=1,CONCATENATE(ROUND(AO126,0),$S$28),IF(AS126=4,CONCATENATE($R$28,AO126/100,\"0\"),IF(AS126=5,CONCATENATE(AO126,$S$28),IF(AS126=6,CONCATENATE($R$28,AO126/100),\"xxx\")))))","v":"81p"}]
[null,null,null,null,null,null,null,null,null,null,null,null,null,null,null,null,null,null,null,null,null,null,null,null,null,null,null,null,null,null,91,{"$f":"CONCATENATE(\"Find (i) the total cost (ii) change from \",AT128,\"\")","v":"Find (i) the total cost (ii) change from £40"},null,null,null,null,null,null,null,null,{"$f":"ROUND(AO131*AO125+AO132*AO126,0)","v":3231},{"$f":"IF(AO127<100,1,0)","v":0},{"$f":"IF(AO127/100=ROUNDDOWN(AO127/100,0),1,0)","v":0},{"$f":"IF(AO127/10=ROUNDDOWN(AO127/10,0),1,0)","v":0},{"$f":"AP127+AQ127*2+AR127*4","v":0},{"$f":"IF(AS127=0,CONCATENATE($R$28,ROUND(AO127/100,2)),IF(AS127=1,CONCATENATE(ROUND(AO127,0),$S$28),IF(AS127=4,CONCATENATE($R$28,AO127/100,\"0\"),IF(AS127=5,CONCATENATE(AO127,$S$28),IF(AS127=6,CONCATENATE($R$28,AO127/100),\"xxx\")))))","v":"£32.31"}]
[null,null,null,null,null,null,null,null,null,null,null,null,null,null,null,null,null,null,null,null,null,null,null,null,null,null,null,null,null,null,92,null,null,null,null,"Total cost","=",{"$f":"CONCATENATE(\"(\",AO131,\" × \",AO125/100,\") + (\",AO132,\" × \",AO126/100,\")\")","v":"(18 × 1.3) + (11 × 0.81)"},null,null,{"$f":"ROUNDUP(AO127,-3)","v":4000},{"$f":"IF(AO128<100,1,0)","v":0},{"$f":"IF(AO128/100=ROUNDDOWN(AO128/100,0),1,0)","v":1},{"$f":"IF(AO128/10=ROUNDDOWN(AO128/10,0),1,0)","v":1},{"$f":"AP128+AQ128*2+AR128*4","v":6},{"$f":"IF(AS128=0,CONCATENATE($R$28,ROUND(AO128/100,2)),IF(AS128=1,CONCATENATE(ROUND(AO128,0),$S$28),IF(AS128=4,CONCATENATE($R$28,AO128/100,\"0\"),IF(AS128=5,CONCATENATE(AO128,$S$28),IF(AS128=6,CONCATENATE($R$28,AO128/100),\"xxx\")))))","v":"£40"}]
[null,null,null,null,null,null,null,null,null,null,null,null,null,null,null,null,null,null,null,null,null,null,null,null,null,null,null,null,null,null,93,null,null,null,null,null,"=",{"$f":"CONCATENATE(AO131*AO125/100,\" + \",AO132*AO126/100)","v":"23.4 + 8.91"},null,null,{"$f":"ROUND(AO128-AO127,0)","v":769},{"$f":"IF(AO129<100,1,0)","v":0},{"$f":"IF(AO129/100=ROUNDDOWN(AO129/100,0),1,0)","v":0},{"$f":"IF(AO129/10=ROUNDDOWN(AO129/10,0),1,0)","v":0},{"$f":"AP129+AQ129*2+AR129*4","v":0},{"$f":"IF(AS129=0,CONCATENATE($R$28,ROUND(AO129/100,2)),IF(AS129=1,CONCATENATE(ROUND(AO129,0),$S$28),IF(AS129=4,CONCATENATE($R$28,AO129/100,\"0\"),IF(AS129=5,CONCATENATE(AO129,$S$28),IF(AS129=6,CONCATENATE($R$28,AO129/100),\"xxx\")))))","v":"£7.69"}]
[null,null,null,null,null,null,null,null,null,null,null,null,null,null,null,null,null,null,null,null,null,null,null,null,null,null,null,null,null,null,94,null,null,null,null,null,"=",{"$f":"CONCATENATE(AO131*AO125/100+AO132*AO126/100)","v":"32.31"},null,null,19,{"$f":"1*(INT(AO130*RAND())+1)","v":17},{"$f":"1*(INT((AO130-1)*RAND())+1)","v":12},{"$f":"AQ130+AP130","v":29},{"$f":"MOD(AR130-1,AO130)+1","v":10},{"$f":"IF(AO129=0,0,1)","v":1}]
[null,null,null,null,null,null,null,null,null,null,null,null,null,null,null,null,null,null,null,null,null,null,null,null,null,null,null,null,null,null,95,null,null,null,null,null,"=",{"$f":"AT127","v":"£32.31"},null,null,{"$f":"AP130+1","v":18},{"$f":"VLOOKUP(AO131,$AX$37:$AY$56,2)","v":"eighteen"},{"$f":"VLOOKUP(AO131,$AX$37:$AZ$56,3)","v":"Eighteen"},{"$f":"2*(INT(5*RAND())+1)","v":10}]
[null,null,null,null,null,null,null,null,null,null,null,null,null,null,null,null,null,null,null,null,null,null,null,null,null,null,null,null,null,null,96,null,null,null,null,"change","=",{"$f":"CONCATENATE(AT128,\" − \",AT127)","v":"£40 − £32.31"},null,null,{"$f":"AS130+1","v":11},{"$f":"VLOOKUP(AO132,$AX$37:$AY$56,2)","v":"eleven"},{"$f":"VLOOKUP(AO132,$AX$37:$AZ$56,3)","v":"Eleven"},{"$f":"2*(INT(5*RAND())+1)","v":6}]
[null,null,null,null,null,null,null,null,null,null,null,null,null,null,null,null,null,null,null,null,null,null,null,null,null,null,null,null,null,null,97,null,null,null,null,{"$f":"AO129/100","v":7.69},"=",{"$f":"AT129","v":"£7.69"},null,null,{"$f":"AO128/100","v":40}]
[null,null,null,null,null,null,null,null,null,null,null,null,null,null,null,null,null,null,null,null,null,null,null,null,null,null,null,null,null,null,98,null,null,null,null,null,"=",{"$f":"CONCATENATE(AO133,\" − \",AL130)","v":"40 − 32.31"},null,null,{"$f":"AO129/100","v":7.69}]
[null,null,null,null,null,null,null,null,null,null,null,null,null,null,null,null,null,null,null,null,null,null,null,null,null,null,null,null,null,null,99]
[null,null,null,null,null,null,null,null,null,null,null,null,null,null,null,null,null,null,null,null,null,null,null,null,null,null,null,null,null,null,100]
[null,null,null,null,null,null,null,null,null,null,null,null,null,null,null,null,null,null,null,null,null,null,null,null,null,null,null,null,null,null,101]
[null,null,null,null,null,null,null,null,null,null,null,null,null,null,null,null,null,null,null,null,null,null,null,null,null,null,null,null,null,null,102]
[null,null,null,null,null,null,null,null,null,null,null,null,null,null,null,null,null,null,null,null,null,null,null,null,null,null,null,null,null,null,103]
[null,null,null,null,null,null,null,null,null,null,null,null,null,null,null,null,null,null,null,null,null,null,null,null,null,null,null,null,null,null,104]
[null,null,null,null,null,null,null,null,null,null,null,null,null,null,null,null,null,null,null,null,null,null,null,null,null,null,null,null,null,null,105]
[null,null,null,null,null,null,null,null,null,null,null,null,null,null,null,null,null,null,null,null,null,null,null,null,null,null,null,null,null,null,106]
[null,null,null,null,null,null,null,null,null,null,null,null,null,null,null,null,null,null,null,null,null,null,null,null,null,null,null,null,null,null,107,"Burgers cost 90p more than portions of fries."]
[null,null,null,null,null,null,null,null,null,null,null,null,null,null,null,null,null,null,null,null,null,null,null,null,null,null,null,null,null,null,108,"The total cost of 3 burgers and 4 fries is £10.40."]
[null,null,null,null,null,null,null,null,null,null,null,null,null,null,null,null,null,null,null,null,null,null,null,null,null,null,null,null,null,null,109]
[null,null,null,null,null,null,null,null,null,null,null,null,null,null,null,null,null,null,null,null,null,null,null,null,null,null,null,null,null,null,110]
[null,null,null,null,null,null,null,null,null,null,null,null,null,null,null,null,null,null,null,null,null,null,null,null,null,null,null,null,null,null,111,{"$f":"CONCATENATE(AQ153,\" burgers at \",AT147,\" each and \",AP154)","v":"Seventeen burgers at 60p each and six"},null,null,null,null,null,null,null,null,{"$f":"ROUND(0.2*(INT(6*RAND())+3)*100,0)","v":60},{"$f":"IF(AO147<100,1,0)","v":1},{"$f":"IF(AO147/100=ROUNDDOWN(AO147/100,0),1,0)","v":0},{"$f":"IF(AO147/10=ROUNDDOWN(AO147/10,0),1,0)","v":1},{"$f":"AP147+AQ147*2+AR147*4","v":5},{"$f":"IF(AS147=0,CONCATENATE($R$28,ROUND(AO147/100,2)),IF(AS147=1,CONCATENATE(ROUND(AO147,0),$S$28),IF(AS147=4,CONCATENATE($R$28,AO147/100,\"0\"),IF(AS147=5,CONCATENATE(AO147,$S$28),IF(AS147=6,CONCATENATE($R$28,AO147/100),\"xxx\")))))","v":"60p"}]
[null,null,null,null,null,null,null,null,null,null,null,null,null,null,null,null,null,null,null,null,null,null,null,null,null,null,null,null,null,null,112,{"$f":"CONCATENATE(\"hot-dogs at \",AT148,\" each are purchased together.\")","v":"hot-dogs at 45p each are purchased together."},null,null,null,null,null,null,null,null,{"$f":"ROUND(AO147/2+15,0)","v":45},{"$f":"IF(AO148<100,1,0)","v":1},{"$f":"IF(AO148/100=ROUNDDOWN(AO148/100,0),1,0)","v":0},{"$f":"IF(AO148/10=ROUNDDOWN(AO148/10,0),1,0)","v":0},{"$f":"AP148+AQ148*2+AR148*4","v":1},{"$f":"IF(AS148=0,CONCATENATE($R$28,ROUND(AO148/100,2)),IF(AS148=1,CONCATENATE(ROUND(AO148,0),$S$28),IF(AS148=4,CONCATENATE($R$28,AO148/100,\"0\"),IF(AS148=5,CONCATENATE(AO148,$S$28),IF(AS148=6,CONCATENATE($R$28,AO148/100),\"xxx\")))))","v":"45p"}]
[null,null,null,null,null,null,null,null,null,null,null,null,null,null,null,null,null,null,null,null,null,null,null,null,null,null,null,null,null,null,113,{"$f":"CONCATENATE(\"Find (i) the total cost (ii) change from \",AT150,\"\")","v":"Find (i) the total cost (ii) change from £20"},null,null,null,null,null,null,null,null,{"$f":"ROUND(AO153*AO147+AO154*AO148,0)","v":1290},{"$f":"IF(AO149<100,1,0)","v":0},{"$f":"IF(AO149/100=ROUNDDOWN(AO149/100,0),1,0)","v":0},{"$f":"IF(AO149/10=ROUNDDOWN(AO149/10,0),1,0)","v":1},{"$f":"AP149+AQ149*2+AR149*4","v":4},{"$f":"IF(AS149=0,CONCATENATE($R$28,ROUND(AO149/100,2)),IF(AS149=1,CONCATENATE(ROUND(AO149,0),$S$28),IF(AS149=4,CONCATENATE($R$28,AO149/100,\"0\"),IF(AS149=5,CONCATENATE(AO149,$S$28),IF(AS149=6,CONCATENATE($R$28,AO149/100),\"xxx\")))))","v":"£12.90"}]
[null,null,null,null,null,null,null,null,null,null,null,null,null,null,null,null,null,null,null,null,null,null,null,null,null,null,null,null,null,null,114,null,null,null,null,"Total cost","=",{"$f":"CONCATENATE(\"(\",AO153,\" × \",AO147/100,\") + (\",AO154,\" × \",AO148/100,\")\")","v":"(17 × 0.6) + (6 × 0.45)"},null,null,{"$f":"ROUNDUP(AO149,-3)","v":2000},{"$f":"IF(AO150<100,1,0)","v":0},{"$f":"IF(AO150/100=ROUNDDOWN(AO150/100,0),1,0)","v":1},{"$f":"IF(AO150/10=ROUNDDOWN(AO150/10,0),1,0)","v":1},{"$f":"AP150+AQ150*2+AR150*4","v":6},{"$f":"IF(AS150=0,CONCATENATE($R$28,ROUND(AO150/100,2)),IF(AS150=1,CONCATENATE(ROUND(AO150,0),$S$28),IF(AS150=4,CONCATENATE($R$28,AO150/100,\"0\"),IF(AS150=5,CONCATENATE(AO150,$S$28),IF(AS150=6,CONCATENATE($R$28,AO150/100),\"xxx\")))))","v":"£20"}]
[null,null,null,null,null,null,null,null,null,null,null,null,null,null,null,null,null,null,null,null,null,null,null,null,null,null,null,null,null,null,115,null,null,null,null,null,"=",{"$f":"CONCATENATE(AO153*AO147/100,\" + \",AO154*AO148/100)","v":"10.2 + 2.7"},null,null,{"$f":"ROUND(AO150-AO149,0)","v":710},{"$f":"IF(AO151<100,1,0)","v":0},{"$f":"IF(AO151/100=ROUNDDOWN(AO151/100,0),1,0)","v":0},{"$f":"IF(AO151/10=ROUNDDOWN(AO151/10,0),1,0)","v":1},{"$f":"AP151+AQ151*2+AR151*4","v":4},{"$f":"IF(AS151=0,CONCATENATE($R$28,ROUND(AO151/100,2)),IF(AS151=1,CONCATENATE(ROUND(AO151,0),$S$28),IF(AS151=4,CONCATENATE($R$28,AO151/100,\"0\"),IF(AS151=5,CONCATENATE(AO151,$S$28),IF(AS151=6,CONCATENATE($R$28,AO151/100),\"xxx\")))))","v":"£7.10"}]
[null,null,null,null,null,null,null,null,null,null,null,null,null,null,null,null,null,null,null,null,null,null,null,null,null,null,null,null,null,null,116,null,null,null,null,null,"=",{"$f":"CONCATENATE(AO153*AO147/100+AO154*AO148/100)","v":"12.9"},null,null,19,{"$f":"1*(INT(AO152*RAND())+1)","v":16},{"$f":"1*(INT((AO152-1)*RAND())+1)","v":8},{"$f":"AQ152+AP152","v":24},{"$f":"MOD(AR152-1,AO152)+1","v":5},{"$f":"IF(AO151=0,0,1)","v":1}]
[null,null,null,null,null,null,null,null,null,null,null,null,null,null,null,null,null,null,null,null,null,null,null,null,null,null,null,null,null,null,117,null,null,null,null,null,"=",{"$f":"AT149","v":"£12.90"},null,null,{"$f":"AP152+1","v":17},{"$f":"VLOOKUP(AO153,$AX$37:$AY$56,2)","v":"seventeen"},{"$f":"VLOOKUP(AO153,$AX$37:$AZ$56,3)","v":"Seventeen"},"x"]
[null,null,null,null,null,null,null,null,null,null,null,null,null,null,null,null,null,null,null,null,null,null,null,null,null,null,null,null,null,null,118,null,null,null,null,"change","=",{"$f":"CONCATENATE(AT150,\" − \",AT149)","v":"£20 − £12.90"},null,null,{"$f":"AS152+1","v":6},{"$f":"VLOOKUP(AO154,$AX$37:$AY$56,2)","v":"six"},{"$f":"VLOOKUP(AO154,$AX$37:$AZ$56,3)","v":"Six"},"x"]
[null,null,null,null,null,null,null,null,null,null,null,null,null,null,null,null,null,null,null,null,null,null,null,null,null,null,null,null,null,null,119,null,null,null,null,{"$f":"AO151/100","v":7.1},"=",{"$f":"AT151","v":"£7.10"},null,null,{"$f":"AO150/100","v":20}]
[null,null,null,null,null,null,null,null,null,null,null,null,null,null,null,null,null,null,null,null,null,null,null,null,null,null,null,null,null,null,120,null,null,null,null,null,"=",{"$f":"CONCATENATE(AO155,\" − \",AL152)","v":"20 − 12.9"},null,null,{"$f":"AO151/100","v":7.1}]
[null,null,null,null,null,null,null,null,null,null,null,null,null,null,null,null,null,null,null,null,null,null,null,null,null,null,null,null,null,null,121]
[null,null,null,null,null,null,null,null,null,null,null,null,null,null,null,null,null,null,null,null,null,null,null,null,null,null,null,null,null,null,122]
[null,null,null,null,null,null,null,null,null,null,null,null,null,null,null,null,null,null,null,null,null,null,null,null,null,null,null,null,null,null,123]
[null,null,null,null,null,null,null,null,null,null,null,null,null,null,null,null,null,null,null,null,null,null,null,null,null,null,null,null,null,null,124]
[null,null,null,null,null,null,null,null,null,null,null,null,null,null,null,null,null,null,null,null,null,null,null,null,null,null,null,null,null,null,125]
[null,null,null,null,null,null,null,null,null,null,null,null,null,null,null,null,null,null,null,null,null,null,null,null,null,null,null,null,null,null,126]
[null,null,null,null,null,null,null,null,null,null,null,null,null,null,null,null,null,null,null,null,null,null,null,null,null,null,null,null,null,null,127]
[null,null,null,null,null,null,null,null,null,null,null,null,null,null,null,null,null,null,null,null,null,null,null,null,null,null,null,null,null,null,128]
[null,null,null,null,null,null,null,null,null,null,null,null,null,null,null,null,null,null,null,null,null,null,null,null,null,null,null,null,null,null,129,"A 1ˢᵗ class ticket costs £41 more than a 2ⁿᵈ."]
[null,null,null,null,null,null,null,null,null,null,null,null,null,null,null,null,null,null,null,null,null,null,null,null,null,null,null,null,null,null,130,"The total cost of 6 firsts and 4 seconds is £756."]
[null,null,null,null,null,null,null,null,null,null,null,null,null,null,null,null,null,null,null,null,null,null,null,null,null,null,null,null,null,null,131]
[null,null,null,null,null,null,null,null,null,null,null,null,null,null,null,null,null,null,null,null,null,null,null,null,null,null,null,null,null,null,132]
[null,null,null,null,null,null,null,null,null,null,null,null,null,null,null,null,null,null,null,null,null,null,null,null,null,null,null,null,null,null,133,{"$f":"CONCATENATE(AQ175,\" 1ˢᵗ class tickets at \",AT169,\" each and \",AP176)","v":"Ten 1ˢᵗ class tickets at £74 each and thirteen"},null,null,null,null,null,null,null,null,{"$f":"ROUND(2*(INT(35*RAND())+15)*100,0)","v":7400},{"$f":"IF(AO169<100,1,0)","v":0},{"$f":"IF(AO169/100=ROUNDDOWN(AO169/100,0),1,0)","v":1},{"$f":"IF(AO169/10=ROUNDDOWN(AO169/10,0),1,0)","v":1},{"$f":"AP169+AQ169*2+AR169*4","v":6},{"$f":"IF(AS169=0,CONCATENATE($R$28,ROUND(AO169/100,2)),IF(AS169=1,CONCATENATE(ROUND(AO169,0),$S$28),IF(AS169=4,CONCATENATE($R$28,AO169/100,\"0\"),IF(AS169=5,CONCATENATE(AO169,$S$28),IF(AS169=6,CONCATENATE($R$28,AO169/100),\"xxx\")))))","v":"£74"}]
[null,null,null,null,null,null,null,null,null,null,null,null,null,null,null,null,null,null,null,null,null,null,null,null,null,null,null,null,null,null,134,{"$f":"CONCATENATE(\"2ⁿᵈ class tickets at \",AT170,\" each are purchased together.\")","v":"2ⁿᵈ class tickets at £42 each are purchased together."},null,null,null,null,null,null,null,null,{"$f":"ROUND(AO169/2+AR176,0)","v":4200},{"$f":"IF(AO170<100,1,0)","v":0},{"$f":"IF(AO170/100=ROUNDDOWN(AO170/100,0),1,0)","v":1},{"$f":"IF(AO170/10=ROUNDDOWN(AO170/10,0),1,0)","v":1},{"$f":"AP170+AQ170*2+AR170*4","v":6},{"$f":"IF(AS170=0,CONCATENATE($R$28,ROUND(AO170/100,2)),IF(AS170=1,CONCATENATE(ROUND(AO170,0),$S$28),IF(AS170=4,CONCATENATE($R$28,AO170/100,\"0\"),IF(AS170=5,CONCATENATE(AO170,$S$28),IF(AS170=6,CONCATENATE($R$28,AO170/100),\"xxx\")))))","v":"£42"}]
[null,null,null,null,null,null,null,null,null,null,null,null,null,null,null,null,null,null,null,null,null,null,null,null,null,null,null,null,null,null,135,{"$f":"CONCATENATE(\"Find (i) the total cost (ii) change from \",AT172,\"\")","v":"Find (i) the total cost (ii) change from £1300"},null,null,null,null,null,null,null,null,{"$f":"ROUND(AO175*AO169+AO176*AO170,0)","v":128600},{"$f":"IF(AO171<100,1,0)","v":0},{"$f":"IF(AO171/100=ROUNDDOWN(AO171/100,0),1,0)","v":1},{"$f":"IF(AO171/10=ROUNDDOWN(AO171/10,0),1,0)","v":1},{"$f":"AP171+AQ171*2+AR171*4","v":6},{"$f":"IF(AS171=0,CONCATENATE($R$28,ROUND(AO171/100,2)),IF(AS171=1,CONCATENATE(ROUND(AO171,0),$S$28),IF(AS171=4,CONCATENATE($R$28,AO171/100,\"0\"),IF(AS171=5,CONCATENATE(AO171,$S$28),IF(AS171=6,CONCATENATE($R$28,AO171/100),\"xxx\")))))","v":"£1286"}]
[null,null,null,null,null,null,null,null,null,null,null,null,null,null,null,null,null,null,null,null,null,null,null,null,null,null,null,null,null,null,136,null,null,null,null,"Total cost","=",{"$f":"CONCATENATE(\"(\",AO175,\" × \",AO169/100,\") + (\",AO176,\" × \",AO170/100,\")\")","v":"(10 × 74) + (13 × 42)"},null,null,{"$f":"ROUNDUP(AO171,-4)","v":130000},{"$f":"IF(AO172<100,1,0)","v":0},{"$f":"IF(AO172/100=ROUNDDOWN(AO172/100,0),1,0)","v":1},{"$f":"IF(AO172/10=ROUNDDOWN(AO172/10,0),1,0)","v":1},{"$f":"AP172+AQ172*2+AR172*4","v":6},{"$f":"IF(AS172=0,CONCATENATE($R$28,ROUND(AO172/100,2)),IF(AS172=1,CONCATENATE(ROUND(AO172,0),$S$28),IF(AS172=4,CONCATENATE($R$28,AO172/100,\"0\"),IF(AS172=5,CONCATENATE(AO172,$S$28),IF(AS172=6,CONCATENATE($R$28,AO172/100),\"xxx\")))))","v":"£1300"}]
[null,null,null,null,null,null,null,null,null,null,null,null,null,null,null,null,null,null,null,null,null,null,null,null,null,null,null,null,null,null,137,null,null,null,null,null,"=",{"$f":"CONCATENATE(AO175*AO169/100,\" + \",AO176*AO170/100)","v":"740 + 546"},null,null,{"$f":"ROUND(AO172-AO171,0)","v":1400},{"$f":"IF(AO173<100,1,0)","v":0},{"$f":"IF(AO173/100=ROUNDDOWN(AO173/100,0),1,0)","v":1},{"$f":"IF(AO173/10=ROUNDDOWN(AO173/10,0),1,0)","v":1},{"$f":"AP173+AQ173*2+AR173*4","v":6},{"$f":"IF(AS173=0,CONCATENATE($R$28,ROUND(AO173/100,2)),IF(AS173=1,CONCATENATE(ROUND(AO173,0),$S$28),IF(AS173=4,CONCATENATE($R$28,AO173/100,\"0\"),IF(AS173=5,CONCATENATE(AO173,$S$28),IF(AS173=6,CONCATENATE($R$28,AO173/100),\"xxx\")))))","v":"£14"}]
[null,null,null,null,null,null,null,null,null,null,null,null,null,null,null,null,null,null,null,null,null,null,null,null,null,null,null,null,null,null,138,null,null,null,null,null,"=",{"$f":"CONCATENATE(AO175*AO169/100+AO176*AO170/100)","v":"1286"},null,null,19,{"$f":"1*(INT(AO174*RAND())+1)","v":9},{"$f":"1*(INT((AO174-1)*RAND())+1)","v":3},{"$f":"AQ174+AP174","v":12},{"$f":"MOD(AR174-1,AO174)+1","v":12},{"$f":"IF(AO173=0,0,1)","v":1}]
[null,null,null,null,null,null,null,null,null,null,null,null,null,null,null,null,null,null,null,null,null,null,null,null,null,null,null,null,null,null,139,null,null,null,null,null,"=",{"$f":"AT171","v":"£1286"},null,null,{"$f":"AP174+1","v":10},{"$f":"VLOOKUP(AO175,$AX$37:$AY$56,2)","v":"ten"},{"$f":"VLOOKUP(AO175,$AX$37:$AZ$56,3)","v":"Ten"},"x"]
[null,null,null,null,null,null,null,null,null,null,null,null,null,null,null,null,null,null,null,null,null,null,null,null,null,null,null,null,null,null,{"$f":"AE165+11","v":140},null,null,null,null,"change","=",{"$f":"CONCATENATE(AT172,\" − \",AT171)","v":"£1300 − £1286"},null,null,{"$f":"AS174+1","v":13},{"$f":"VLOOKUP(AO176,$AX$37:$AY$56,2)","v":"thirteen"},{"$f":"VLOOKUP(AO176,$AX$37:$AZ$56,3)","v":"Thirteen"},{"$f":"100*(INT(5*RAND())+1)","v":500}]
[null,null,null,null,null,null,null,null,null,null,null,null,null,null,null,null,null,null,null,null,null,null,null,null,null,null,null,null,null,null,141,null,null,null,null,{"$f":"AO173/100","v":14},"=",{"$f":"AT173","v":"£14"},null,null,{"$f":"AO172/100","v":1300}]
[null,null,null,null,null,null,null,null,null,null,null,null,null,null,null,null,null,null,null,null,null,null,null,null,null,null,null,null,null,null,142,null,null,null,null,null,"=",{"$f":"CONCATENATE(AO177,\" − \",AL174)","v":"1300 − 1286"},null,null,{"$f":"AO173/100","v":14}]
[null,null,null,null,null,null,null,null,null,null,null,null,null,null,null,null,null,null,null,null,null,null,null,null,null,null,null,null,null,null,143]
[null,null,null,null,null,null,null,null,null,null,null,null,null,null,null,null,null,null,null,null,null,null,null,null,null,null,null,null,null,null,144]
[null,null,null,null,null,null,null,null,null,null,null,null,null,null,null,null,null,null,null,null,null,null,null,null,null,null,null,null,null,null,145]
[null,null,null,null,null,null,null,null,null,null,null,null,null,null,null,null,null,null,null,null,null,null,null,null,null,null,null,null,null,null,146]
[null,null,null,null,null,null,null,null,null,null,null,null,null,null,null,null,null,null,null,null,null,null,null,null,null,null,null,null,null,null,147]
[null,null,null,null,null,null,null,null,null,null,null,null,null,null,null,null,null,null,null,null,null,null,null,null,null,null,null,null,null,null,148]
[null,null,null,null,null,null,null,null,null,null,null,null,null,null,null,null,null,null,null,null,null,null,null,null,null,null,null,null,null,null,149]
[null,null,null,null,null,null,null,null,null,null,null,null,null,null,null,null,null,null,null,null,null,null,null,null,null,null,null,null,null,null,150]
[null,null,null,null,null,null,null,null,null,null,null,null,null,null,null,null,null,null,null,null,null,null,null,null,null,null,null,null,null,null,151,"A designer tile costs £2 more than a plain tile."]
[null,null,null,null,null,null,null,null,null,null,null,null,null,null,null,null,null,null,null,null,null,null,null,null,null,null,null,null,null,null,152,"The total cost of 5 designer and 2 plain is £59."]
[null,null,null,null,null,null,null,null,null,null,null,null,null,null,null,null,null,null,null,null,null,null,null,null,null,null,null,null,null,null,153]
[null,null,null,null,null,null,null,null,null,null,null,null,null,null,null,null,null,null,null,null,null,null,null,null,null,null,null,null,null,null,154]
[null,null,null,null,null,null,null,null,null,null,null,null,null,null,null,null,null,null,null,null,null,null,null,null,null,null,null,null,null,null,155,{"$f":"CONCATENATE(AQ197,\" designer tiles at \",AT191,\" each and \",AP198)","v":"Nineteen designer tiles at £1.10 each and four"},null,null,null,null,null,null,null,null,{"$f":"ROUND((INT(6*RAND())+11)*10,0)","v":110},{"$f":"IF(AO191<100,1,0)","v":0},{"$f":"IF(AO191/100=ROUNDDOWN(AO191/100,0),1,0)","v":0},{"$f":"IF(AO191/10=ROUNDDOWN(AO191/10,0),1,0)","v":1},{"$f":"AP191+AQ191*2+AR191*4","v":4},{"$f":"IF(AS191=0,CONCATENATE($R$28,ROUND(AO191/100,2)),IF(AS191=1,CONCATENATE(ROUND(AO191,0),$S$28),IF(AS191=4,CONCATENATE($R$28,AO191/100,\"0\"),IF(AS191=5,CONCATENATE(AO191,$S$28),IF(AS191=6,CONCATENATE($R$28,AO191/100),\"xxx\")))))","v":"£1.10"}]
[null,null,null,null,null,null,null,null,null,null,null,null,null,null,null,null,null,null,null,null,null,null,null,null,null,null,null,null,null,null,156,{"$f":"CONCATENATE(\"plain tiles at \",AT192,\" each are purchased together.\")","v":"plain tiles at 80p each are purchased together."},null,null,null,null,null,null,null,null,{"$f":"ROUND((INT(5*RAND())+4)*10+AR198,0)","v":80},{"$f":"IF(AO192<100,1,0)","v":1},{"$f":"IF(AO192/100=ROUNDDOWN(AO192/100,0),1,0)","v":0},{"$f":"IF(AO192/10=ROUNDDOWN(AO192/10,0),1,0)","v":1},{"$f":"AP192+AQ192*2+AR192*4","v":5},{"$f":"IF(AS192=0,CONCATENATE($R$28,ROUND(AO192/100,2)),IF(AS192=1,CONCATENATE(ROUND(AO192,0),$S$28),IF(AS192=4,CONCATENATE($R$28,AO192/100,\"0\"),IF(AS192=5,CONCATENATE(AO192,$S$28),IF(AS192=6,CONCATENATE($R$28,AO192/100),\"xxx\")))))","v":"80p"}]
[null,null,null,null,null,null,null,null,null,null,null,null,null,null,null,null,null,null,null,null,null,null,null,null,null,null,null,null,null,null,157,{"$f":"CONCATENATE(\"Find (i) the total cost (ii) change from \",AT194,\"\")","v":"Find (i) the total cost (ii) change from £30"},null,null,null,null,null,null,null,null,{"$f":"ROUND(AO197*AO191+AO198*AO192,0)","v":2410},{"$f":"IF(AO193<100,1,0)","v":0},{"$f":"IF(AO193/100=ROUNDDOWN(AO193/100,0),1,0)","v":0},{"$f":"IF(AO193/10=ROUNDDOWN(AO193/10,0),1,0)","v":1},{"$f":"AP193+AQ193*2+AR193*4","v":4},{"$f":"IF(AS193=0,CONCATENATE($R$28,ROUND(AO193/100,2)),IF(AS193=1,CONCATENATE(ROUND(AO193,0),$S$28),IF(AS193=4,CONCATENATE($R$28,AO193/100,\"0\"),IF(AS193=5,CONCATENATE(AO193,$S$28),IF(AS193=6,CONCATENATE($R$28,AO193/100),\"xxx\")))))","v":"£24.10"}]
[null,null,null,null,null,null,null,null,null,null,null,null,null,null,null,null,null,null,null,null,null,null,null,null,null,null,null,null,null,null,158,null,null,null,null,"Total cost","=",{"$f":"CONCATENATE(\"(\",AO197,\" × \",AO191/100,\") + (\",AO198,\" × \",AO192/100,\")\")","v":"(19 × 1.1) + (4 × 0.8)"},null,null,{"$f":"ROUNDUP(AO193,-3)","v":3000},{"$f":"IF(AO194<100,1,0)","v":0},{"$f":"IF(AO194/100=ROUNDDOWN(AO194/100,0),1,0)","v":1},{"$f":"IF(AO194/10=ROUNDDOWN(AO194/10,0),1,0)","v":1},{"$f":"AP194+AQ194*2+AR194*4","v":6},{"$f":"IF(AS194=0,CONCATENATE($R$28,ROUND(AO194/100,2)),IF(AS194=1,CONCATENATE(ROUND(AO194,0),$S$28),IF(AS194=4,CONCATENATE($R$28,AO194/100,\"0\"),IF(AS194=5,CONCATENATE(AO194,$S$28),IF(AS194=6,CONCATENATE($R$28,AO194/100),\"xxx\")))))","v":"£30"}]
[null,null,null,null,null,null,null,null,null,null,null,null,null,null,null,null,null,null,null,null,null,null,null,null,null,null,null,null,null,null,159,null,null,null,null,null,"=",{"$f":"CONCATENATE(AO197*AO191/100,\" + \",AO198*AO192/100)","v":"20.9 + 3.2"},null,null,{"$f":"ROUND(AO194-AO193,0)","v":590},{"$f":"IF(AO195<100,1,0)","v":0},{"$f":"IF(AO195/100=ROUNDDOWN(AO195/100,0),1,0)","v":0},{"$f":"IF(AO195/10=ROUNDDOWN(AO195/10,0),1,0)","v":1},{"$f":"AP195+AQ195*2+AR195*4","v":4},{"$f":"IF(AS195=0,CONCATENATE($R$28,ROUND(AO195/100,2)),IF(AS195=1,CONCATENATE(ROUND(AO195,0),$S$28),IF(AS195=4,CONCATENATE($R$28,AO195/100,\"0\"),IF(AS195=5,CONCATENATE(AO195,$S$28),IF(AS195=6,CONCATENATE($R$28,AO195/100),\"xxx\")))))","v":"£5.90"}]
[null,null,null,null,null,null,null,null,null,null,null,null,null,null,null,null,null,null,null,null,null,null,null,null,null,null,null,null,null,null,160,null,null,null,null,null,"=",{"$f":"CONCATENATE(AO197*AO191/100+AO198*AO192/100)","v":"24.1"},null,null,19,{"$f":"1*(INT(AO196*RAND())+1)","v":18},{"$f":"1*(INT((AO196-1)*RAND())+1)","v":4},{"$f":"AQ196+AP196","v":22},{"$f":"MOD(AR196-1,AO196)+1","v":3},{"$f":"IF(AO195=0,0,1)","v":1}]
[null,null,null,null,null,null,null,null,null,null,null,null,null,null,null,null,null,null,null,null,null,null,null,null,null,null,null,null,null,null,161,null,null,null,null,null,"=",{"$f":"AT193","v":"£24.10"},null,null,{"$f":"AP196+1","v":19},{"$f":"VLOOKUP(AO197,$AX$37:$AY$56,2)","v":"nineteen"},{"$f":"VLOOKUP(AO197,$AX$37:$AZ$56,3)","v":"Nineteen"},"x"]
[null,null,null,null,null,null,null,null,null,null,null,null,null,null,null,null,null,null,null,null,null,null,null,null,null,null,null,null,null,null,162,null,null,null,null,"change","=",{"$f":"CONCATENATE(AT194,\" − \",AT193)","v":"£30 − £24.10"},null,null,{"$f":"AS196+1","v":4},{"$f":"VLOOKUP(AO198,$AX$37:$AY$56,2)","v":"four"},{"$f":"VLOOKUP(AO198,$AX$37:$AZ$56,3)","v":"Four"},{"$f":"5*(INT(2*RAND())+1)","v":10}]
[null,null,null,null,null,null,null,null,null,null,null,null,null,null,null,null,null,null,null,null,null,null,null,null,null,null,null,null,null,null,163,null,null,null,null,{"$f":"AO195/100","v":5.9},"=",{"$f":"AT195","v":"£5.90"},null,null,{"$f":"AO194/100","v":30}]
[null,null,null,null,null,null,null,null,null,null,null,null,null,null,null,null,null,null,null,null,null,null,null,null,null,null,null,null,null,null,164,null,null,null,null,null,"=",{"$f":"CONCATENATE(AO199,\" − \",AL196)","v":"30 − 24.1"},null,null,{"$f":"AO195/100","v":5.9}]
[null,null,null,null,null,null,null,null,null,null,null,null,null,null,null,null,null,null,null,null,null,null,null,null,null,null,null,null,null,null,165]
[null,null,null,null,null,null,null,null,null,null,null,null,null,null,null,null,null,null,null,null,null,null,null,null,null,null,null,null,null,null,166]
[null,null,null,null,null,null,null,null,null,null,null,null,null,null,null,null,null,null,null,null,null,null,null,null,null,null,null,null,null,null,167]
[null,null,null,null,null,null,null,null,null,null,null,null,null,null,null,null,null,null,null,null,null,null,null,null,null,null,null,null,null,null,168]
[null,null,null,null,null,null,null,null,null,null,null,null,null,null,null,null,null,null,null,null,null,null,null,null,null,null,null,null,null,null,169]
[null,null,null,null,null,null,null,null,null,null,null,null,null,null,null,null,null,null,null,null,null,null,null,null,null,null,null,null,null,null,170]
[null,null,null,null,null,null,null,null,null,null,null,null,null,null,null,null,null,null,null,null,null,null,null,null,null,null,null,null,null,null,171]
[null,null,null,null,null,null,null,null,null,null,null,null,null,null,null,null,null,null,null,null,null,null,null,null,null,null,null,null,null,null,172]
[null,null,null,null,null,null,null,null,null,null,null,null,null,null,null,null,null,null,null,null,null,null,null,null,null,null,null,null,null,null,173,"A cake costs 90p more than a pot of tea."]
[null,null,null,null,null,null,null,null,null,null,null,null,null,null,null,null,null,null,null,null,null,null,null,null,null,null,null,null,null,null,174,"The total cost of 3 cakes and 3 pots of tea is £15.30."]
[null,null,null,null,null,null,null,null,null,null,null,null,null,null,null,null,null,null,null,null,null,null,null,null,null,null,null,null,null,null,175]
[null,null,null,null,null,null,null,null,null,null,null,null,null,null,null,null,null,null,null,null,null,null,null,null,null,null,null,null,null,null,176]
[null,null,null,null,null,null,null,null,null,null,null,null,null,null,null,null,null,null,null,null,null,null,null,null,null,null,null,null,null,null,177,{"$f":"CONCATENATE(AQ219,\" pots of tea at \",AT213,\" each and \",AP220)","v":"Two pots of tea at £1.40 each and five"},null,null,null,null,null,null,null,null,{"$f":"ROUND(0.2*(INT(7*RAND())+4)*100,0)","v":140},{"$f":"IF(AO213<100,1,0)","v":0},{"$f":"IF(AO213/100=ROUNDDOWN(AO213/100,0),1,0)","v":0},{"$f":"IF(AO213/10=ROUNDDOWN(AO213/10,0),1,0)","v":1},{"$f":"AP213+AQ213*2+AR213*4","v":4},{"$f":"IF(AS213=0,CONCATENATE($R$28,ROUND(AO213/100,2)),IF(AS213=1,CONCATENATE(ROUND(AO213,0),$S$28),IF(AS213=4,CONCATENATE($R$28,AO213/100,\"0\"),IF(AS213=5,CONCATENATE(AO213,$S$28),IF(AS213=6,CONCATENATE($R$28,AO213/100),\"xxx\")))))","v":"£1.40"}]
[null,null,null,null,null,null,null,null,null,null,null,null,null,null,null,null,null,null,null,null,null,null,null,null,null,null,null,null,null,null,178,{"$f":"CONCATENATE(\"cakes at \",AT214,\" each are purchased together.\")","v":"cakes at 90p each are purchased together."},null,null,null,null,null,null,null,null,{"$f":"ROUND(AO213/2+AR220,0)","v":90},{"$f":"IF(AO214<100,1,0)","v":1},{"$f":"IF(AO214/100=ROUNDDOWN(AO214/100,0),1,0)","v":0},{"$f":"IF(AO214/10=ROUNDDOWN(AO214/10,0),1,0)","v":1},{"$f":"AP214+AQ214*2+AR214*4","v":5},{"$f":"IF(AS214=0,CONCATENATE($R$28,ROUND(AO214/100,2)),IF(AS214=1,CONCATENATE(ROUND(AO214,0),$S$28),IF(AS214=4,CONCATENATE($R$28,AO214/100,\"0\"),IF(AS214=5,CONCATENATE(AO214,$S$28),IF(AS214=6,CONCATENATE($R$28,AO214/100),\"xxx\")))))","v":"90p"}]
[null,null,null,null,null,null,null,null,null,null,null,null,null,null,null,null,null,null,null,null,null,null,null,null,null,null,null,null,null,null,179,{"$f":"CONCATENATE(\"Find (i) the total cost (ii) change from \",AT216,\"\")","v":"Find (i) the total cost (ii) change from £10"},null,null,null,null,null,null,null,null,{"$f":"ROUND(AO219*AO213+AO220*AO214,0)","v":730},{"$f":"IF(AO215<100,1,0)","v":0},{"$f":"IF(AO215/100=ROUNDDOWN(AO215/100,0),1,0)","v":0},{"$f":"IF(AO215/10=ROUNDDOWN(AO215/10,0),1,0)","v":1},{"$f":"AP215+AQ215*2+AR215*4","v":4},{"$f":"IF(AS215=0,CONCATENATE($R$28,ROUND(AO215/100,2)),IF(AS215=1,CONCATENATE(ROUND(AO215,0),$S$28),IF(AS215=4,CONCATENATE($R$28,AO215/100,\"0\"),IF(AS215=5,CONCATENATE(AO215,$S$28),IF(AS215=6,CONCATENATE($R$28,AO215/100),\"xxx\")))))","v":"£7.30"}]
[null,null,null,null,null,null,null,null,null,null,null,null,null,null,null,null,null,null,null,null,null,null,null,null,null,null,null,null,null,null,180,null,null,null,null,"Total cost","=",{"$f":"CONCATENATE(\"(\",AO219,\" × \",AO213/100,\") + (\",AO220,\" × \",AO214/100,\")\")","v":"(2 × 1.4) + (5 × 0.9)"},null,null,{"$f":"ROUNDUP(AO215,-3)","v":1000},{"$f":"IF(AO216<100,1,0)","v":0},{"$f":"IF(AO216/100=ROUNDDOWN(AO216/100,0),1,0)","v":1},{"$f":"IF(AO216/10=ROUNDDOWN(AO216/10,0),1,0)","v":1},{"$f":"AP216+AQ216*2+AR216*4","v":6},{"$f":"IF(AS216=0,CONCATENATE($R$28,ROUND(AO216/100,2)),IF(AS216=1,CONCATENATE(ROUND(AO216,0),$S$28),IF(AS216=4,CONCATENATE($R$28,AO216/100,\"0\"),IF(AS216=5,CONCATENATE(AO216,$S$28),IF(AS216=6,CONCATENATE($R$28,AO216/100),\"xxx\")))))","v":"£10"}]
[null,null,null,null,null,null,null,null,null,null,null,null,null,null,null,null,null,null,null,null,null,null,null,null,null,null,null,null,null,null,181,null,null,null,null,null,"=",{"$f":"CONCATENATE(AO219*AO213/100,\" + \",AO220*AO214/100)","v":"2.8 + 4.5"},null,null,{"$f":"ROUND(AO216-AO215,0)","v":270},{"$f":"IF(AO217<100,1,0)","v":0},{"$f":"IF(AO217/100=ROUNDDOWN(AO217/100,0),1,0)","v":0},{"$f":"IF(AO217/10=ROUNDDOWN(AO217/10,0),1,0)","v":1},{"$f":"AP217+AQ217*2+AR217*4","v":4},{"$f":"IF(AS217=0,CONCATENATE($R$28,ROUND(AO217/100,2)),IF(AS217=1,CONCATENATE(ROUND(AO217,0),$S$28),IF(AS217=4,CONCATENATE($R$28,AO217/100,\"0\"),IF(AS217=5,CONCATENATE(AO217,$S$28),IF(AS217=6,CONCATENATE($R$28,AO217/100),\"xxx\")))))","v":"£2.70"}]
[null,null,null,null,null,null,null,null,null,null,null,null,null,null,null,null,null,null,null,null,null,null,null,null,null,null,null,null,null,null,182,null,null,null,null,null,"=",{"$f":"CONCATENATE(AO219*AO213/100+AO220*AO214/100)","v":"7.3"},null,null,19,{"$f":"1*(INT(AO218*RAND())+1)","v":1},{"$f":"1*(INT((AO218-1)*RAND())+1)","v":3},{"$f":"AQ218+AP218","v":4},{"$f":"MOD(AR218-1,AO218)+1","v":4},{"$f":"IF(AO217=0,0,1)","v":1}]
[null,null,null,null,null,null,null,null,null,null,null,null,null,null,null,null,null,null,null,null,null,null,null,null,null,null,null,null,null,null,183,null,null,null,null,null,"=",{"$f":"AT215","v":"£7.30"},null,null,{"$f":"AP218+1","v":2},{"$f":"VLOOKUP(AO219,$AX$37:$AY$56,2)","v":"two"},{"$f":"VLOOKUP(AO219,$AX$37:$AZ$56,3)","v":"Two"},"x"]
[null,null,null,null,null,null,null,null,null,null,null,null,null,null,null,null,null,null,null,null,null,null,null,null,null,null,null,null,null,null,184,null,null,null,null,"change","=",{"$f":"CONCATENATE(AT216,\" − \",AT215)","v":"£10 − £7.30"},null,null,{"$f":"AS218+1","v":5},{"$f":"VLOOKUP(AO220,$AX$37:$AY$56,2)","v":"five"},{"$f":"VLOOKUP(AO220,$AX$37:$AZ$56,3)","v":"Five"},{"$f":"5*(INT(5*RAND())+1)","v":20}]
[null,null,null,null,null,null,null,null,null,null,null,null,null,null,null,null,null,null,null,null,null,null,null,null,null,null,null,null,null,null,185,null,null,null,null,{"$f":"AO217/100","v":2.7},"=",{"$f":"AT217","v":"£2.70"},null,null,{"$f":"AO216/100","v":10}]
[null,null,null,null,null,null,null,null,null,null,null,null,null,null,null,null,null,null,null,null,null,null,null,null,null,null,null,null,null,null,186,null,null,null,null,null,"=",{"$f":"CONCATENATE(AO221,\" − \",AL218)","v":"10 − 7.3"},null,null,{"$f":"AO217/100","v":2.7}]
[null,null,null,null,null,null,null,null,null,null,null,null,null,null,null,null,null,null,null,null,null,null,null,null,null,null,null,null,null,null,187]
[null,null,null,null,null,null,null,null,null,null,null,null,null,null,null,null,null,null,null,null,null,null,null,null,null,null,null,null,null,null,188]
[null,null,null,null,null,null,null,null,null,null,null,null,null,null,null,null,null,null,null,null,null,null,null,null,null,null,null,null,null,null,189]
[null,null,null,null,null,null,null,null,null,null,null,null,null,null,null,null,null,null,null,null,null,null,null,null,null,null,null,null,null,null,190]
[null,null,null,null,null,null,null,null,null,null,null,null,null,null,null,null,null,null,null,null,null,null,null,null,null,null,null,null,null,null,191]
[null,null,null,null,null,null,null,null,null,null,null,null,null,null,null,null,null,null,null,null,null,null,null,null,null,null,null,null,null,null,192]
[null,null,null,null,null,null,null,null,null,null,null,null,null,null,null,null,null,null,null,null,null,null,null,null,null,null,null,null,null,null,193]
[null,null,null,null,null,null,null,null,null,null,null,null,null,null,null,null,null,null,null,null,null,null,null,null,null,null,null,null,null,null,194]
[null,null,null,null,null,null,null,null,null,null,null,null,null,null,null,null,null,null,null,null,null,null,null,null,null,null,null,null,null,null,195,"A school tie costs £2.50 more than the scarf."]
[null,null,null,null,null,null,null,null,null,null,null,null,null,null,null,null,null,null,null,null,null,null,null,null,null,null,null,null,null,null,196,"The total cost of 6 ties and 6 scarves is £57."]
[null,null,null,null,null,null,null,null,null,null,null,null,null,null,null,null,null,null,null,null,null,null,null,null,null,null,null,null,null,null,197]
[null,null,null,null,null,null,null,null,null,null,null,null,null,null,null,null,null,null,null,null,null,null,null,null,null,null,null,null,null,null,198]
[null,null,null,null,null,null,null,null,null,null,null,null,null,null,null,null,null,null,null,null,null,null,null,null,null,null,null,null,null,null,199,{"$f":"CONCATENATE(AQ241,\" school ties at \",AT235,\" each and \",AP242)","v":"Thirteen school ties at £10 each and nine"},null,null,null,null,null,null,null,null,{"$f":"ROUND((INT(8*RAND())+5)*100,0)","v":1000},{"$f":"IF(AO235<100,1,0)","v":0},{"$f":"IF(AO235/100=ROUNDDOWN(AO235/100,0),1,0)","v":1},{"$f":"IF(AO235/10=ROUNDDOWN(AO235/10,0),1,0)","v":1},{"$f":"AP235+AQ235*2+AR235*4","v":6},{"$f":"IF(AS235=0,CONCATENATE($R$28,ROUND(AO235/100,2)),IF(AS235=1,CONCATENATE(ROUND(AO235,0),$S$28),IF(AS235=4,CONCATENATE($R$28,AO235/100,\"0\"),IF(AS235=5,CONCATENATE(AO235,$S$28),IF(AS235=6,CONCATENATE($R$28,AO235/100),\"xxx\")))))","v":"£10"}]
[null,null,null,null,null,null,null,null,null,null,null,null,null,null,null,null,null,null,null,null,null,null,null,null,null,null,null,null,null,null,200,{"$f":"CONCATENATE(\"scarves at \",AT236,\" each are purchased together.\")","v":"scarves at £5.75 each are purchased together."},null,null,null,null,null,null,null,null,{"$f":"ROUND(AO235/2+AR242,0)","v":575},{"$f":"IF(AO236<100,1,0)","v":0},{"$f":"IF(AO236/100=ROUNDDOWN(AO236/100,0),1,0)","v":0},{"$f":"IF(AO236/10=ROUNDDOWN(AO236/10,0),1,0)","v":0},{"$f":"AP236+AQ236*2+AR236*4","v":0},{"$f":"IF(AS236=0,CONCATENATE($R$28,ROUND(AO236/100,2)),IF(AS236=1,CONCATENATE(ROUND(AO236,0),$S$28),IF(AS236=4,CONCATENATE($R$28,AO236/100,\"0\"),IF(AS236=5,CONCATENATE(AO236,$S$28),IF(AS236=6,CONCATENATE($R$28,AO236/100),\"xxx\")))))","v":"£5.75"}]
[null,null,null,null,null,null,null,null,null,null,null,null,null,null,null,null,null,null,null,null,null,null,null,null,null,null,null,null,null,null,201,{"$f":"CONCATENATE(\"Find (i) the total cost (ii) change from \",AT238,\"\")","v":"Find (i) the total cost (ii) change from £190"},null,null,null,null,null,null,null,null,{"$f":"ROUND(AO241*AO235+AO242*AO236,0)","v":18175},{"$f":"IF(AO237<100,1,0)","v":0},{"$f":"IF(AO237/100=ROUNDDOWN(AO237/100,0),1,0)","v":0},{"$f":"IF(AO237/10=ROUNDDOWN(AO237/10,0),1,0)","v":0},{"$f":"AP237+AQ237*2+AR237*4","v":0},{"$f":"IF(AS237=0,CONCATENATE($R$28,ROUND(AO237/100,2)),IF(AS237=1,CONCATENATE(ROUND(AO237,0),$S$28),IF(AS237=4,CONCATENATE($R$28,AO237/100,\"0\"),IF(AS237=5,CONCATENATE(AO237,$S$28),IF(AS237=6,CONCATENATE($R$28,AO237/100),\"xxx\")))))","v":"£181.75"}]
[null,null,null,null,null,null,null,null,null,null,null,null,null,null,null,null,null,null,null,null,null,null,null,null,null,null,null,null,null,null,202,null,null,null,null,"Total cost","=",{"$f":"CONCATENATE(\"(\",AO241,\" × \",AO235/100,\") + (\",AO242,\" × \",AO236/100,\")\")","v":"(13 × 10) + (9 × 5.75)"},null,null,{"$f":"ROUNDUP(AO237,-3)","v":19000},{"$f":"IF(AO238<100,1,0)","v":0},{"$f":"IF(AO238/100=ROUNDDOWN(AO238/100,0),1,0)","v":1},{"$f":"IF(AO238/10=ROUNDDOWN(AO238/10,0),1,0)","v":1},{"$f":"AP238+AQ238*2+AR238*4","v":6},{"$f":"IF(AS238=0,CONCATENATE($R$28,ROUND(AO238/100,2)),IF(AS238=1,CONCATENATE(ROUND(AO238,0),$S$28),IF(AS238=4,CONCATENATE($R$28,AO238/100,\"0\"),IF(AS238=5,CONCATENATE(AO238,$S$28),IF(AS238=6,CONCATENATE($R$28,AO238/100),\"xxx\")))))","v":"£190"}]
[null,null,null,null,null,null,null,null,null,null,null,null,null,null,null,null,null,null,null,null,null,null,null,null,null,null,null,null,null,null,203,null,null,null,null,null,"=",{"$f":"CONCATENATE(AO241*AO235/100,\" + \",AO242*AO236/100)","v":"130 + 51.75"},null,null,{"$f":"ROUND(AO238-AO237,0)","v":825},{"$f":"IF(AO239<100,1,0)","v":0},{"$f":"IF(AO239/100=ROUNDDOWN(AO239/100,0),1,0)","v":0},{"$f":"IF(AO239/10=ROUNDDOWN(AO239/10,0),1,0)","v":0},{"$f":"AP239+AQ239*2+AR239*4","v":0},{"$f":"IF(AS239=0,CONCATENATE($R$28,ROUND(AO239/100,2)),IF(AS239=1,CONCATENATE(ROUND(AO239,0),$S$28),IF(AS239=4,CONCATENATE($R$28,AO239/100,\"0\"),IF(AS239=5,CONCATENATE(AO239,$S$28),IF(AS239=6,CONCATENATE($R$28,AO239/100),\"xxx\")))))","v":"£8.25"}]
[null,null,null,null,null,null,null,null,null,null,null,null,null,null,null,null,null,null,null,null,null,null,null,null,null,null,null,null,null,null,{"$f":"AE229+11","v":204},null,null,null,null,null,"=",{"$f":"CONCATENATE(AO241*AO235/100+AO242*AO236/100)","v":"181.75"},null,null,19,{"$f":"1*(INT(AO240*RAND())+1)","v":12},{"$f":"1*(INT((AO240-1)*RAND())+1)","v":15},{"$f":"AQ240+AP240","v":27},{"$f":"MOD(AR240-1,AO240)+1","v":8},{"$f":"IF(AO239=0,0,1)","v":1}]
[null,null,null,null,null,null,null,null,null,null,null,null,null,null,null,null,null,null,null,null,null,null,null,null,null,null,null,null,null,null,205,null,null,null,null,null,"=",{"$f":"AT237","v":"£181.75"},null,null,{"$f":"AP240+1","v":13},{"$f":"VLOOKUP(AO241,$AX$37:$AY$56,2)","v":"thirteen"},{"$f":"VLOOKUP(AO241,$AX$37:$AZ$56,3)","v":"Thirteen"},"x"]
[null,null,null,null,null,null,null,null,null,null,null,null,null,null,null,null,null,null,null,null,null,null,null,null,null,null,null,null,null,null,206,null,null,null,null,"change","=",{"$f":"CONCATENATE(AT238,\" − \",AT237)","v":"£190 − £181.75"},null,null,{"$f":"AS240+1","v":9},{"$f":"VLOOKUP(AO242,$AX$37:$AY$56,2)","v":"nine"},{"$f":"VLOOKUP(AO242,$AX$37:$AZ$56,3)","v":"Nine"},{"$f":"25*(INT(3*RAND())+1)","v":75}]
[null,null,null,null,null,null,null,null,null,null,null,null,null,null,null,null,null,null,null,null,null,null,null,null,null,null,null,null,null,null,207,null,null,null,null,{"$f":"AO239/100","v":8.25},"=",{"$f":"AT239","v":"£8.25"},null,null,{"$f":"AO238/100","v":190}]
[null,null,null,null,null,null,null,null,null,null,null,null,null,null,null,null,null,null,null,null,null,null,null,null,null,null,null,null,null,null,208,null,null,null,null,null,"=",{"$f":"CONCATENATE(AO243,\" − \",AL240)","v":"190 − 181.75"},null,null,{"$f":"AO239/100","v":8.25}]
[null,null,null,null,null,null,null,null,null,null,null,null,null,null,null,null,null,null,null,null,null,null,null,null,null,null,null,null,null,null,209]
[null,null,null,null,null,null,null,null,null,null,null,null,null,null,null,null,null,null,null,null,null,null,null,null,null,null,null,null,null,null,210]
[null,null,null,null,null,null,null,null,null,null,null,null,null,null,null,null,null,null,null,null,null,null,null,null,null,null,null,null,null,null,211]
[null,null,null,null,null,null,null,null,null,null,null,null,null,null,null,null,null,null,null,null,null,null,null,null,null,null,null,null,null,null,212]
[null,null,null,null,null,null,null,null,null,null,null,null,null,null,null,null,null,null,null,null,null,null,null,null,null,null,null,null,null,null,213]
[null,null,null,null,null,null,null,null,null,null,null,null,null,null,null,null,null,null,null,null,null,null,null,null,null,null,null,null,null,null,214]
[null,null,null,null,null,null,null,null,null,null,null,null,null,null,null,null,null,null,null,null,null,null,null,null,null,null,null,null,null,null,215]
[null,null,null,null,null,null,null,null,null,null,null,null,null,null,null,null,null,null,null,null,null,null,null,null,null,null,null,null,null,null,216]
[null,null,null,null,null,null,null,null,null,null,null,null,null,null,null,null,null,null,null,null,null,null,null,null,null,null,null,null,null,null,217]
[null,null,null,null,null,null,null,null,null,null,null,null,null,null,null,null,null,null,null,null,null,null,null,null,null,null,null,null,null,null,218]
[null,null,null,null,null,null,null,null,null,null,null,null,null,null,null,null,null,null,null,null,null,null,null,null,null,null,null,null,null,null,219]
[null,null,null,null,null,null,null,null,null,null,null,null,null,null,null,null,null,null,null,null,null,null,null,null,null,null,null,null,null,null,220]
[null,null,null,null,null,null,null,null,null,null,null,null,null,null,null,null,null,null,null,null,null,null,null,null,null,null,null,null,null,null,221]
[null,null,null,null,null,null,null,null,null,null,null,null,null,null,null,null,null,null,null,null,null,null,null,null,null,null,null,null,null,null,222]
[null,null,null,null,null,null,null,null,null,null,null,null,null,null,null,null,null,null,null,null,null,null,null,null,null,null,null,null,null,null,223]
[null,null,null,null,null,null,null,null,null,null,null,null,null,null,null,null,null,null,null,null,null,null,null,null,null,null,null,null,null,null,224]
[null,null,null,null,null,null,null,null,null,null,null,null,null,null,null,null,null,null,null,null,null,null,null,null,null,null,null,null,null,null,225]
[null,null,null,null,null,null,null,null,null,null,null,null,null,null,null,null,null,null,null,null,null,null,null,null,null,null,null,null,null,null,226]
[null,null,null,null,null,null,null,null,null,null,null,null,null,null,null,null,null,null,null,null,null,null,null,null,null,null,null,null,null,null,227]
[null,null,null,null,null,null,null,null,null,null,null,null,null,null,null,null,null,null,null,null,null,null,null,null,null,null,null,null,null,null,228]
[null,null,null,null,null,null,null,null,null,null,null,null,null,null,null,null,null,null,null,null,null,null,null,null,null,null,null,null,null,null,229]
[null,null,null,null,null,null,null,null,null,null,null,null,null,null,null,null,null,null,null,null,null,null,null,null,null,null,null,null,null,null,230]
[null,null,null,null,null,null,null,null,null,null,null,null,null,null,null,null,null,null,null,null,null,null,null,null,null,null,null,null,null,null,231]
[null,null,null,null,null,null,null,null,null,null,null,null,null,null,null,null,null,null,null,null,null,null,null,null,null,null,null,null,null,null,232]
[null,null,null,null,null,null,null,null,null,null,null,null,null,null,null,null,null,null,null,null,null,null,null,null,null,null,null,null,null,null,233]
[null,null,null,null,null,null,null,null,null,null,null,null,null,null,null,null,null,null,null,null,null,null,null,null,null,null,null,null,null,null,234]
[null,null,null,null,null,null,null,null,null,null,null,null,null,null,null,null,null,null,null,null,null,null,null,null,null,null,null,null,null,null,235]
[null,null,null,null,null,null,null,null,null,null,null,null,null,null,null,null,null,null,null,null,null,null,null,null,null,null,null,null,null,null,236]
[null,null,null,null,null,null,null,null,null,null,null,null,null,null,null,null,null,null,null,null,null,null,null,null,null,null,null,null,null,null,237]
[null,null,null,null,null,null,null,null,null,null,null,null,null,null,null,null,null,null,null,null,null,null,null,null,null,null,null,null,null,null,238]
[null,null,null,null,null,null,null,null,null,null,null,null,null,null,null,null,null,null,null,null,null,null,null,null,null,null,null,null,null,null,239]
[null,null,null,null,null,null,null,null,null,null,null,null,null,null,null,null,null,null,null,null,null,null,null,null,null,null,null,null,null,null,240]
[null,null,null,null,null,null,null,null,null,null,null,null,null,null,null,null,null,null,null,null,null,null,null,null,null,null,null,null,null,null,241]
[null,null,null,null,null,null,null,null,null,null,null,null,null,null,null,null,null,null,null,null,null,null,null,null,null,null,null,null,null,null,242]
[null,null,null,null,null,null,null,null,null,null,null,null,null,null,null,null,null,null,null,null,null,null,null,null,null,null,null,null,null,null,243]
[null,null,null,null,null,null,null,null,null,null,null,null,null,null,null,null,null,null,null,null,null,null,null,null,null,null,null,null,null,null,244]
[null,null,null,null,null,null,null,null,null,null,null,null,null,null,null,null,null,null,null,null,null,null,null,null,null,null,null,null,null,null,245]
[null,null,null,null,null,null,null,null,null,null,null,null,null,null,null,null,null,null,null,null,null,null,null,null,null,null,null,null,null,null,246]
[null,null,null,null,null,null,null,null,null,null,null,null,null,null,null,null,null,null,null,null,null,null,null,null,null,null,null,null,null,null,247]
[null,null,null,null,null,null,null,null,null,null,null,null,null,null,null,null,null,null,null,null,null,null,null,null,null,null,null,null,null,null,248]
[null,null,null,null,null,null,null,null,null,null,null,null,null,null,null,null,null,null,null,null,null,null,null,null,null,null,null,null,null,null,249]
[null,null,null,null,null,null,null,null,null,null,null,null,null,null,null,null,null,null,null,null,null,null,null,null,null,null,null,null,null,null,250]
[null,null,null,null,null,null,null,null,null,null,null,null,null,null,null,null,null,null,null,null,null,null,null,null,null,null,null,null,null,null,251]
[null,null,null,null,null,null,null,null,null,null,null,null,null,null,null,null,null,null,null,null,null,null,null,null,null,null,null,null,null,null,252]
[null,null,null,null,null,null,null,null,null,null,null,null,null,null,null,null,null,null,null,null,null,null,null,null,null,null,null,null,null,null,253]
[null,null,null,null,null,null,null,null,null,null,null,null,null,null,null,null,null,null,null,null,null,null,null,null,null,null,null,null,null,null,254]
[null,null,null,null,null,null,null,null,null,null,null,null,null,null,null,null,null,null,null,null,null,null,null,null,null,null,null,null,null,null,255]
[null,null,null,null,null,null,null,null,null,null,null,null,null,null,null,null,null,null,null,null,null,null,null,null,null,null,null,null,null,null,256]
[null,null,null,null,null,null,null,null,null,null,null,null,null,null,null,null,null,null,null,null,null,null,null,null,null,null,null,null,null,null,257]
[null,null,null,null,null,null,null,null,null,null,null,null,null,null,null,null,null,null,null,null,null,null,null,null,null,null,null,null,null,null,258]
[null,null,null,null,null,null,null,null,null,null,null,null,null,null,null,null,null,null,null,null,null,null,null,null,null,null,null,null,null,null,259]
[null,null,null,null,null,null,null,null,null,null,null,null,null,null,null,null,null,null,null,null,null,null,null,null,null,null,null,null,null,null,260]
[null,null,null,null,null,null,null,null,null,null,null,null,null,null,null,null,null,null,null,null,null,null,null,null,null,null,null,null,null,null,261]
[null,null,null,null,null,null,null,null,null,null,null,null,null,null,null,null,null,null,null,null,null,null,null,null,null,null,null,null,null,null,262]
[null,null,null,null,null,null,null,null,null,null,null,null,null,null,null,null,null,null,null,null,null,null,null,null,null,null,null,null,null,null,263]
[null,null,null,null,null,null,null,null,null,null,null,null,null,null,null,null,null,null,null,null,null,null,null,null,null,null,null,null,null,null,264]
[null,null,null,null,null,null,null,null,null,null,null,null,null,null,null,null,null,null,null,null,null,null,null,null,null,null,null,null,null,null,265]
[null,null,null,null,null,null,null,null,null,null,null,null,null,null,null,null,null,null,null,null,null,null,null,null,null,null,null,null,null,null,266]
[null,null,null,null,null,null,null,null,null,null,null,null,null,null,null,null,null,null,null,null,null,null,null,null,null,null,null,null,null,null,267]
[null,null,null,null,null,null,null,null,null,null,null,null,null,null,null,null,null,null,null,null,null,null,null,null,null,null,null,null,null,null,{"$f":"AE293+11","v":268}]
[null,null,null,null,null,null,null,null,null,null,null,null,null,null,null,null,null,null,null,null,null,null,null,null,null,null,null,null,null,null,269]
[null,null,null,null,null,null,null,null,null,null,null,null,null,null,null,null,null,null,null,null,null,null,null,null,null,null,null,null,null,null,270]
[null,null,null,null,null,null,null,null,null,null,null,null,null,null,null,null,null,null,null,null,null,null,null,null,null,null,null,null,null,null,271]
[null,null,null,null,null,null,null,null,null,null,null,null,null,null,null,null,null,null,null,null,null,null,null,null,null,null,null,null,null,null,272]
[null,null,null,null,null,null,null,null,null,null,null,null,null,null,null,null,null,null,null,null,null,null,null,null,null,null,null,null,null,null,273]
[null,null,null,null,null,null,null,null,null,null,null,null,null,null,null,null,null,null,null,null,null,null,null,null,null,null,null,null,null,null,274]
[null,null,null,null,null,null,null,null,null,null,null,null,null,null,null,null,null,null,null,null,null,null,null,null,null,null,null,null,null,null,275]
[null,null,null,null,null,null,null,null,null,null,null,null,null,null,null,null,null,null,null,null,null,null,null,null,null,null,null,null,null,null,276]
[null,null,null,null,null,null,null,null,null,null,null,null,null,null,null,null,null,null,null,null,null,null,null,null,null,null,null,null,null,null,277]
[null,null,null,null,null,null,null,null,null,null,null,null,null,null,null,null,null,null,null,null,null,null,null,null,null,null,null,null,null,null,278]
[null,null,null,null,null,null,null,null,null,null,null,null,null,null,null,null,null,null,null,null,null,null,null,null,null,null,null,null,null,null,279]
[null,null,null,null,null,null,null,null,null,null,null,null,null,null,null,null,null,null,null,null,null,null,null,null,null,null,null,null,null,null,280]
[null,null,null,null,null,null,null,null,null,null,null,null,null,null,null,null,null,null,null,null,null,null,null,null,null,null,null,null,null,null,281]
[null,null,null,null,null,null,null,null,null,null,null,null,null,null,null,null,null,null,null,null,null,null,null,null,null,null,null,null,null,null,282]
[null,null,null,null,null,null,null,null,null,null,null,null,null,null,null,null,null,null,null,null,null,null,null,null,null,null,null,null,null,null,283]
[null,null,null,null,null,null,null,null,null,null,null,null,null,null,null,null,null,null,null,null,null,null,null,null,null,null,null,null,null,null,284]
[null,null,null,null,null,null,null,null,null,null,null,null,null,null,null,null,null,null,null,null,null,null,null,null,null,null,null,null,null,null,285]
[null,null,null,null,null,null,null,null,null,null,null,null,null,null,null,null,null,null,null,null,null,null,null,null,null,null,null,null,null,null,286]
[null,null,null,null,null,null,null,null,null,null,null,null,null,null,null,null,null,null,null,null,null,null,null,null,null,null,null,null,null,null,287]
[null,null,null,null,null,null,null,null,null,null,null,null,null,null,null,null,null,null,null,null,null,null,null,null,null,null,null,null,null,null,288]
[null,null,null,null,null,null,null,null,null,null,null,null,null,null,null,null,null,null,null,null,null,null,null,null,null,null,null,null,null,null,289]
[null,null,null,null,null,null,null,null,null,null,null,null,null,null,null,null,null,null,null,null,null,null,null,null,null,null,null,null,null,null,290]
[null,null,null,null,null,null,null,null,null,null,null,null,null,null,null,null,null,null,null,null,null,null,null,null,null,null,null,null,null,null,291]
[null,null,null,null,null,null,null,null,null,null,null,null,null,null,null,null,null,null,null,null,null,null,null,null,null,null,null,null,null,null,292]
[null,null,null,null,null,null,null,null,null,null,null,null,null,null,null,null,null,null,null,null,null,null,null,null,null,null,null,null,null,null,293]
[null,null,null,null,null,null,null,null,null,null,null,null,null,null,null,null,null,null,null,null,null,null,null,null,null,null,null,null,null,null,294]
[null,null,null,null,null,null,null,null,null,null,null,null,null,null,null,null,null,null,null,null,null,null,null,null,null,null,null,null,null,null,295]
[null,null,null,null,null,null,null,null,null,null,null,null,null,null,null,null,null,null,null,null,null,null,null,null,null,null,null,null,null,null,296]
[null,null,null,null,null,null,null,null,null,null,null,null,null,null,null,null,null,null,null,null,null,null,null,null,null,null,null,null,null,null,297]
[null,null,null,null,null,null,null,null,null,null,null,null,null,null,null,null,null,null,null,null,null,null,null,null,null,null,null,null,null,null,298]
[null,null,null,null,null,null,null,null,null,null,null,null,null,null,null,null,null,null,null,null,null,null,null,null,null,null,null,null,null,null,299]
[null,null,null,null,null,null,null,null,null,null,null,null,null,null,null,null,null,null,null,null,null,null,null,null,null,null,null,null,null,null,300]
[null,null,null,null,null,null,null,null,null,null,null,null,null,null,null,null,null,null,null,null,null,null,null,null,null,null,null,null,null,null,301]
[null,null,null,null,null,null,null,null,null,null,null,null,null,null,null,null,null,null,null,null,null,null,null,null,null,null,null,null,null,null,302]
[null,null,null,null,null,null,null,null,null,null,null,null,null,null,null,null,null,null,null,null,null,null,null,null,null,null,null,null,null,null,303]
[null,null,null,null,null,null,null,null,null,null,null,null,null,null,null,null,null,null,null,null,null,null,null,null,null,null,null,null,null,null,304]
[null,null,null,null,null,null,null,null,null,null,null,null,null,null,null,null,null,null,null,null,null,null,null,null,null,null,null,null,null,null,305]
[null,null,null,null,null,null,null,null,null,null,null,null,null,null,null,null,null,null,null,null,null,null,null,null,null,null,null,null,null,null,306]
[null,null,null,null,null,null,null,null,null,null,null,null,null,null,null,null,null,null,null,null,null,null,null,null,null,null,null,null,null,null,307]
[null,null,null,null,null,null,null,null,null,null,null,null,null,null,null,null,null,null,null,null,null,null,null,null,null,null,null,null,null,null,308]
[null,null,null,null,null,null,null,null,null,null,null,null,null,null,null,null,null,null,null,null,null,null,null,null,null,null,null,null,null,null,309]
[null,null,null,null,null,null,null,null,null,null,null,null,null,null,null,null,null,null,null,null,null,null,null,null,null,null,null,null,null,null,310]
[null,null,null,null,null,null,null,null,null,null,null,null,null,null,null,null,null,null,null,null,null,null,null,null,null,null,null,null,null,null,311]
[null,null,null,null,null,null,null,null,null,null,null,null,null,null,null,null,null,null,null,null,null,null,null,null,null,null,null,null,null,null,312]
[null,null,null,null,null,null,null,null,null,null,null,null,null,null,null,null,null,null,null,null,null,null,null,null,null,null,null,null,null,null,313]
[null,null,null,null,null,null,null,null,null,null,null,null,null,null,null,null,null,null,null,null,null,null,null,null,null,null,null,null,null,null,314]
[null,null,null,null,null,null,null,null,null,null,null,null,null,null,null,null,null,null,null,null,null,null,null,null,null,null,null,null,null,null,315]
[null,null,null,null,null,null,null,null,null,null,null,null,null,null,null,null,null,null,null,null,null,null,null,null,null,null,null,null,null,null,316]
[null,null,null,null,null,null,null,null,null,null,null,null,null,null,null,null,null,null,null,null,null,null,null,null,null,null,null,null,null,null,317]
[null,null,null,null,null,null,null,null,null,null,null,null,null,null,null,null,null,null,null,null,null,null,null,null,null,null,null,null,null,null,318]
[null,null,null,null,null,null,null,null,null,null,null,null,null,null,null,null,null,null,null,null,null,null,null,null,null,null,null,null,null,null,319]
[null,null,null,null,null,null,null,null,null,null,null,null,null,null,null,null,null,null,null,null,null,null,null,null,null,null,null,null,null,null,320]
[null,null,null,null,null,null,null,null,null,null,null,null,null,null,null,null,null,null,null,null,null,null,null,null,null,null,null,null,null,null,321]
[null,null,null,null,null,null,null,null,null,null,null,null,null,null,null,null,null,null,null,null,null,null,null,null,null,null,null,null,null,null,322]
[null,null,null,null,null,null,null,null,null,null,null,null,null,null,null,null,null,null,null,null,null,null,null,null,null,null,null,null,null,null,323]
[null,null,null,null,null,null,null,null,null,null,null,null,null,null,null,null,null,null,null,null,null,null,null,null,null,null,null,null,null,null,324]
[null,null,null,null,null,null,null,null,null,null,null,null,null,null,null,null,null,null,null,null,null,null,null,null,null,null,null,null,null,null,325]
[null,null,null,null,null,null,null,null,null,null,null,null,null,null,null,null,null,null,null,null,null,null,null,null,null,null,null,null,null,null,326]
[null,null,null,null,null,null,null,null,null,null,null,null,null,null,null,null,null,null,null,null,null,null,null,null,null,null,null,null,null,null,327]
[null,null,null,null,null,null,null,null,null,null,null,null,null,null,null,null,null,null,null,null,null,null,null,null,null,null,null,null,null,null,328]
[null,null,null,null,null,null,null,null,null,null,null,null,null,null,null,null,null,null,null,null,null,null,null,null,null,null,null,null,null,null,329]
[null,null,null,null,null,null,null,null,null,null,null,null,null,null,null,null,null,null,null,null,null,null,null,null,null,null,null,null,null,null,330]
[null,null,null,null,null,null,null,null,null,null,null,null,null,null,null,null,null,null,null,null,null,null,null,null,null,null,null,null,null,null,331]
[null,null,null,null,null,null,null,null,null,null,null,null,null,null,null,null,null,null,null,null,null,null,null,null,null,null,null,null,null,null,{"$f":"AE357+11","v":332}]
[null,null,null,null,null,null,null,null,null,null,null,null,null,null,null,null,null,null,null,null,null,null,null,null,null,null,null,null,null,null,333]
[null,null,null,null,null,null,null,null,null,null,null,null,null,null,null,null,null,null,null,null,null,null,null,null,null,null,null,null,null,null,334]
[null,null,null,null,null,null,null,null,null,null,null,null,null,null,null,null,null,null,null,null,null,null,null,null,null,null,null,null,null,null,335]
[null,null,null,null,null,null,null,null,null,null,null,null,null,null,null,null,null,null,null,null,null,null,null,null,null,null,null,null,null,null,336]
[null,null,null,null,null,null,null,null,null,null,null,null,null,null,null,null,null,null,null,null,null,null,null,null,null,null,null,null,null,null,337]
[null,null,null,null,null,null,null,null,null,null,null,null,null,null,null,null,null,null,null,null,null,null,null,null,null,null,null,null,null,null,338]
[null,null,null,null,null,null,null,null,null,null,null,null,null,null,null,null,null,null,null,null,null,null,null,null,null,null,null,null,null,null,339]
[null,null,null,null,null,null,null,null,null,null,null,null,null,null,null,null,null,null,null,null,null,null,null,null,null,null,null,null,null,null,340]
[null,null,null,null,null,null,null,null,null,null,null,null,null,null,null,null,null,null,null,null,null,null,null,null,null,null,null,null,null,null,341]
[null,null,null,null,null,null,null,null,null,null,null,null,null,null,null,null,null,null,null,null,null,null,null,null,null,null,null,null,null,null,342]
[null,null,null,null,null,null,null,null,null,null,null,null,null,null,null,null,null,null,null,null,null,null,null,null,null,null,null,null,null,null,343]
[null,null,null,null,null,null,null,null,null,null,null,null,null,null,null,null,null,null,null,null,null,null,null,null,null,null,null,null,null,null,344]
[null,null,null,null,null,null,null,null,null,null,null,null,null,null,null,null,null,null,null,null,null,null,null,null,null,null,null,null,null,null,345]
[null,null,null,null,null,null,null,null,null,null,null,null,null,null,null,null,null,null,null,null,null,null,null,null,null,null,null,null,null,null,346]
[null,null,null,null,null,null,null,null,null,null,null,null,null,null,null,null,null,null,null,null,null,null,null,null,null,null,null,null,null,null,347]
[null,null,null,null,null,null,null,null,null,null,null,null,null,null,null,null,null,null,null,null,null,null,null,null,null,null,null,null,null,null,348]
[null,null,null,null,null,null,null,null,null,null,null,null,null,null,null,null,null,null,null,null,null,null,null,null,null,null,null,null,null,null,349]
[null,null,null,null,null,null,null,null,null,null,null,null,null,null,null,null,null,null,null,null,null,null,null,null,null,null,null,null,null,null,350]
[null,null,null,null,null,null,null,null,null,null,null,null,null,null,null,null,null,null,null,null,null,null,null,null,null,null,null,null,null,null,351]
[null,null,null,null,null,null,null,null,null,null,null,null,null,null,null,null,null,null,null,null,null,null,null,null,null,null,null,null,null,null,352]
[null,null,null,null,null,null,null,null,null,null,null,null,null,null,null,null,null,null,null,null,null,null,null,null,null,null,null,null,null,null,353]
[null,null,null,null,null,null,null,null,null,null,null,null,null,null,null,null,null,null,null,null,null,null,null,null,null,null,null,null,null,null,354]
[null,null,null,null,null,null,null,null,null,null,null,null,null,null,null,null,null,null,null,null,null,null,null,null,null,null,null,null,null,null,355]
[null,null,null,null,null,null,null,null,null,null,null,null,null,null,null,null,null,null,null,null,null,null,null,null,null,null,null,null,null,null,356]
[null,null,null,null,null,null,null,null,null,null,null,null,null,null,null,null,null,null,null,null,null,null,null,null,null,null,null,null,null,null,357]
[null,null,null,null,null,null,null,null,null,null,null,null,null,null,null,null,null,null,null,null,null,null,null,null,null,null,null,null,null,null,358]
[null,null,null,null,null,null,null,null,null,null,null,null,null,null,null,null,null,null,null,null,null,null,null,null,null,null,null,null,null,null,359]
[null,null,null,null,null,null,null,null,null,null,null,null,null,null,null,null,null,null,null,null,null,null,null,null,null,null,null,null,null,null,360]
[null,null,null,null,null,null,null,null,null,null,null,null,null,null,null,null,null,null,null,null,null,null,null,null,null,null,null,null,null,null,361]
[null,null,null,null,null,null,null,null,null,null,null,null,null,null,null,null,null,null,null,null,null,null,null,null,null,null,null,null,null,null,362]
[null,null,null,null,null,null,null,null,null,null,null,null,null,null,null,null,null,null,null,null,null,null,null,null,null,null,null,null,null,null,363]
[null,null,null,null,null,null,null,null,null,null,null,null,null,null,null,null,null,null,null,null,null,null,null,null,null,null,null,null,null,null,364]
[null,null,null,null,null,null,null,null,null,null,null,null,null,null,null,null,null,null,null,null,null,null,null,null,null,null,null,null,null,null,365]
[null,null,null,null,null,null,null,null,null,null,null,null,null,null,null,null,null,null,null,null,null,null,null,null,null,null,null,null,null,null,366]
[null,null,null,null,null,null,null,null,null,null,null,null,null,null,null,null,null,null,null,null,null,null,null,null,null,null,null,null,null,null,367]
[null,null,null,null,null,null,null,null,null,null,null,null,null,null,null,null,null,null,null,null,null,null,null,null,null,null,null,null,null,null,368]
[null,null,null,null,null,null,null,null,null,null,null,null,null,null,null,null,null,null,null,null,null,null,null,null,null,null,null,null,null,null,369]
[null,null,null,null,null,null,null,null,null,null,null,null,null,null,null,null,null,null,null,null,null,null,null,null,null,null,null,null,null,null,370]
[null,null,null,null,null,null,null,null,null,null,null,null,null,null,null,null,null,null,null,null,null,null,null,null,null,null,null,null,null,null,371]
[null,null,null,null,null,null,null,null,null,null,null,null,null,null,null,null,null,null,null,null,null,null,null,null,null,null,null,null,null,null,372]
[null,null,null,null,null,null,null,null,null,null,null,null,null,null,null,null,null,null,null,null,null,null,null,null,null,null,null,null,null,null,373]
[null,null,null,null,null,null,null,null,null,null,null,null,null,null,null,null,null,null,null,null,null,null,null,null,null,null,null,null,null,null,374]
[null,null,null,null,null,null,null,null,null,null,null,null,null,null,null,null,null,null,null,null,null,null,null,null,null,null,null,null,null,null,375]
[null,null,null,null,null,null,null,null,null,null,null,null,null,null,null,null,null,null,null,null,null,null,null,null,null,null,null,null,null,null,376]
[null,null,null,null,null,null,null,null,null,null,null,null,null,null,null,null,null,null,null,null,null,null,null,null,null,null,null,null,null,null,377]
[null,null,null,null,null,null,null,null,null,null,null,null,null,null,null,null,null,null,null,null,null,null,null,null,null,null,null,null,null,null,378]
[null,null,null,null,null,null,null,null,null,null,null,null,null,null,null,null,null,null,null,null,null,null,null,null,null,null,null,null,null,null,379]
[null,null,null,null,null,null,null,null,null,null,null,null,null,null,null,null,null,null,null,null,null,null,null,null,null,null,null,null,null,null,380]
[null,null,null,null,null,null,null,null,null,null,null,null,null,null,null,null,null,null,null,null,null,null,null,null,null,null,null,null,null,null,381]
[null,null,null,null,null,null,null,null,null,null,null,null,null,null,null,null,null,null,null,null,null,null,null,null,null,null,null,null,null,null,382]
[null,null,null,null,null,null,null,null,null,null,null,null,null,null,null,null,null,null,null,null,null,null,null,null,null,null,null,null,null,null,383]
[null,null,null,null,null,null,null,null,null,null,null,null,null,null,null,null,null,null,null,null,null,null,null,null,null,null,null,null,null,null,384]
[null,null,null,null,null,null,null,null,null,null,null,null,null,null,null,null,null,null,null,null,null,null,null,null,null,null,null,null,null,null,385]
[null,null,null,null,null,null,null,null,null,null,null,null,null,null,null,null,null,null,null,null,null,null,null,null,null,null,null,null,null,null,386]
[null,null,null,null,null,null,null,null,null,null,null,null,null,null,null,null,null,null,null,null,null,null,null,null,null,null,null,null,null,null,387]
[null,null,null,null,null,null,null,null,null,null,null,null,null,null,null,null,null,null,null,null,null,null,null,null,null,null,null,null,null,null,388]
[null,null,null,null,null,null,null,null,null,null,null,null,null,null,null,null,null,null,null,null,null,null,null,null,null,null,null,null,null,null,389]
[null,null,null,null,null,null,null,null,null,null,null,null,null,null,null,null,null,null,null,null,null,null,null,null,null,null,null,null,null,null,390]
[null,null,null,null,null,null,null,null,null,null,null,null,null,null,null,null,null,null,null,null,null,null,null,null,null,null,null,null,null,null,391]
[null,null,null,null,null,null,null,null,null,null,null,null,null,null,null,null,null,null,null,null,null,null,null,null,null,null,null,null,null,null,392]
[null,null,null,null,null,null,null,null,null,null,null,null,null,null,null,null,null,null,null,null,null,null,null,null,null,null,null,null,null,null,393]
[null,null,null,null,null,null,null,null,null,null,null,null,null,null,null,null,null,null,null,null,null,null,null,null,null,null,null,null,null,null,394]
[null,null,null,null,null,null,null,null,null,null,null,null,null,null,null,null,null,null,null,null,null,null,null,null,null,null,null,null,null,null,395]
[null,null,null,null,null,null,null,null,null,null,null,null,null,null,null,null,null,null,null,null,null,null,null,null,null,null,null,null,null,null,{"$f":"AE421+11","v":396}]
[null,null,null,null,null,null,null,null,null,null,null,null,null,null,null,null,null,null,null,null,null,null,null,null,null,null,null,null,null,null,397]
[null,null,null,null,null,null,null,null,null,null,null,null,null,null,null,null,null,null,null,null,null,null,null,null,null,null,null,null,null,null,398]
[null,null,null,null,null,null,null,null,null,null,null,null,null,null,null,null,null,null,null,null,null,null,null,null,null,null,null,null,null,null,399]
[null,null,null,null,null,null,null,null,null,null,null,null,null,null,null,null,null,null,null,null,null,null,null,null,null,null,null,null,null,null,400]
[null,null,null,null,null,null,null,null,null,null,null,null,null,null,null,null,null,null,null,null,null,null,null,null,null,null,null,null,null,null,401]
[null,null,null,null,null,null,null,null,null,null,null,null,null,null,null,null,null,null,null,null,null,null,null,null,null,null,null,null,null,null,402]
[null,null,null,null,null,null,null,null,null,null,null,null,null,null,null,null,null,null,null,null,null,null,null,null,null,null,null,null,null,null,403]
[null,null,null,null,null,null,null,null,null,null,null,null,null,null,null,null,null,null,null,null,null,null,null,null,null,null,null,null,null,null,404]
[null,null,null,null,null,null,null,null,null,null,null,null,null,null,null,null,null,null,null,null,null,null,null,null,null,null,null,null,null,null,405]
[null,null,null,null,null,null,null,null,null,null,null,null,null,null,null,null,null,null,null,null,null,null,null,null,null,null,null,null,null,null,406]
[null,null,null,null,null,null,null,null,null,null,null,null,null,null,null,null,null,null,null,null,null,null,null,null,null,null,null,null,null,null,407]
[null,null,null,null,null,null,null,null,null,null,null,null,null,null,null,null,null,null,null,null,null,null,null,null,null,null,null,null,null,null,408]
[null,null,null,null,null,null,null,null,null,null,null,null,null,null,null,null,null,null,null,null,null,null,null,null,null,null,null,null,null,null,409]
[null,null,null,null,null,null,null,null,null,null,null,null,null,null,null,null,null,null,null,null,null,null,null,null,null,null,null,null,null,null,410]
[null,null,null,null,null,null,null,null,null,null,null,null,null,null,null,null,null,null,null,null,null,null,null,null,null,null,null,null,null,null,411]
[null,null,null,null,null,null,null,null,null,null,null,null,null,null,null,null,null,null,null,null,null,null,null,null,null,null,null,null,null,null,412]
[null,null,null,null,null,null,null,null,null,null,null,null,null,null,null,null,null,null,null,null,null,null,null,null,null,null,null,null,null,null,413]
[null,null,null,null,null,null,null,null,null,null,null,null,null,null,null,null,null,null,null,null,null,null,null,null,null,null,null,null,null,null,414]
[null,null,null,null,null,null,null,null,null,null,null,null,null,null,null,null,null,null,null,null,null,null,null,null,null,null,null,null,null,null,415]
[null,null,null,null,null,null,null,null,null,null,null,null,null,null,null,null,null,null,null,null,null,null,null,null,null,null,null,null,null,null,416]
[null,null,null,null,null,null,null,null,null,null,null,null,null,null,null,null,null,null,null,null,null,null,null,null,null,null,null,null,null,null,417]
[null,null,null,null,null,null,null,null,null,null,null,null,null,null,null,null,null,null,null,null,null,null,null,null,null,null,null,null,null,null,418]

{"sheet":"RESTBILL","index":13,"n_rows":123,"n_cols":50,"rows_kept":123,"cut":false,"hidden":false,"merged":[[13,2,14,10],[13,11,14,11]]}
[null,null,null,null,1]
[null,1,null,null,null,null,null,null,null,null,null,null,null,null,null,null,null,null,null,null,null,null,null,null,null,null,null,null,null,1,{"$f":"IF(AD2=1,10,IF(AD2=2,10,1))","v":10},null,null,null,null,{"$f":"AJ3+AJ4","v":13200},{"$f":"IF(AJ2<100,1,0)","v":0},{"$f":"IF(AJ2/100=ROUNDDOWN(AJ2/100,0),1,0)","v":1},{"$f":"IF(AJ2/10=ROUNDDOWN(AJ2/10,0),1,0)","v":1},{"$f":"AK2+AL2*2+AM2*4","v":6},{"$f":"IF(AN2=0,CONCATENATE($D$3,ROUND(AJ2/100,2)),IF(AN2=1,CONCATENATE(ROUND(AJ2,0),$AQ$4),IF(AN2=4,CONCATENATE($D$3,AJ2/100,\"0\"),IF(AN2=5,CONCATENATE(AJ2,$AQ$4),IF(AN2=6,CONCATENATE($D$3,AJ2/100),AR2)))))","v":"£132"},null,null,{"$f":"IF(E1=1,\"0p\",IF(E1=2,\"0¢\",\"0c\"))","v":"0p"}]
[null,1,null,{"$f":"IF(E1=1,\"£\",IF(E1=2,\"$\",IF(E1=3,\"€\",\"R\")))","v":"£"},8,{"$f":"VLOOKUP(E3,AG4:AH103,2)","v":"eight"},102,1800,{"$f":"G3*100+H3","v":12000},20,{"$f":"J3/2","v":10},{"$f":"K3/100","v":0.1},{"$f":"I3/100","v":120},null,null,null,null,null,null,null,null,null,null,null,null,null,null,null,null,null,null,null,null,null,null,{"$f":"ROUND(L3*M3*100,0)","v":1200},{"$f":"IF(AJ3<100,1,0)","v":0},{"$f":"IF(AJ3/100=ROUNDDOWN(AJ3/100,0),1,0)","v":1},{"$f":"IF(AJ3/10=ROUNDDOWN(AJ3/10,0),1,0)","v":1},{"$f":"AK3+AL3*2+AM3*4","v":6},{"$f":"IF(AN3=0,CONCATENATE($D$3,ROUND(AJ3/100,2)),IF(AN3=1,CONCATENATE(ROUND(AJ3,0),$AQ$4),IF(AN3=4,CONCATENATE($D$3,AJ3/100,\"0\"),IF(AN3=5,CONCATENATE(AJ3,$AQ$4),IF(AN3=6,CONCATENATE($D$3,AJ3/100),AR2)))))","v":"£12"},null,{"$f":"L3*M3*100-AJ3","v":0},{"$f":"IF(AQ3=0,\"\",$AR$4)","v":""}]
[null,1,"The total cost of the",null,null,null,null,null,null,null,null,null,null,null,"food",{"$f":"CONCATENATE(\"\",IF($B$4=1,$F$3,\"    ?    \"),IF(E3=1,\" person \",\" people \"))","v":"eight people "},null,null,null,null,null,null,null,null,null,{"$f":"IF(ROUND(AP9,0)=ROUND(AP9,9),\"  ⁿ  \",IF(AND(AQ9=0,AQ3=0),\"  •  \",\"  ∙  \"))","v":"  •  "},null,null,null,null,null,null,1,"one",null,{"$f":"I3","v":12000},{"$f":"IF(AJ4<100,1,0)","v":0},{"$f":"IF(AJ4/100=ROUNDDOWN(AJ4/100,0),1,0)","v":1},{"$f":"IF(AJ4/10=ROUNDDOWN(AJ4/10,0),1,0)","v":1},{"$f":"AK4+AL4*2+AM4*4","v":6},{"$f":"IF(AN4=0,CONCATENATE($D$3,ROUND(AJ4/100,2)),IF(AN4=1,CONCATENATE(ROUND(AJ4,0),$AQ$4),IF(AN4=4,CONCATENATE($D$3,AJ4/100,\"0\"),IF(AN4=5,CONCATENATE(AJ4,$AQ$4),IF(AN4=6,CONCATENATE($D$3,AJ4/100,\".00\"),AR2)))))","v":"£120.00"},{"$f":"IF(E1=1,\"£\",IF(E1=2,\"$\",IF(E1=3,\"€\",\"R\")))","v":"£"},{"$f":"IF(E1=1,\"p\",\"c\")","v":"p"},{"$f":"IF(E1=1,\"(nearest p)\",\"(nearest c)\")","v":"(nearest p)"},null,{"$f":"IF(AJ4>=100000,\"             \",IF(AJ4>=10000,\"           \",IF(AJ4>=1000,\"         \",\"       \")))","v":"           "}]
[null,null,"eat",null,"is",{"$f":"IF(B2=0,CONCATENATE(D3,\"    ?\"),CONCATENATE(\"\",IF($B$2=1,$AO$4,CONCATENATE($D$3,$AT$4)),IF($B$2=1,\"\",\"\")))","v":"£120.00"},null,null,null,"and then they",null,null,null,null,null,null,null,null,"add a",{"$f":"CONCATENATE(\"\",IF($B$3=1,$AK$6,\" ? \"),\"% tip.\")","v":"10% tip."},null,null,null,null,null,null,null,null,null,null,null,null,2,"two"]
[null,null,"Find (i) the tip (ii) total bill (iii) each share.",null,null,null,null,null,null,null,null,null,null,null,null,null,null,null,null,null,null,null,null,null,null,null,null,null,null,null,null,null,3,"three",null,{"$f":"K3","v":10},{"$f":"AQ6","v":"10"},{"$f":"ABS(AJ6)","v":10},{"$f":"IF(AJ6<0,\"-\",\"\")","v":""},{"$f":"ROUNDDOWN(AL6,0)","v":10},{"$f":"ROUND(AL6-AN6,3)","v":0},{"$f":"IF(AO6=AR6,AR7,IF(AO6=AS6,AS7,IF(AO6=AT6,AT7,IF(AO6=AU6,AU7,IF(AO6=AV6,AV7,IF(AO6=AW6,AW7,IF(AO6=AX6,AX7,AO6)))))))","v":0},{"$f":"IF(AP6=AO6,CONCATENATE(AM6,AN6+AP6),IF(AN6=0,CONCATENATE(AM6,AP6),CONCATENATE(AM6,AN6,AP6)))","v":"10"},0.125,0.25,0.375,0.5,0.625,0.75,0.875]
[null,null,null,null,null,null,null,null,null,null,null,null,null,null,null,null,null,null,null,null,null,null,null,null,null,null,null,null,null,null,null,null,4,"four",null,null,{"$f":"AQ7","v":"0"},{"$f":"ABS(AJ7)","v":0},{"$f":"IF(AJ7<0,\"-\",\"\")","v":""},{"$f":"ROUNDDOWN(AL7,0)","v":0},{"$f":"ROUND(AL7-AN7,3)","v":0},{"$f":"IF(AO7=AR6,AR7,IF(AO7=AS6,AS7,IF(AO7=AT6,AT7,IF(AO7=AU6,AU7,IF(AO7=AV6,AV7,IF(AO7=AW6,AW7,IF(AO7=AX6,AX7,AO7)))))))","v":0},{"$f":"IF(AP7=AO7,CONCATENATE(AM7,AN7+AP7),IF(AN7=0,CONCATENATE(AM7,AP7),CONCATENATE(AM7,AN7,AP7)))","v":"0"},"⅛","¼","⅜","½","⅝","¾","⅞"]
[null,null,null,null,null,null,null,null,null,null,null,null,null,null,null,null,null,null,null,null,null,null,null,null,null,null,null,null,null,null,null,null,5,"five"]
[null,1,null,null,null,null,null,null,null,null,{"$f":"CONCATENATE(\"\",$AK$6,\"% of \",AP33)","v":"10% of £120"},"=",{"$f":"IF(B9=1,CONCATENATE($L$3),IF(B9=2,CONCATENATE($L$3,\" × \",),CONCATENATE($L$3,\" × \",I3/100)))","v":"0.1"},null,null,null,null,null,null,null,null,null,null,null,null,null,null,null,null,null,null,null,6,"six",null,{"$f":"ROUND(AJ2/E3,0)","v":1650},{"$f":"IF(AJ9<100,1,0)","v":0},{"$f":"IF(AJ9/100=ROUNDDOWN(AJ9/100,0),1,0)","v":0},{"$f":"IF(AJ9/10=ROUNDDOWN(AJ9/10,0),1,0)","v":1},{"$f":"AK9+AL9*2+AM9*4","v":4},{"$f":"IF(AN9=0,CONCATENATE($D$3,ROUND(AJ9/100,2)),IF(AN9=1,CONCATENATE(ROUND(AJ9,0),$AQ$4),IF(AN9=4,CONCATENATE($D$3,AJ9/100,\"0\"),IF(AN9=5,CONCATENATE(AJ9,$AQ$4),IF(AN9=6,CONCATENATE($D$3,AJ9/100),AR2)))))","v":"£16.50"},{"$f":"AJ2/E3/100","v":16.5},{"$f":"AJ9/100-AP9","v":0},{"$f":"IF(AQ9=0,\"(exact)\",$AR$4)","v":"(exact)"}]
[null,null,null,null,null,null,null,null,null,null,null,"=",{"$f":"CONCATENATE(,$L$3*$M$3,)","v":"12"},null,null,null,null,null,null,null,null,null,null,null,null,null,null,null,null,null,null,null,7,"seven"]
[null,null,null,null,null,null,null,null,null,null,"tip","=",{"$f":"CONCATENATE($AO$3,\" \",AR3)","v":"£12 "},null,null,null,null,null,null,null,null,null,null,null,null,null,null,null,null,null,null,null,8,"eight"]
[null,1,null,null,null,null,null,null,null,null,"cost of food plus tip","=",{"$f":"IF(B12=1,CONCATENATE($AP33),IF(B12=2,CONCATENATE($AP33,\" +\"),CONCATENATE($AP33,\" + \",$AO$3)))","v":"£120"},null,null,null,null,null,null,null,null,null,null,null,null,null,null,null,null,null,null,null,9,"nine"]
[null,null,null,null,null,null,null,null,null,null,"total bill","=",{"$f":"CONCATENATE($AO$2)","v":"£132"},null,null,null,null,null,null,null,null,null,null,null,null,null,null,null,null,null,null,null,10,"ten"]
[null,null,"each share",null,null,null,null,null,null,null,null,"=",{"$f":"IF(AJ2>=100000,CONCATENATE(\"\",AJ2/100,\"  \"),IF(AJ2>=10000,CONCATENATE(\"  \",AJ2/100,\"  \"),IF(AJ2>=100,CONCATENATE(\"    \",AJ2/100,\"  \"),IF(AJ2>=10,CONCATENATE(\"        \",AJ2/100,\"  \"),CONCATENATE(\"  \",AJ2/100,\"  \")))))","v":"  132  "},null,null,null,null,null,null,null,null,null,null,null,null,null,null,null,null,null,null,null,11,"eleven"]
[null,null,null,null,null,null,null,null,null,null,null,null,{"$f":"IF(E3>=100,CONCATENATE(\"  \",E3),IF(E3>=10,CONCATENATE(\"    \",E3),CONCATENATE(\"    \",E3)))","v":"    8"},null,null,null,null,null,null,null,null,null,null,null,null,null,null,null,null,null,null,null,12,"twelve"]
[null,null,null,null,null,null,null,null,null,null,null,"=",{"$f":"CONCATENATE(,ROUND(AP9,9))","v":"16.5"},null,null,null,null,null,null,null,null,null,null,null,null,null,null,null,null,null,null,null,13,"thirteen"]
[null,null,null,null,null,null,null,null,null,null,null,null,null,null,null,null,null,null,null,null,null,null,null,null,null,null,null,null,null,null,null,null,14,"fourteen"]
[null,null,null,null,null,null,null,null,null,null,{"$f":"C14","v":"each share"},"=",{"$f":"CONCATENATE($AO$9,\" \",AR9)","v":"£16.50 (exact)"},null,null,null,null,null,null,null,null,null,null,null,null,null,null,null,null,null,null,null,15,"fifteen"]
[null,null,null,null,null,null,null,null,null,null,null,null,null,null,null,null,null,null,null,null,null,null,null,null,null,null,null,null,null,null,null,null,16,"sixteen"]
[null,null,null,null,null,null,null,null,null,null,null,null,null,null,null,null,null,null,null,null,null,null,null,null,null,null,null,null,null,null,null,null,17,"seventeen"]
[null,null,null,null,null,null,null,null,null,null,null,null,null,null,null,null,null,null,null,null,null,null,null,null,null,null,null,null,null,null,null,null,18,"eighteen"]
[null,null,null,null,null,null,null,null,null,null,null,null,null,null,null,null,null,null,null,null,null,null,null,null,null,null,null,null,null,null,null,null,19,"nineteen"]
[null,null,null,null,null,null,null,null,null,null,null,null,null,null,null,null,null,null,null,null,null,null,null,null,null,null,null,null,null,null,null,null,20,"twenty"]
[null,null,null,null,null,null,null,null,null,null,null,null,null,null,null,null,null,null,null,null,null,null,null,null,null,null,null,null,null,null,null,null,21,"twenty-one"]
[null,null,null,null,null,null,null,null,null,null,null,null,null,null,null,null,null,null,null,null,null,null,null,null,null,null,null,null,null,null,null,null,22,"twenty-two"]
[null,null,null,null,null,null,null,null,null,null,null,null,null,null,null,null,null,null,null,null,null,null,null,null,null,null,null,null,null,null,null,null,23,"twenty-three"]
[null,null,null,null,null,null,null,null,null,null,null,null,null,null,null,null,null,null,null,null,null,null,null,null,null,null,null,null,null,null,null,null,24,"twenty-four"]
[null,null,null,null,null,null,null,null,null,null,null,null,null,null,null,null,null,null,null,null,null,null,null,null,null,null,null,null,null,null,null,null,25,"twenty-five"]
[null,null,null,null,null,null,null,null,null,null,null,null,null,null,null,null,null,null,null,null,null,null,null,null,null,null,null,null,null,null,null,null,26,"twenty-six"]
[null,null,null,null,null,null,null,null,null,null,null,null,null,null,null,null,null,null,null,null,null,null,null,null,null,null,null,null,null,null,null,null,27,"twenty-seven"]
[null,null,null,null,null,null,null,null,null,null,null,null,null,null,null,null,null,null,null,null,null,null,null,null,null,null,null,null,null,null,null,null,28,"twenty-eight"]
[null,null,null,null,null,null,null,null,null,null,null,null,null,null,null,null,null,null,null,null,null,null,null,null,null,null,null,null,null,null,null,null,29,"twenty-nine"]
[null,null,null,null,null,null,null,null,null,null,null,null,null,null,null,null,null,null,null,null,null,null,null,null,null,null,null,null,null,null,null,null,30,"thirty",null,null,{"$f":"I3","v":12000},{"$f":"IF(AK33<100,1,0)","v":0},{"$f":"IF(AK33/100=ROUNDDOWN(AK33/100,0),1,0)","v":1},{"$f":"IF(AK33/10=ROUNDDOWN(AK33/10,0),1,0)","v":1},{"$f":"AL33+AM33*2+AN33*4","v":6},{"$f":"IF(AO33=0,CONCATENATE(AT33,ROUND(AK33/100,2)),IF(AO33=1,CONCATENATE(ROUND(AK33,0),AQ33),IF(AO33=4,CONCATENATE(AT33,AK33/100,\"0\"),IF(AO33=5,CONCATENATE(AK33,AQ33),IF(AO33=6,CONCATENATE(AT33,AK33/100),AR33)))))","v":"£120"},{"$f":"IF(AS33=1,\"p\",\"c\")","v":"p"},{"$f":"IF(AS33=1,\"0p\",IF(AS33=2,\"0c\",\"0c\"))","v":"0p"},{"$f":"E1","v":1},{"$f":"IF(AS33=1,\"£\",IF(AS33=2,\"$\",IF(AS33=3,\"€\",\"R\")))","v":"£"}]
[null,null,null,null,null,null,null,null,null,null,null,null,null,null,null,null,null,null,null,null,null,null,null,null,null,null,null,null,null,null,null,null,31,"thirty-one"]
[null,null,null,null,null,null,null,null,null,null,null,null,null,null,null,null,null,null,null,null,null,null,null,null,null,null,null,null,null,null,null,null,32,"thirty-two"]
[null,null,null,null,null,null,null,null,null,null,null,null,null,null,null,null,null,null,null,null,null,null,null,null,null,null,null,null,null,null,null,null,33,"thirty-three"]
[null,null,null,null,null,null,null,null,null,null,null,null,null,null,null,null,null,null,null,null,null,null,null,null,null,null,null,null,null,null,null,null,34,"thirty-four"]
[null,null,null,null,null,null,null,null,null,null,null,null,null,null,null,null,null,null,null,null,null,null,null,null,null,null,null,null,null,null,null,null,35,"thirty-five"]
[null,null,null,null,null,null,null,null,null,null,null,null,null,null,null,null,null,null,null,null,null,null,null,null,null,null,null,null,null,null,null,null,36,"thirty-six"]
[null,null,null,null,null,null,null,null,null,null,null,null,null,null,null,null,null,null,null,null,null,null,null,null,null,null,null,null,null,null,null,null,37,"thirty-seven"]
[null,null,null,null,null,null,null,null,null,null,null,null,null,null,null,null,null,null,null,null,null,null,null,null,null,null,null,null,null,null,null,null,38,"thirty-eight"]
[null,null,null,null,null,null,null,null,null,null,null,null,null,null,null,null,null,null,null,null,null,null,null,null,null,null,null,null,null,null,null,null,39,"thirty-nine"]
[null,null,null,null,null,null,null,null,null,null,null,null,null,null,null,null,null,null,null,null,null,null,null,null,null,null,null,null,null,null,null,null,40,"forty"]
[null,null,null,null,null,null,null,null,null,null,null,null,null,null,null,null,null,null,null,null,null,null,null,null,null,null,null,null,null,null,null,null,41,"forty-one"]
[null,null,null,null,null,null,null,null,null,null,null,null,null,null,null,null,null,null,null,null,null,null,null,null,null,null,null,null,null,null,null,null,42,"forty-two"]
[null,null,null,null,null,null,null,null,null,null,null,null,null,null,null,null,null,null,null,null,null,null,null,null,null,null,null,null,null,null,null,null,43,"forty-three"]
[null,null,null,null,null,null,null,null,null,null,null,null,null,null,null,null,null,null,null,null,null,null,null,null,null,null,null,null,null,null,null,null,44,"forty-four"]
[null,null,null,null,null,null,null,null,null,null,null,null,null,null,null,null,null,null,null,null,null,null,null,null,null,null,null,null,null,null,null,null,45,"forty-five"]
[null,null,null,null,null,null,null,null,null,null,null,null,null,null,null,null,null,null,null,null,null,null,null,null,null,null,null,null,null,null,null,null,46,"forty-six"]
[null,null,null,null,null,null,null,null,null,null,null,null,null,null,null,null,null,null,null,null,null,null,null,null,null,null,null,null,null,null,null,null,47,"forty-seven"]
[null,null,null,null,null,null,null,null,null,null,null,null,null,null,null,null,null,null,null,null,null,null,null,null,null,null,null,null,null,null,null,null,48,"forty-eight"]
[null,null,null,null,null,null,null,null,null,null,null,null,null,null,null,null,null,null,null,null,null,null,null,null,null,null,null,null,null,null,null,null,49,"forty-nine"]
[null,null,null,null,null,null,null,null,null,null,null,null,null,null,null,null,null,null,null,null,null,null,null,null,null,null,null,null,null,null,null,null,50,"fifty"]
[null,null,null,null,null,null,null,null,null,null,null,null,null,null,null,null,null,null,null,null,null,null,null,null,null,null,null,null,null,null,null,null,51,{"$f":"CONCATENATE(AH53,\"-\",$AH$4)","v":"fifty-one"}]
[null,null,null,null,null,null,null,null,null,null,null,null,null,null,null,null,null,null,null,null,null,null,null,null,null,null,null,null,null,null,null,null,52,{"$f":"CONCATENATE(AH53,\"-\",$AH$5)","v":"fifty-two"}]
[null,null,null,null,null,null,null,null,null,null,null,null,null,null,null,null,null,null,null,null,null,null,null,null,null,null,null,null,null,null,null,null,53,{"$f":"CONCATENATE(AH53,\"-\",$AH$6)","v":"fifty-three"}]
[null,null,null,null,null,null,null,null,null,null,null,null,null,null,null,null,null,null,null,null,null,null,null,null,null,null,null,null,null,null,null,null,54,{"$f":"CONCATENATE(AH53,\"-\",$AH$7)","v":"fifty-four"}]
[null,null,null,null,null,null,null,null,null,null,null,null,null,null,null,null,null,null,null,null,null,null,null,null,null,null,null,null,null,null,null,null,55,{"$f":"CONCATENATE(AH53,\"-\",$AH$8)","v":"fifty-five"}]
[null,null,null,null,null,null,null,null,null,null,null,null,null,null,null,null,null,null,null,null,null,null,null,null,null,null,null,null,null,null,null,null,56,{"$f":"CONCATENATE(AH53,\"-\",$AH$9)","v":"fifty-six"}]
[null,null,null,null,null,null,null,null,null,null,null,null,null,null,null,null,null,null,null,null,null,null,null,null,null,null,null,null,null,null,null,null,57,{"$f":"CONCATENATE(AH53,\"-\",$AH$10)","v":"fifty-seven"}]
[null,null,null,null,null,null,null,null,null,null,null,null,null,null,null,null,null,null,null,null,null,null,null,null,null,null,null,null,null,null,null,null,58,{"$f":"CONCATENATE(AH53,\"-\",$AH$11)","v":"fifty-eight"}]
[null,null,null,null,null,null,null,null,null,null,null,null,null,null,null,null,null,null,null,null,null,null,null,null,null,null,null,null,null,null,null,null,59,{"$f":"CONCATENATE($AH$53,\"-\",$AH$12)","v":"fifty-nine"}]
[null,null,null,null,null,null,null,null,null,null,null,null,null,null,null,null,null,null,null,null,null,null,null,null,null,null,null,null,null,null,null,null,60,"sixty"]
[null,null,null,null,null,null,null,null,null,null,null,null,null,null,null,null,null,null,null,null,null,null,null,null,null,null,null,null,null,null,null,null,61,{"$f":"CONCATENATE(AH63,\"-\",$AH$4)","v":"sixty-one"}]
[null,null,null,null,null,null,null,null,null,null,null,null,null,null,null,null,null,null,null,null,null,null,null,null,null,null,null,null,null,null,null,null,62,{"$f":"CONCATENATE(AH63,\"-\",$AH$5)","v":"sixty-two"}]
[null,null,null,null,null,null,null,null,null,null,null,null,null,null,null,null,null,null,null,null,null,null,null,null,null,null,null,null,null,null,null,null,63,{"$f":"CONCATENATE(AH63,\"-\",$AH$6)","v":"sixty-three"}]
[null,null,null,null,null,null,null,null,null,null,null,null,null,null,null,null,null,null,null,null,null,null,null,null,null,null,null,null,null,null,null,null,64,{"$f":"CONCATENATE(AH63,\"-\",$AH$7)","v":"sixty-four"}]
[null,null,null,null,null,null,null,null,null,null,null,null,null,null,null,null,null,null,null,null,null,null,null,null,null,null,null,null,null,null,null,null,65,{"$f":"CONCATENATE(AH63,\"-\",$AH$8)","v":"sixty-five"}]
[null,null,null,null,null,null,null,null,null,null,null,null,null,null,null,null,null,null,null,null,null,null,null,null,null,null,null,null,null,null,null,null,66,{"$f":"CONCATENATE(AH63,\"-\",$AH$9)","v":"sixty-six"}]
[null,null,null,null,null,null,null,null,null,null,null,null,null,null,null,null,null,null,null,null,null,null,null,null,null,null,null,null,null,null,null,null,67,{"$f":"CONCATENATE(AH63,\"-\",$AH$10)","v":"sixty-seven"}]
[null,null,null,null,null,null,null,null,null,null,null,null,null,null,null,null,null,null,null,null,null,null,null,null,null,null,null,null,null,null,null,null,68,{"$f":"CONCATENATE(AH63,\"-\",$AH$11)","v":"sixty-eight"}]
[null,null,null,null,null,null,null,null,null,null,null,null,null,null,null,null,null,null,null,null,null,null,null,null,null,null,null,null,null,null,null,null,69,{"$f":"CONCATENATE(AH63,\"-\",$AH$12)","v":"sixty-nine"}]
[null,null,null,null,null,null,null,null,null,null,null,null,null,null,null,null,null,null,null,null,null,null,null,null,null,null,null,null,null,null,null,null,70,"seventy"]
[null,null,null,null,null,null,null,null,null,null,null,null,null,null,null,null,null,null,null,null,null,null,null,null,null,null,null,null,null,null,null,null,71,{"$f":"CONCATENATE(AH73,\"-\",$AH$4)","v":"seventy-one"}]
[null,null,null,null,null,null,null,null,null,null,null,null,null,null,null,null,null,null,null,null,null,null,null,null,null,null,null,null,null,null,null,null,72,{"$f":"CONCATENATE(AH73,\"-\",$AH$5)","v":"seventy-two"}]
[null,null,null,null,null,null,null,null,null,null,null,null,null,null,null,null,null,null,null,null,null,null,null,null,null,null,null,null,null,null,null,null,73,{"$f":"CONCATENATE(AH73,\"-\",$AH$6)","v":"seventy-three"}]
[null,null,null,null,null,null,null,null,null,null,null,null,null,null,null,null,null,null,null,null,null,null,null,null,null,null,null,null,null,null,null,null,74,{"$f":"CONCATENATE(AH73,\"-\",$AH$7)","v":"seventy-four"}]
[null,null,null,null,null,null,null,null,null,null,null,null,null,null,null,null,null,null,null,null,null,null,null,null,null,null,null,null,null,null,null,null,75,{"$f":"CONCATENATE(AH73,\"-\",$AH$8)","v":"seventy-five"}]
[null,null,null,null,null,null,null,null,null,null,null,null,null,null,null,null,null,null,null,null,null,null,null,null,null,null,null,null,null,null,null,null,76,{"$f":"CONCATENATE(AH73,\"-\",$AH$9)","v":"seventy-six"}]
[null,null,null,null,null,null,null,null,null,null,null,null,null,null,null,null,null,null,null,null,null,null,null,null,null,null,null,null,null,null,null,null,77,{"$f":"CONCATENATE(AH73,\"-\",$AH$10)","v":"seventy-seven"}]
[null,null,null,null,null,null,null,null,null,null,null,null,null,null,null,null,null,null,null,null,null,null,null,null,null,null,null,null,null,null,null,null,78,{"$f":"CONCATENATE(AH73,\"-\",$AH$11)","v":"seventy-eight"}]
[null,null,null,null,null,null,null,null,null,null,null,null,null,null,null,null,null,null,null,null,null,null,null,null,null,null,null,null,null,null,null,null,79,{"$f":"CONCATENATE(AH73,\"-\",$AH$12)","v":"seventy-nine"}]
[null,null,null,null,null,null,null,null,null,null,null,null,null,null,null,null,null,null,null,null,null,null,null,null,null,null,null,null,null,null,null,null,80,"eighty"]
[null,null,null,null,null,null,null,null,null,null,null,null,null,null,null,null,null,null,null,null,null,null,null,null,null,null,null,null,null,null,null,null,81,{"$f":"CONCATENATE(AH83,\"-\",$AH$4)","v":"eighty-one"}]
[null,null,null,null,null,null,null,null,null,null,null,null,null,null,null,null,null,null,null,null,null,null,null,null,null,null,null,null,null,null,null,null,82,{"$f":"CONCATENATE(AH83,\"-\",$AH$5)","v":"eighty-two"}]
[null,null,null,null,null,null,null,null,null,null,null,null,null,null,null,null,null,null,null,null,null,null,null,null,null,null,null,null,null,null,null,null,83,{"$f":"CONCATENATE(AH83,\"-\",$AH$6)","v":"eighty-three"}]
[null,null,null,null,null,null,null,null,null,null,null,null,null,null,null,null,null,null,null,null,null,null,null,null,null,null,null,null,null,null,null,null,84,{"$f":"CONCATENATE(AH83,\"-\",$AH$7)","v":"eighty-four"}]
[null,null,null,null,null,null,null,null,null,null,null,null,null,null,null,null,null,null,null,null,null,null,null,null,null,null,null,null,null,null,null,null,85,{"$f":"CONCATENATE(AH83,\"-\",$AH$8)","v":"eighty-five"}]
[null,null,null,null,null,null,null,null,null,null,null,null,null,null,null,null,null,null,null,null,null,null,null,null,null,null,null,null,null,null,null,null,86,{"$f":"CONCATENATE(AH83,\"-\",$AH$9)","v":"eighty-six"}]
[null,null,null,null,null,null,null,null,null,null,null,null,null,null,null,null,null,null,null,null,null,null,null,null,null,null,null,null,null,null,null,null,87,{"$f":"CONCATENATE(AH83,\"-\",$AH$10)","v":"eighty-seven"}]
[null,null,null,null,null,null,null,null,null,null,null,null,null,null,null,null,null,null,null,null,null,null,null,null,null,null,null,null,null,null,null,null,88,{"$f":"CONCATENATE(AH83,\"-\",$AH$11)","v":"eighty-eight"}]
[null,null,null,null,null,null,null,null,null,null,null,null,null,null,null,null,null,null,null,null,null,null,null,null,null,null,null,null,null,null,null,null,89,{"$f":"CONCATENATE(AH83,\"-\",$AH$12)","v":"eighty-nine"}]
[null,null,null,null,null,null,null,null,null,null,null,null,null,null,null,null,null,null,null,null,null,null,null,null,null,null,null,null,null,null,null,null,90,"ninety"]
[null,null,null,null,null,null,null,null,null,null,null,null,null,null,null,null,null,null,null,null,null,null,null,null,null,null,null,null,null,null,null,null,91,{"$f":"CONCATENATE(AH93,\"-\",$AH$4)","v":"ninety-one"}]
[null,null,null,null,null,null,null,null,null,null,null,null,null,null,null,null,null,null,null,null,null,null,null,null,null,null,null,null,null,null,null,null,92,{"$f":"CONCATENATE(AH93,\"-\",$AH$5)","v":"ninety-two"}]
[null,null,null,null,null,null,null,null,null,null,null,null,null,null,null,null,null,null,null,null,null,null,null,null,null,null,null,null,null,null,null,null,93,{"$f":"CONCATENATE(AH93,\"-\",$AH$6)","v":"ninety-three"}]
[null,null,null,null,null,null,null,null,null,null,null,null,null,null,null,null,null,null,null,null,null,null,null,null,null,null,null,null,null,null,null,null,94,{"$f":"CONCATENATE(AH93,\"-\",$AH$7)","v":"ninety-four"}]
[null,null,null,null,null,null,null,null,null,null,null,null,null,null,null,null,null,null,null,null,null,null,null,null,null,null,null,null,null,null,null,null,95,{"$f":"CONCATENATE(AH93,\"-\",$AH$8)","v":"ninety-five"}]
[null,null,null,null,null,null,null,null,null,null,null,null,null,null,null,null,null,null,null,null,null,null,null,null,null,null,null,null,null,null,null,null,96,{"$f":"CONCATENATE(AH93,\"-\",$AH$9)","v":"ninety-six"}]
[null,null,null,null,null,null,null,null,null,null,null,null,null,null,null,null,null,null,null,null,null,null,null,null,null,null,null,null,null,null,null,null,97,{"$f":"CONCATENATE(AH93,\"-\",$AH$10)","v":"ninety-seven"}]
[null,null,null,null,null,null,null,null,null,null,null,null,null,null,null,null,null,null,null,null,null,null,null,null,null,null,null,null,null,null,null,null,98,{"$f":"CONCATENATE(AH93,\"-\",$AH$11)","v":"ninety-eight"}]
[null,null,null,null,null,null,null,null,null,null,null,null,null,null,null,null,null,null,null,null,null,null,null,null,null,null,null,null,null,null,null,null,99,{"$f":"CONCATENATE(AH93,\"-\",$AH$12)","v":"ninety-nine"}]
[null,null,null,null,null,null,null,null,null,null,null,null,null,null,null,null,null,null,null,null,null,null,null,null,null,null,null,null,null,null,null,null,100,"one-hundred"]
[null,null,null,null,null,null,null,null,null,null,null,null,null,null,null,null,null,null,null,null,null,null,null,null,null,null,null,null,null,null,null,null,101]
[null,null,null,null,null,null,null,null,null,null,null,null,null,null,null,null,null,null,null,null,null,null,null,null,null,null,null,null,null,null,null,null,102]
[null,null,null,null,null,null,null,null,null,null,null,null,null,null,null,null,null,null,null,null,null,null,null,null,null,null,null,null,null,null,null,null,103]
[null,null,null,null,null,null,null,null,null,null,null,null,null,null,null,null,null,null,null,null,null,null,null,null,null,null,null,null,null,null,null,null,104]
[null,null,null,null,null,null,null,null,null,null,null,null,null,null,null,null,null,null,null,null,null,null,null,null,null,null,null,null,null,null,null,null,105]
[null,null,null,null,null,null,null,null,null,null,null,null,null,null,null,null,null,null,null,null,null,null,null,null,null,null,null,null,null,null,null,null,106]
[null,null,null,null,null,null,null,null,null,null,null,null,null,null,null,null,null,null,null,null,null,null,null,null,null,null,null,null,null,null,null,null,107]
[null,null,null,null,null,null,null,null,null,null,null,null,null,null,null,null,null,null,null,null,null,null,null,null,null,null,null,null,null,null,null,null,108]
[null,null,null,null,null,null,null,null,null,null,null,null,null,null,null,null,null,null,null,null,null,null,null,null,null,null,null,null,null,null,null,null,109]
[null,null,null,null,null,null,null,null,null,null,null,null,null,null,null,null,null,null,null,null,null,null,null,null,null,null,null,null,null,null,null,null,110]
[null,null,null,null,null,null,null,null,null,null,null,null,null,null,null,null,null,null,null,null,null,null,null,null,null,null,null,null,null,null,null,null,111]
[null,null,null,null,null,null,null,null,null,null,null,null,null,null,null,null,null,null,null,null,null,null,null,null,null,null,null,null,null,null,null,null,112]
[null,null,null,null,null,null,null,null,null,null,null,null,null,null,null,null,null,null,null,null,null,null,null,null,null,null,null,null,null,null,null,null,113]
[null,null,null,null,null,null,null,null,null,null,null,null,null,null,null,null,null,null,null,null,null,null,null,null,null,null,null,null,null,null,null,null,114]
[null,null,null,null,null,null,null,null,null,null,null,null,null,null,null,null,null,null,null,null,null,null,null,null,null,null,null,null,null,null,null,null,115]
[null,null,null,null,null,null,null,null,null,null,null,null,null,null,null,null,null,null,null,null,null,null,null,null,null,null,null,null,null,null,null,null,116]
[null,null,null,null,null,null,null,null,null,null,null,null,null,null,null,null,null,null,null,null,null,null,null,null,null,null,null,null,null,null,null,null,117]
[null,null,null,null,null,null,null,null,null,null,null,null,null,null,null,null,null,null,null,null,null,null,null,null,null,null,null,null,null,null,null,null,118]
[null,null,null,null,null,null,null,null,null,null,null,null,null,null,null,null,null,null,null,null,null,null,null,null,null,null,null,null,null,null,null,null,119]
[null,null,null,null,null,null,null,null,null,null,null,null,null,null,null,null,null,null,null,null,null,null,null,null,null,null,null,null,null,null,null,null,120]

{"sheet":"HOUSE","index":14,"n_rows":28,"n_cols":44,"rows_kept":28,"cut":false,"hidden":false,"merged":[[6,20,6,24],[7,20,7,24],[3,15,3,19],[3,20,3,24],[4,20,4,24],[5,20,5,24],[7,15,7,19],[6,15,6,19],[5,15,5,19],[4,15,4,19]]}
[null,null,null,null,1]
[null,null,"Find each option’s cost and the amount saved."]
[null,null,{"$f":"INT(31*RAND())+20","v":40},{"$f":"99-C3","v":59},{"$f":"IF(ROUNDDOWN(D3/3,0)>20,20,ROUNDDOWN(D3/3,0))","v":19},{"$f":"INT((E3-9)*RAND())+9","v":14},{"$f":"C3","v":40},{"$f":"G3+F3","v":54},{"$f":"H3+F3","v":68},{"$f":"I3+F3","v":82},{"$f":"INT(4*RAND())+2","v":3},{"$f":"IF(K3=2,\"two\",IF(K3=3,\"three\",IF(K3=4,\"four\",IF(K3=5,\"five\"))))","v":"three"},{"$f":"50*(INT(10*RAND())+0)","v":0},{"$f":"IF(K3=2,300,IF(K3=3,200,IF(K3=4,100,IF(K3=5,100))))","v":200},{"$f":"N3+M3","v":200},{"$f":"O3*K3","v":600},{"$f":"IF(O3>=1000,$G$3,IF(O3>=500,$H$3,IF(O3>=200,$I$3,$J$3)))","v":68},{"$f":"IF(P3>=1000,$G$3,IF(P3>=500,$H$3,IF(P3>=200,$I$3,$J$3)))","v":54},null,null,null,null,null,null,{"$f":"AR18","v":""}]
[null,null,"The table shows the unit",null,null,null,null,null,null,null,null,null,null,null,null,"Quantity",null,null,null,null,"Unit cost"]
[null,null,"cost a production house ",null,null,null,null,null,null,null,null,null,null,null,null,"100 − 199",null,null,null,null,{"$f":"CONCATENATE($J$3,S28)","v":"82p"}]
[null,null,"charges to press one CD.",null,null,null,null,null,null,null,null,null,null,null,null,"200 − 499",null,null,null,null,{"$f":"CONCATENATE($I$3,S28)","v":"68p"}]
[null,null,"Unit cost decreases due",null,null,null,null,null,null,null,null,null,null,null,null,"500 − 999",null,null,null,null,{"$f":"CONCATENATE($H$3,S28)","v":"54p"}]
[null,null,"to economy of scale.",null,null,null,null,null,null,null,null,null,null,null,null,"≥ 1000",null,null,null,null,{"$f":"CONCATENATE($G$3,S28)","v":"40p"}]
[]
[null,null,{"$f":"CONCATENATE(\"Find the amount saved if I bulk-press \",P3,\" CDs\")","v":"Find the amount saved if I bulk-press 600 CDs"}]
[null,null,{"$f":"CONCATENATE(\"instead of \",L3,\" separate batches of \",O3,\" each.\")","v":"instead of three separate batches of 200 each."}]
[]
[null,null,null,null,null,null,null,"bulk-press","=",null,null,null,{"$f":"CONCATENATE($P$3)","v":"600"},"×",null,{"$f":"CONCATENATE(\"0.\",$R$3)","v":"0.54"},"=",{"$f":"AM13","v":"£324"},null,null,null,null,null,null,null,null,null,null,null,null,null,null,null,{"$f":"P3*R3","v":32400},{"$f":"IF(AH13<100,1,0)","v":0},{"$f":"IF(AH13/100=ROUNDDOWN(AH13/100,0),1,0)","v":1},{"$f":"IF(AH13/10=ROUNDDOWN(AH13/10,0),1,0)","v":1},{"$f":"AI13+AJ13*2+AK13*4","v":6},{"$f":"IF(AL13=0,CONCATENATE($R$28,ROUND(AH13/100,2)),IF(AL13=1,CONCATENATE(ROUND(AH13,0),$S$28),IF(AL13=4,CONCATENATE($R$28,AH13/100,\"0\"),IF(AL13=5,CONCATENATE(AH13,$S$28),IF(AL13=6,CONCATENATE($R$28,AH13/100),\"xxx\")))))","v":"£324"},{"$f":"AH13/100","v":324},{"$f":"ROUND(AN13,0)","v":324},{"$f":"AO13-AN13","v":0},{"$f":"IF(AP13=0,0,1)","v":0}]
[]
[null,null,null,null,null,null,null,"batch-press","=",{"$f":"CONCATENATE($K$3)","v":"3"},"×",null,{"$f":"CONCATENATE($O$3)","v":"200"},"×",null,{"$f":"CONCATENATE(\"0.\",$Q$3)","v":"0.68"},"=",{"$f":"AM15","v":"£408"},null,null,null,null,null,null,null,null,null,null,null,null,null,null,null,{"$f":"K3*O3*Q3","v":40800},{"$f":"IF(AH15<100,1,0)","v":0},{"$f":"IF(AH15/100=ROUNDDOWN(AH15/100,0),1,0)","v":1},{"$f":"IF(AH15/10=ROUNDDOWN(AH15/10,0),1,0)","v":1},{"$f":"AI15+AJ15*2+AK15*4","v":6},{"$f":"IF(AL15=0,CONCATENATE($R$28,ROUND(AH15/100,2)),IF(AL15=1,CONCATENATE(ROUND(AH15,0),$S$28),IF(AL15=4,CONCATENATE($R$28,AH15/100,\"0\"),IF(AL15=5,CONCATENATE(AH15,$S$28),IF(AL15=6,CONCATENATE($R$28,AH15/100),\"xxx\")))))","v":"£408"},{"$f":"AH15/100","v":408},{"$f":"ROUND(AN15,0)","v":408},{"$f":"AO15-AN15","v":0},{"$f":"IF(AP15=0,0,1)","v":0}]
[]
[null,null,null,null,null,null,null,null,null,null,null,null,null,null,null,"difference or amount saved","=",{"$f":"AM17","v":"£84"},null,null,null,null,null,null,null,null,null,null,null,null,null,null,null,{"$f":"AH15-AH13","v":8400},{"$f":"IF(AH17<100,1,0)","v":0},{"$f":"IF(AH17/100=ROUNDDOWN(AH17/100,0),1,0)","v":1},{"$f":"IF(AH17/10=ROUNDDOWN(AH17/10,0),1,0)","v":1},{"$f":"AI17+AJ17*2+AK17*4","v":6},{"$f":"IF(AL17=0,CONCATENATE($R$28,ROUND(AH17/100,2)),IF(AL17=1,CONCATENATE(ROUND(AH17,0),$S$28),IF(AL17=4,CONCATENATE($R$28,AH17/100,\"0\"),IF(AL17=5,CONCATENATE(AH17,$S$28),IF(AL17=6,CONCATENATE($R$28,AH17/100),\"xxx\")))))","v":"£84"},{"$f":"AH17/100","v":84},{"$f":"ROUND(AN17,0)","v":84},{"$f":"AO17-AN17","v":0},{"$f":"IF(AP17=0,0,1)","v":0}]
[null,null,null,null,null,null,null,null,null,null,null,null,null,null,null,null,null,null,null,null,null,null,null,null,null,null,null,null,null,null,null,null,null,null,null,null,null,null,null,null,null,null,{"$f":"AQ17+AQ15+AQ13","v":0},{"$f":"IF(AQ18=0,\"\",\"*\")","v":""}]
[]
[]
[]
[]
[]
[]
[]
[]
[]
[null,null,null,null,null,null,null,null,null,null,null,null,null,null,null,null,{"$f":"E1","v":1},{"$f":"IF(Q28=1,\"£\",IF(Q28=2,\"$\",IF(Q28=3,\"€\",\"R\")))","v":"£"},{"$f":"IF(Q28=1,\"p\",\"c\")","v":"p"}]

{"sheet":"GASBILL","index":15,"n_rows":28,"n_cols":38,"rows_kept":28,"cut":false,"hidden":false,"merged":[]}
[null,null,null,null,1]
[null,null,"Find (i) the cost of gas used (ii) the total bill"]
[null,null,"including a standing charge plus 20% VAT.",null,null,null,null,null,null,null,null,null,null,null,null,null,null,null,null,null,null,null,null,null,null,{"$f":"AF9","v":0}]
[null,null,{"$f":"INT(8000*RAND())+1000","v":6734},{"$f":"INT(500*RAND())+200","v":577},{"$f":"D4+C4","v":7311},{"$f":"(INT(5*RAND())+5)","v":8},{"$f":"(INT(9*RAND())+1)/10","v":0.7},{"$f":"F4+G4","v":8.6999999999999993},{"$f":"(INT(5*RAND())+5)","v":7},{"$f":"(INT(19*RAND())+1)*5","v":80},{"$f":"I4*100+J4","v":780},null,null,null,null,null,null,null,null,null,null,null,null,null,null,null,null,null,null,null,null,{"$f":"ROUND(K4,0)","v":780},{"$f":"ROUND(AF4*1,0)","v":780},{"$f":"IF(AG4<100,1,0)","v":0},{"$f":"IF(AG4/100=ROUNDDOWN(AG4/100,0),1,0)","v":0},{"$f":"IF(AG4/10=ROUNDDOWN(AG4/10,0),1,0)","v":1},{"$f":"AH4+AI4*2+AJ4*4","v":4},{"$f":"IF(AK4=0,CONCATENATE($R$28,ROUND(AG4/100,2)),IF(AK4=1,CONCATENATE(ROUND(AG4,0),$S$28),IF(AK4=4,CONCATENATE($R$28,AG4/100,\"0\"),IF(AK4=5,CONCATENATE(AG4,$S$28),IF(AK4=6,CONCATENATE($R$28,AG4/100),\"xxx\")))))","v":"£7.80"}]
[null,null,"A gas meter at the start of the month",null,null,null,null,null,null,null,null,null,null,null,null,null,null,null,null,null,null,null,"read",{"$f":"CONCATENATE(\" \",C4,)","v":" 6734"},null,null,"m³.",null,null,null,null,{"$f":"ROUND(H4*D4,0)","v":5020},{"$f":"ROUND(AF5*1,0)","v":5020},{"$f":"IF(AG5<100,1,0)","v":0},{"$f":"IF(AG5/100=ROUNDDOWN(AG5/100,0),1,0)","v":0},{"$f":"IF(AG5/10=ROUNDDOWN(AG5/10,0),1,0)","v":1},{"$f":"AH5+AI5*2+AJ5*4","v":4},{"$f":"IF(AK5=0,CONCATENATE($R$28,ROUND(AG5/100,2)),IF(AK5=1,CONCATENATE(ROUND(AG5,0),$S$28),IF(AK5=4,CONCATENATE($R$28,AG5/100,\"0\"),IF(AK5=5,CONCATENATE(AG5,$S$28),IF(AK5=6,CONCATENATE($R$28,AG5/100),\"xxx\")))))","v":"£50.20"}]
[null,null,"At the end of the month the meter",null,null,null,null,null,null,null,null,null,null,null,null,null,null,null,null,null,null,null,"showed",{"$f":"CONCATENATE(,\" \",E4)","v":" 7311"},null,null,{"$f":"AA5","v":"m³."},null,null,null,null,{"$f":"ROUND(AF5+AF4,0)","v":5800},{"$f":"ROUND(AF6*1,0)","v":5800},{"$f":"IF(AG6<100,1,0)","v":0},{"$f":"IF(AG6/100=ROUNDDOWN(AG6/100,0),1,0)","v":1},{"$f":"IF(AG6/10=ROUNDDOWN(AG6/10,0),1,0)","v":1},{"$f":"AH6+AI6*2+AJ6*4","v":6},{"$f":"IF(AK6=0,CONCATENATE($R$28,ROUND(AG6/100,2)),IF(AK6=1,CONCATENATE(ROUND(AG6,0),$S$28),IF(AK6=4,CONCATENATE($R$28,AG6/100,\"0\"),IF(AK6=5,CONCATENATE(AG6,$S$28),IF(AK6=6,CONCATENATE($R$28,AG6/100),\"xxx\")))))","v":"£58"}]
[null,null,{"$f":"CONCATENATE(\"Find the total bill if the supplier charges\")","v":"Find the total bill if the supplier charges"},null,null,null,null,null,null,null,null,null,null,null,null,null,null,null,null,null,null,{"$f":"CONCATENATE(\"\",$H$4,$S$28,)","v":"8.7p"},null,null,null,"per",{"$f":"CONCATENATE(\"m³,\")","v":"m³,"},null,null,null,null,{"$f":"ROUND(H4*D4,0)","v":5020}]
[null,null,"adds a standing charge of",null,null,null,null,null,null,null,null,null,null,null,null,null,{"$f":"CONCATENATE($AL$4)","v":"£7.80"},"a month then VAT.",null,null,null,null,null,null,null,null,null,null,null,null,null,{"$f":"AF7-AF5","v":0}]
[null,null,null,null,null,null,null,null,null,null,null,null,null,null,null,null,null,null,null,null,null,null,null,null,null,null,null,null,null,null,null,{"$f":"IF(AF8=0,0,1)","v":0}]
[null,null,null,null,null,null,null,null,null,null,"cost of gas used","=",{"$f":"CONCATENATE(\"(\",E4)","v":"(7311"},null,null,"−",{"$f":"CONCATENATE(C4,\")\")","v":"6734)"},null,null,"×",{"$f":"CONCATENATE(H4,S28)","v":"8.7p"},null,null,null,null,null,null,null,null,null,null,{"$f":"ROUND(1.2*AF6,0)","v":6960},{"$f":"ROUND(AF10*1,0)","v":6960},{"$f":"IF(AG10<100,1,0)","v":0},{"$f":"IF(AG10/100=ROUNDDOWN(AG10/100,0),1,0)","v":0},{"$f":"IF(AG10/10=ROUNDDOWN(AG10/10,0),1,0)","v":1},{"$f":"AH10+AI10*2+AJ10*4","v":4},{"$f":"IF(AK10=0,CONCATENATE($R$28,ROUND(AG10/100,2)),IF(AK10=1,CONCATENATE(ROUND(AG10,0),$S$28),IF(AK10=4,CONCATENATE($R$28,AG10/100,\"0\"),IF(AK10=5,CONCATENATE(AG10,$S$28),IF(AK10=6,CONCATENATE($R$28,AG10/100),\"xxx\")))))","v":"£69.60"}]
[null,null,null,null,null,null,null,null,null,{"$f":"IF(K11>0,CONCATENATE(\" (nearest \",S28,\")\"),\"\")","v":" (nearest p)"},{"$f":"H4*D4-ROUNDDOWN(H4*D4,0)","v":0.8999999999996362},"=",{"$f":"CONCATENATE(\" \",E4-C4,\" × \",H4,S28)","v":" 577 × 8.7p"}]
[null,null,null,null,null,null,null,null,null,null,{"$f":"K10","v":"cost of gas used"},"=",{"$f":"CONCATENATE(\" \",AL5,J11)","v":" £50.20 (nearest p)"}]
[null,null,null,null,null,null,null,null,null,null,"total bill","=",{"$f":"CONCATENATE(\"(\",AL5,\"\")","v":"(£50.20"},null,null,null,"+",{"$f":"CONCATENATE(\"\",AL4,\")\")","v":"£7.80)"},null,null,null,"×",{"$f":"CONCATENATE(1.2)","v":"1.2"}]
[null,null,null,null,null,null,null,null,null,null,null,"=",{"$f":"CONCATENATE(\" \",AL6)","v":" £58"},null,null,null,"×",{"$f":"CONCATENATE(1.2)","v":"1.2"}]
[null,null,null,null,null,null,null,null,null,null,{"$f":"K13","v":"total bill"},"=",{"$f":"CONCATENATE(\" \",AL10,\" (nearest \",S28,\")\")","v":" £69.60 (nearest p)"}]
[]
[]
[]
[]
[]
[]
[]
[]
[]
[]
[]
[]
[null,null,null,null,null,null,null,null,null,null,null,null,null,null,null,null,{"$f":"E1","v":1},{"$f":"IF(Q28=1,\"£\",IF(Q28=2,\"$\",IF(Q28=3,\"€\",\"R\")))","v":"£"},{"$f":"IF(Q28=1,\"p\",\"c\")","v":"p"}]

{"sheet":"WATER","index":16,"n_rows":28,"n_cols":38,"rows_kept":28,"cut":false,"hidden":false,"merged":[]}
[null,null,null,null,1]
[null,null,"Find (i) the cost of water used (ii) the total bill"]
[null,null,{"$f":"GASBILL!C3","v":"including a standing charge plus 20% VAT."},null,null,null,null,null,null,null,null,null,null,null,null,null,null,null,null,null,null,null,null,null,null,{"$f":"AF9","v":0}]
[null,null,{"$f":"INT(800*RAND())+100","v":632},{"$f":"N4*10+O4","v":12},{"$f":"D4+C4","v":644},{"$f":"1*(INT(55*RAND())+175)","v":198},{"$f":"IF(R4>0.5,P4,Q4)","v":0.9},{"$f":"F4+G4","v":198.9},{"$f":"(INT(5*RAND())+5)","v":6},{"$f":"(INT(19*RAND())+1)*5","v":55},{"$f":"I4*100+J4","v":655},{"$f":"ROUND(H4/100,3)","v":1.9890000000000001},{"$f":"ROUND(H4*D4/100,5)","v":23.867999999999999},{"$f":"INT(3*RAND())+1","v":1},{"$f":"IF(U4>0.5,S4,T4)","v":2},{"$f":"(INT(4*RAND())+6)/10","v":0.9},{"$f":"(INT(4*RAND())+1)/10","v":0.2},{"$f":"RAND()","v":0.70159867389364405},{"$f":"(INT(4*RAND())+6)/1","v":8},{"$f":"(INT(4*RAND())+1)/1","v":2},{"$f":"RAND()","v":6.1793693869139243E-2},null,null,null,null,null,null,null,null,null,null,{"$f":"ROUND(K4,0)","v":655},{"$f":"ROUND(AF4*1,0)","v":655},{"$f":"IF(AG4<100,1,0)","v":0},{"$f":"IF(AG4/100=ROUNDDOWN(AG4/100,0),1,0)","v":0},{"$f":"IF(AG4/10=ROUNDDOWN(AG4/10,0),1,0)","v":0},{"$f":"AH4+AI4*2+AJ4*4","v":0},{"$f":"IF(AK4=0,CONCATENATE($R$28,ROUND(AG4/100,2)),IF(AK4=1,CONCATENATE(ROUND(AG4,0),$S$28),IF(AK4=4,CONCATENATE($R$28,AG4/100,\"0\"),IF(AK4=5,CONCATENATE(AG4,$S$28),IF(AK4=6,CONCATENATE($R$28,AG4/100),\"xxx\")))))","v":"£6.55"}]
[null,null,"A water meter at the start of the month read",null,null,null,null,null,null,null,null,null,null,null,null,null,null,null,null,null,null,null,null,null,{"$f":"CONCATENATE(C4,)","v":"632"},null,"m³.",null,null,null,null,{"$f":"ROUND(H4*D4,0)","v":2387},{"$f":"ROUND(AF5*1,0)","v":2387},{"$f":"IF(AG5<100,1,0)","v":0},{"$f":"IF(AG5/100=ROUNDDOWN(AG5/100,0),1,0)","v":0},{"$f":"IF(AG5/10=ROUNDDOWN(AG5/10,0),1,0)","v":0},{"$f":"AH5+AI5*2+AJ5*4","v":0},{"$f":"IF(AK5=0,CONCATENATE($R$28,ROUND(AG5/100,2)),IF(AK5=1,CONCATENATE(ROUND(AG5,0),$S$28),IF(AK5=4,CONCATENATE($R$28,AG5/100,\"0\"),IF(AK5=5,CONCATENATE(AG5,$S$28),IF(AK5=6,CONCATENATE($R$28,AG5/100),\"xxx\")))))","v":"£23.87"}]
[null,null,"At the end of the month the",null,null,null,null,null,null,null,null,null,null,null,null,null,null,"meter","indicated",null,null,null,null,null,{"$f":"CONCATENATE(E4)","v":"644"},null,{"$f":"AA5","v":"m³."},null,null,null,null,{"$f":"ROUND(AF5+AF4,0)","v":3042},{"$f":"ROUND(AF6*1,0)","v":3042},{"$f":"IF(AG6<100,1,0)","v":0},{"$f":"IF(AG6/100=ROUNDDOWN(AG6/100,0),1,0)","v":0},{"$f":"IF(AG6/10=ROUNDDOWN(AG6/10,0),1,0)","v":0},{"$f":"AH6+AI6*2+AJ6*4","v":0},{"$f":"IF(AK6=0,CONCATENATE($R$28,ROUND(AG6/100,2)),IF(AK6=1,CONCATENATE(ROUND(AG6,0),$S$28),IF(AK6=4,CONCATENATE($R$28,AG6/100,\"0\"),IF(AK6=5,CONCATENATE(AG6,$S$28),IF(AK6=6,CONCATENATE($R$28,AG6/100),\"xxx\")))))","v":"£30.42"}]
[null,null,{"$f":"CONCATENATE(\"Find the total bill if the utility charges\")","v":"Find the total bill if the utility charges"},null,null,null,null,null,null,null,null,null,null,null,null,null,null,null,null,null,null,null,null,{"$f":"CONCATENATE(\"\",$R$28,$L$4,)","v":"£1.989"},null,"per",{"$f":"CONCATENATE(\"m³,\")","v":"m³,"},null,null,null,null,{"$f":"ROUND(H4*D4,0)","v":2387}]
[null,null,{"$f":"CONCATENATE(\"adds a standing charge of\")","v":"adds a standing charge of"},null,null,null,null,null,null,null,null,null,null,null,null,null,{"$f":"CONCATENATE(\"\",$AL$4,)","v":"£6.55"},"a month then VAT.",null,null,null,null,null,null,null,null,null,null,null,null,null,{"$f":"AF7-AF5","v":0}]
[null,null,null,null,null,null,null,null,null,null,null,null,null,null,null,null,null,null,null,null,null,null,null,null,null,null,null,null,null,null,null,{"$f":"IF(AF8=0,0,1)","v":0}]
[null,null,null,null,null,null,null,null,null,null,"cost of water used","=",{"$f":"CONCATENATE(\"(\",E4)","v":"(644"},null,"−",{"$f":"CONCATENATE(C4,\")\")","v":"632)"},null,null,"×",{"$f":"CONCATENATE(R28,L4)","v":"£1.989"},null,null,null,null,null,null,null,null,null,null,null,{"$f":"ROUND(1.2*AF6,0)","v":3650},{"$f":"ROUND(AF10*1,0)","v":3650},{"$f":"IF(AG10<100,1,0)","v":0},{"$f":"IF(AG10/100=ROUNDDOWN(AG10/100,0),1,0)","v":0},{"$f":"IF(AG10/10=ROUNDDOWN(AG10/10,0),1,0)","v":1},{"$f":"AH10+AI10*2+AJ10*4","v":4},{"$f":"IF(AK10=0,CONCATENATE($R$28,ROUND(AG10/100,2)),IF(AK10=1,CONCATENATE(ROUND(AG10,0),$S$28),IF(AK10=4,CONCATENATE($R$28,AG10/100,\"0\"),IF(AK10=5,CONCATENATE(AG10,$S$28),IF(AK10=6,CONCATENATE($R$28,AG10/100),\"xxx\")))))","v":"£36.50"}]
[null,null,null,null,null,null,null,null,null,{"$f":"IF(K11>0,CONCATENATE(\" (nearest \",S28,\")\"),\"\")","v":" (nearest p)"},{"$f":"H4*D4-ROUNDDOWN(H4*D4,0)","v":0.8000000000001819},"=",{"$f":"CONCATENATE(\" \",E4-C4,\" × \",R28,L4)","v":" 12 × £1.989"}]
[null,null,null,null,null,null,null,null,null,null,{"$f":"K10","v":"cost of water used"},"=",{"$f":"CONCATENATE(\" \",AL5,J11)","v":" £23.87 (nearest p)"}]
[null,null,null,null,null,null,null,null,null,null,{"$f":"GASBILL!K13","v":"total bill"},"=",{"$f":"CONCATENATE(\"(\",AL5,\"\")","v":"(£23.87"},null,null,null,"+",{"$f":"CONCATENATE(\"\",AL4,\")\")","v":"£6.55)"},null,null,null,"×",{"$f":"CONCATENATE(1.2)","v":"1.2"}]
[null,null,null,null,null,null,null,null,null,null,null,"=",{"$f":"CONCATENATE(\" \",AL6)","v":" £30.42"},null,null,null,"×",{"$f":"CONCATENATE(1.2)","v":"1.2"}]
[null,null,null,null,null,null,null,null,null,null,{"$f":"K13","v":"total bill"},"=",{"$f":"CONCATENATE(\" \",AL10,\" (nearest \",S28,\")\")","v":" £36.50 (nearest p)"}]
[]
[]
[]
[]
[]
[]
[]
[]
[]
[]
[]
[]
[null,null,null,null,null,null,null,null,null,null,null,null,null,null,null,null,{"$f":"E1","v":1},{"$f":"IF(Q28=1,\"£\",IF(Q28=2,\"$\",IF(Q28=3,\"€\",\"R\")))","v":"£"},{"$f":"IF(Q28=1,\"p\",\"c\")","v":"p"}]

{"sheet":"BASINT+VE","index":17,"n_rows":45,"n_cols":46,"rows_kept":45,"cut":false,"hidden":false,"merged":[]}
[]
[null,null,{"$f":"RFPDEPOSVE!C2","v":"Evaluate each expression using a calculator."}]
[null,null,null,null,null,null,null,null,null,null,null,null,null,null,null,null,null,null,null,null,null,null,null,null,null,null,null,null,null,null,null,null,null,{"$f":"IF(AK4>5,INT(5*RAND())+5,IF(AK4>4,INT(6*RAND())+4,IF(AK4>2.5,INT(7*RAND())+3,INT(8*RAND())+2)))","v":8},null,null,{"$f":"(INT(12*RAND())+3)/2","v":6.5}]
[null,null,{"$f":"INT(10*RAND())+0","v":0},{"$f":"IF(RAND()>0.5,0,INT(9*RAND())+1)","v":0},{"$f":"INT(9*RAND())+1","v":3},{"$f":"IF(RAND()>0.5,0,INT(9*RAND())+1)","v":8},{"$f":"C4*1000+D4*100+E4*10+F4","v":38},1,1,{"$f":"(G4/H4)*I4","v":38},{"$f":"IF(RAND()>0.5,1,-1)","v":1},{"$f":"IF(K4=1,\" + \",\" − \")","v":" + "},{"$f":"INT(10*RAND())+0","v":1},{"$f":"IF(RAND()>0.5,0,INT(9*RAND())+1)","v":0},{"$f":"INT(9*RAND())+1","v":2},{"$f":"IF(RAND()>0.5,0,INT(9*RAND())+1)","v":4},{"$f":"M4*1000+N4*100+O4*10+P4","v":1024},1,1,{"$f":"(Q4/R4)*S4","v":1024},{"$f":"IF(RAND()>0.5,1,-1)","v":-1},{"$f":"IF(U4=1,\" + \",\" − \")","v":" − "},{"$f":"INT(10*RAND())+0","v":5},{"$f":"IF(RAND()>0.5,0,INT(9*RAND())+1)","v":0},{"$f":"INT(9*RAND())+1","v":5},{"$f":"IF(RAND()>0.5,0,INT(9*RAND())+1)","v":2},{"$f":"W4*1000+X4*100+Y4*10+Z4","v":5052},1,1,{"$f":"(AA4/AB4)*AC4","v":5052},null,null,{"$f":"INT(10*RAND())+0","v":4},{"$f":"IF(AG4=0,AH3,INT(9*RAND())+1)","v":7},{"$f":"IF(AI5=1,INT(9*RAND())+1,0)","v":0},{"$f":"AG4+AH4/10+AI4/100","v":4.7},{"$f":"(INT(12*RAND())+3)/2","v":5}]
[null,null,{"$f":"IF(RAND()>0.5,1,0)","v":0},{"$f":"IF(C5=1,CONCATENATE(J4,L4,T4,V4,AD4),CONCATENATE(J4,L4,T4))","v":"38 + 1024"},null,null,null,null,null,null,null,null,null,null,null,null,null,null,null,null,null,null,null,null,null,null,null,null,null,null,null,null,null,null,{"$f":"IF(RAND()>0.5,1,0)","v":0},{"$f":"AJ4^AK4","v":2293.4500700000008},{"$f":"IF(AK9=0,0,1/300000000)","v":3.3333333333333334E-9}]
[null,null,null,null,null,null,null,null,null,null,null,null,null,null,null,null,null,null,null,null,{"$f":"D5","v":"38 + 1024"},"=",{"$f":"IF(C5=1,CONCATENATE(IF(ROUND(J4+K4*T4+U4*AD4,6)<0,\"−\",\"\"),ABS(ROUND(J4+K4*T4+U4*AD4,6)),),CONCATENATE(IF(ROUND(J4+K4*T4,6)<0,\"−\",\"\"),ABS(ROUND(J4+K4*T4,6)),))","v":"1062"},null,null,null,null,null,null,null,null,null,null,null,2,{"$f":"AJ5+AK5","v":2293.4500700033341},{"$f":"AJ6^1","v":2293.4500700033341},{"$f":"CONCATENATE(AJ6)","v":"2293.45007000333"},{"$f":"IF(AJ6=0,CONCATENATE(\"0\",AJ8,\"\"),CONCATENATE(AP6,AO6))","v":"2293.45 (2 d.p.)"},{"$f":"CONCATENATE(ROUND(AL7,9))","v":"2293.450070003"},{"$f":"IF(AP7=0,CONCATENATE(AJ8),CONCATENATE(AT7,AJ8,\" (\",AI6,\" d.p.)\"))","v":" (2 d.p.)"},{"$f":"IF(AP7=0,AK7,AJ7)","v":2293.4499999999998},{"$f":"ROUND(100*AJ7,0)","v":229345},{"$f":"AQ6-AQ7*100","v":45},{"$f":"IF(AP7=0,\"\",IF(AR7=0,\".0\",\"\"))","v":""},{"$f":"AQ6-AQ7*100-AR7*10","v":5}]
[null,null,{"$f":"INT(10*RAND())+0","v":7},{"$f":"INT(9*RAND())+1","v":9},{"$f":"C7*10+D7*1","v":79},1,1,{"$f":"(E7/F7)*G7","v":79}," × ",{"$f":"INT(10*RAND())+0","v":6},{"$f":"INT(9*RAND())+1","v":4},0,{"$f":"J7*10+K7*1","v":64},1,1,{"$f":"(M7/N7)*O7","v":64}," × ",{"$f":"INT(10*RAND())+0","v":8},{"$f":"INT(9*RAND())+1","v":7},{"$f":"R7*10+S7*1","v":87},1,1,{"$f":"(T7/U7)*V7","v":87},null,null,null,null,null,null,null,null,null,null,null,{"$f":"ROUNDDOWN(AK6,0)","v":2293},{"$f":"ROUND(AK6,AI6)","v":2293.4499999999998},{"$f":"ROUND(AK6,6)","v":2293.4500699999999},{"$f":"ROUND(AK6,9)","v":2293.4500700029998},{"$f":"ROUND(AL7-AI7,9)","v":0.450070003},{"$f":"ROUND(AK7-AI7,9)","v":0.45007000000000003},{"$f":"ROUND(AL7-AI7,9)","v":0.450070003},{"$f":"AO7-AN7","v":2.9999999706653568E-9},{"$f":"ROUNDDOWN(AQ6/100,0)","v":2293},{"$f":"ROUNDDOWN(AR6/10,0)","v":4},{"$f":"IF(AT6=0,0,\"\")","v":""},{"$f":"IF(AI6=2,IF(AT6=0,CONCATENATE(AS6,AS7),AS7),AS6)","v":""}]
[null,null,{"$f":"INT(4*RAND())+1","v":1},{"$f":"IF(C8=1,CONCATENATE(H7,I7,P7,Q7,W7),IF(C8=2,CONCATENATE(H7,I7,P7),IF(C8=3,CONCATENATE(\"(\",H7*P7,\" ÷ \",P7,\") × \",W7),CONCATENATE(H7*P7,\" ÷ \",P7))))","v":"79 × 64 × 87"},null,null,null,null,null,null,null,null,null,null,null,null,null,null,null,null,null,null,null,null,null,null,null,null,null,null,null,null,null,null,null,{"$f":"IF(AK8=\"cm\",\"\",\"\")","v":""},"NIL",null,{"$f":"ROUND(AK6,2)","v":2293.4499999999998},{"$f":"AM6","v":"2293.45 (2 d.p.)"}]
[null,null,null,null,null,null,null,null,null,null,null,null,null,null,null,null,null,null,null,null,{"$f":"D8","v":"79 × 64 × 87"},"=",{"$f":"IF(C8=1,CONCATENATE(H7*P7*W7),IF(C8=2,CONCATENATE(H7*P7),IF(C8=3,CONCATENATE(W7*H7),CONCATENATE(H7))))","v":"439872"},null,null,null,null,null,null,null,null,null,null,null,null,null,{"$f":"ROUND((AM9-AL9)*10000,7)","v":6999.9999925000002},{"$f":"ROUNDDOWN(AM9,0)","v":22934500},{"$f":"10000*AN9","v":22934500.699999999},{"$f":"CONCATENATE(AJ4^AK4)","v":"2293.45007"}]
[null,null,{"$f":"INT(10*RAND())+0","v":6},{"$f":"IF(RAND()>0.5,0,INT(9*RAND())+1)","v":0},{"$f":"INT(9*RAND())+1","v":1},0,{"$f":"C10*100+D10*10+E10*1","v":601},1,1,{"$f":"(G10/H10)*I10","v":601},1,{"$f":"IF(K10=1,\" + \",\" − \")","v":" + "},{"$f":"INT(10*RAND())+0","v":6},{"$f":"IF(RAND()>0.5,0,INT(9*RAND())+1)","v":0},{"$f":"INT(9*RAND())+1","v":1},0,{"$f":"M10*100+N10*10+O10*1","v":601},1,1,{"$f":"(Q10/R10)*S10","v":601},{"$f":"IF(RAND()>0.5,1,-1)","v":1},{"$f":"IF(U10=1,\" + \",\" − \")","v":" + "},{"$f":"INT(10*RAND())+0","v":7},{"$f":"IF(RAND()>0.5,0,INT(9*RAND())+1)","v":5},{"$f":"INT(9*RAND())+1","v":7},0,{"$f":"W10*100+X10*10+Y10*1","v":757},1,1,{"$f":"(AA10/AB10)*AC10","v":757},null,null,null,{"$f":"IF(RAND()>0.5,1,0)","v":1},{"$f":"IF(RAND()>0.5,1,0)","v":0},{"$f":"IF(RAND()>0.5,1,0)","v":0},{"$f":"IF(RAND()>0.5,1,0)","v":0},{"$f":"IF(AM10>0.75,1,IF(AM10>0.5,10,IF(AM10>0.25,100,1000)))","v":100},{"$f":"RAND()","v":0.37379444807198403}]
[null,null,{"$f":"INT(8*RAND())+2","v":3},{"$f":"CONCATENATE(J10,L10,C11,\"(\",T10,V10,AD10,\")\")","v":"601 + 3(601 + 757)"},null,null,null,null,null,null,null,null,null,null,null,null,null,null,null,null,null,null,null,null,null,null,null,null,null,null,null,null,null,{"$f":"IF(AI10=0,INT(99*RAND())+1,INT(9*RAND())+1)","v":45},{"$f":"IF(AI10=0,INT(10*RAND())+0,0)","v":4},{"$f":"IF(AJ10=0,INT(10*RAND())+0,0)","v":0},{"$f":"IF(AK10=0,INT(10*RAND())+0,0)","v":5},{"$f":"(AH11*1000+AI11*100+AJ11*10+AK11)/AL10","v":454.05},{"$f":"INT(6*RAND())+4","v":4}]
[null,null,null,null,null,null,null,null,null,null,null,null,null,null,null,null,null,null,null,null,{"$f":"D11","v":"601 + 3(601 + 757)"},"=",{"$f":"CONCATENATE(IF(ROUND(J10+K10*C11*(T10+U10*AD10),6)<0,\"−\",\"\"),ABS(ROUND(J10+K10*C11*(T10+U10*AD10),6)))","v":"4675"},null,null,null,null,null,null,null,null,null,null,null,2,{"$f":"AL11^(1/AM11)","v":4.6161075624919867},{"$f":"AJ12^1","v":4.6161075624919867},{"$f":"CONCATENATE(AJ12)","v":"4.61610756249199"},{"$f":"IF(AJ12=0,CONCATENATE(\"0\",AJ14,\"\"),CONCATENATE(AP12,AO12))","v":"4.62 (2 d.p.)"},{"$f":"CONCATENATE(ROUND(AL13,9))","v":"4.616107562"},{"$f":"IF(AP13=0,CONCATENATE(AJ14),CONCATENATE(AT13,AJ14,\" (\",AI12,\" d.p.)\"))","v":" (2 d.p.)"},{"$f":"IF(AP13=0,AK13,AJ13)","v":4.62},{"$f":"ROUND(100*AJ13,0)","v":462},{"$f":"AQ12-AQ13*100","v":62},{"$f":"IF(AP13=0,\"\",IF(AR13=0,\".0\",\"\"))","v":""},{"$f":"AQ12-AQ13*100-AR13*10","v":2}]
[null,null,null,null,null,null,null,null,null,null,null,null,null,null,null,null,null,null,null,null,null,null,null,null,null,null,null,null,null,null,null,null,null,null,{"$f":"ROUNDDOWN(AK12,0)","v":4},{"$f":"ROUND(AK12,AI12)","v":4.62},{"$f":"ROUND(AK12,6)","v":4.6161079999999997},{"$f":"ROUND(AK12,9)","v":4.6161075619999998},{"$f":"ROUND(AL13-AI13,9)","v":0.61610756200000005},{"$f":"ROUND(AK13-AI13,9)","v":0.61610799999999999},{"$f":"ROUND(AL13-AI13,9)","v":0.61610756200000005},{"$f":"AO13-AN13","v":-4.3799999993598959E-7},{"$f":"ROUNDDOWN(AQ12/100,0)","v":4},{"$f":"ROUNDDOWN(AR12/10,0)","v":6},{"$f":"IF(AT12=0,0,\"\")","v":""},{"$f":"IF(AI12=2,IF(AT12=0,CONCATENATE(AS12,AS13),AS13),AS12)","v":""}]
[null,null,{"$f":"IF(RAND()>0.5,1,0)","v":0},{"$f":"IF(C14=1,Y22,Y21)","v":"250 × 37 − (18 − 94)"},null,null,null,null,null,null,null,null,null,null,null,null,null,null,null,null,null,null,null,null,null,null,null,null,null,null,null,null,null,{"$f":"IF(AI14<0,-1,1)","v":{"$error":"#VALUE!"}},{"$f":"G7^(1/I7)+L7*R7^(1/T7)","v":{"$error":"#VALUE!"}},{"$f":"IF(AK14=\"cm\",\"\",\"\")","v":""},"litres",null,{"$f":"ROUND(AK12,2)","v":4.62},{"$f":"AM12","v":"4.62 (2 d.p.)"}]
[null,null,null,null,null,null,null,null,null,null,null,null,null,null,null,null,null,null,null,null,{"$f":"D14","v":"250 × 37 − (18 − 94)"},"=",{"$f":"IF(C14=1,CONCATENATE(IF(AB22<0,\"−\",\"\"),ABS(AB22)),CONCATENATE(IF(AB21<0,\"−\",\"\"),ABS(AB21)))","v":"9326"},null,null,null,null,null,null,null,null,null,null,2,{"$f":"ABS(AI14)","v":{"$error":"#VALUE!"}},{"$f":"AI15^1","v":{"$error":"#VALUE!"}},{"$f":"CONCATENATE(AI15)","v":{"$error":"#VALUE!"}},{"$f":"IF(AI15=0,CONCATENATE(\"0\",AI17,\"\"),CONCATENATE(AO15,AN15))","v":{"$error":"#VALUE!"}},{"$f":"CONCATENATE(ROUND(AK16,9))","v":{"$error":"#VALUE!"}},{"$f":"IF(AO16=0,CONCATENATE(AI17),CONCATENATE(AS16,AI17,\" (\",AH15,\" d.p.)\"))","v":{"$error":"#VALUE!"}},{"$f":"IF(AO16=0,AJ16,AI16)","v":{"$error":"#VALUE!"}},{"$f":"ROUND(100*AI16,0)","v":{"$error":"#VALUE!"}},{"$f":"AP15-AP16*100","v":{"$error":"#VALUE!"}},{"$f":"IF(AO16=0,\"\",IF(AQ16=0,\".0\",\"\"))","v":{"$error":"#VALUE!"}},{"$f":"AP15-AP16*100-AQ16*10","v":{"$error":"#VALUE!"}}]
[null,null,null,null,null,null,null,null,null,null,null,null,null,null,null,null,null,null,null,null,null,null,null,null,null,null,null,null,null,null,null,null,null,{"$f":"ROUNDDOWN(AJ15,0)","v":{"$error":"#VALUE!"}},{"$f":"ROUND(AJ15,AH15)","v":{"$error":"#VALUE!"}},{"$f":"ROUND(AJ15,6)","v":{"$error":"#VALUE!"}},{"$f":"ROUND(AJ15,9)","v":{"$error":"#VALUE!"}},{"$f":"ROUND(AK16-AH16,9)","v":{"$error":"#VALUE!"}},{"$f":"ROUND(AJ16-AH16,9)","v":{"$error":"#VALUE!"}},{"$f":"ROUND(AK16-AH16,9)","v":{"$error":"#VALUE!"}},{"$f":"AN16-AM16","v":{"$error":"#VALUE!"}},{"$f":"ROUNDDOWN(AP15/100,0)","v":{"$error":"#VALUE!"}},{"$f":"ROUNDDOWN(AQ15/10,0)","v":{"$error":"#VALUE!"}},{"$f":"IF(AS15=0,0,\"\")","v":{"$error":"#VALUE!"}},{"$f":"IF(AH15=2,IF(AS15=0,CONCATENATE(AR15,AR16),AR16),AR15)","v":{"$error":"#VALUE!"}}]
[null,null,null,null,null,null,null,null,null,null,null,null,null,null,null,null,null,null,null,null,null,null,null,null,null,null,null,null,null,null,null,null,null,null,{"$f":"IF(AJ17=\"cm\",\"\",\"\")","v":""},"NIL",null,{"$f":"ROUND(AJ15,2)","v":{"$error":"#VALUE!"}}]
[]
[]
[null,null,null,null,null,null,null,null,null,null,null,null,null,null,null,null,null,null,null,null,null,null,null,null,null,null,null,null,null,null,null,null,"(15.1² ± 3.2 × 15.123)³"]
[null,null,{"$f":"INT(10*RAND())+0","v":2},{"$f":"INT(9*RAND())+1","v":5},0,1,{"$f":"((C21*100+D21*10+E21*1)/1)*F21","v":250},{"$f":"INT(10*RAND())+0","v":3},{"$f":"INT(9*RAND())+1","v":7},1,{"$f":"((H21*10+I21*1)/1)*J21","v":37},-1,{"$f":"IF(L21=1,\" + \",\" − \")","v":" − "},{"$f":"INT(10*RAND())+0","v":1},{"$f":"INT(9*RAND())+1","v":8},null,1,{"$f":"((N21*10+O21*1+P21*1)/1)*Q21","v":18},{"$f":"IF(RAND()>0.5,1,-1)","v":-1},{"$f":"IF(S21=1,\" + \",\" − \")","v":" − "},{"$f":"INT(10*RAND())+0","v":9},{"$f":"INT(9*RAND())+1","v":4},1,{"$f":"((U21*10+V21*1)/1)*W21","v":94},{"$f":"CONCATENATE(G21,\" × \",K21,M21,\"(\",R21,T21,X21,\")\")","v":"250 × 37 − (18 − 94)"},null,null,{"$f":"ROUND(G21*K21+L21*(R21+S21*X21),6)","v":9326},null,null,null,null,"5 × √(3.2² ± 6.78³)"]
[null,null,{"$f":"INT(10*RAND())+0","v":2},{"$f":"INT(9*RAND())+1","v":9},0,{"$f":"((C22*10+D22*1+E22*1)/1)","v":29},{"$f":"IF(RAND()>0.5,1,-1)","v":-1},{"$f":"IF(G22=1,\" + \",\" − \")","v":" − "},{"$f":"INT(10*RAND())+0","v":3},{"$f":"INT(9*RAND())+1","v":2},1,{"$f":"((I22*10+J22*1)/1)*K22","v":32},{"$f":"INT(10*RAND())+0","v":6},{"$f":"INT(9*RAND())+1","v":9},{"$f":"((M22*10+N22*1)/1)","v":69},{"$f":"IF(RAND()>0.5,1,-1)","v":-1},{"$f":"IF(P22=1,\" + \",\" − \")","v":" − "},{"$f":"INT(10*RAND())+0","v":9},{"$f":"INT(9*RAND())+1","v":8},0,1,{"$f":"((R22*10+S22*1)/1)*U22","v":98},null,null,{"$f":"IF(RAND()>0.5,CONCATENATE(\"(\",F22,H22,L22,\") × (\",O22,Q22,V22,\")\"),CONCATENATE(\"(\",O22,Q22,V22,\") × (\",F22,H22,L22,\")\"))","v":"(29 − 32) × (69 − 98)"},null,null,{"$f":"ROUND((F22+G22*L22)*(O22+P22*V22),6)","v":87},null,null,null,null,"⅔ × √(3.2² + 6.78³)"]
[null,null,null,null,null,null,null,null,null,null,null,null,null,null,null,null,null,null,null,null,null,null,null,null,null,null,null,null,null,null,null,null,"³√(3.2² + 6.78³)"]
[null,null,null,null,null,null,null,null,null,null,null,null,null,null,null,null,null,null,null,null,null,null,null,null,null,null,null,null,null,null,null,null,"√(3.2 + 6.78)"]
[null,null,null,null,null,null,null,null,null,null,null,null,null,null,null,null,null,null,null,null,null,null,null,null,null,null,null,null,null,null,null,null,"³√(8.7 × 10¹º)"]
[null,null,null,null,null,null,null,null,null,null,null,null,null,null,null,null,null,null,null,null,null,null,null,null,null,null,null,null,null,null,null,null,"³√(3.2 − 6.78)"]
[null,null,null,null,null,null,null,null,null,null,null,null,null,null,null,null,null,null,null,null,null,null,null,null,null,null,null,null,null,null,null,null,"√6.78 × ³√5.6"]
[null,null,null,null,null,null,null,null,null,null,null,null,null,null,null,null,null,null,null,null,null,null,null,null,null,null,null,null,null,null,null,null,"√(15.1² ± 3.2³)"]
[null,null,null,null,null,null,null,null,null,null,null,null,null,null,null,null,null,null,null,null,null,null,null,null,null,null,null,null,null,null,null,null,"³√(15.1² ± 3.2 × 15.123)"]
[null,null,null,null,null,null,null,null,null,null,null,null,null,null,null,null,null,null,null,null,null,null,null,null,null,null,null,null,null,null,null,null,"(43.6 ± 13.92)³ + √4.68"]
[null,null,null,null,null,null,null,null,null,null,null,null,null,null,null,null,null,null,null,null,null,null,null,null,null,null,null,null,null,null,null,null,"(43.6 ± 13.92)² ± ³√4.68"]
[]
[null,null,null,null,null,null,null,null,null,null,null,null,null,null,null,null,null,null,null,null,null,null,null,null,null,null,null,null,null,null,null,null,"3.7² ± 6.7³"]
[null,null,null,null,null,null,null,null,null,null,null,null,null,null,null,null,null,null,null,null,null,null,null,null,null,null,null,null,null,null,null,null,"3.7² × 6.7³"]
[null,null,null,null,null,null,null,null,null,null,null,null,null,null,null,null,null,null,null,null,null,null,null,null,null,null,null,null,null,null,null,null,"5 × 6.78³"]
[null,null,null,null,null,null,null,null,null,null,null,null,null,null,null,null,null,null,null,null,null,null,null,null,null,null,null,null,null,null,null,null,"1⅔ × 6.78³"]
[null,null,null,null,null,null,null,null,null,null,null,null,null,null,null,null,null,null,null,null,null,null,null,null,null,null,null,null,null,null,null,null,"√4.68 ± ³√4.68"]
[null,null,null,null,null,null,null,null,null,null,null,null,null,null,null,null,null,null,null,null,null,null,null,null,null,null,null,null,null,null,null,null,"√4.68 × ³√4.68"]
[null,null,null,null,null,null,null,null,null,null,null,null,null,null,null,null,null,null,null,null,null,null,null,null,null,null,null,null,null,null,null,null,"√4.68 ÷ ³√4.68"]
[null,null,null,null,null,null,null,null,null,null,null,null,null,null,null,null,null,null,null,null,null,null,null,null,null,null,null,null,null,null,null,null,"6.7³ ± ³√4.68"]
[null,null,null,null,null,null,null,null,null,null,null,null,null,null,null,null,null,null,null,null,null,null,null,null,null,null,null,null,null,null,null,null,"6.7³ × ³√4.68"]
[null,null,null,null,null,null,null,null,null,null,null,null,null,null,null,null,null,null,null,null,null,null,null,null,null,null,null,null,null,null,null,null,"6.7³ ÷ ³√4.68"]
[null,null,null,null,null,null,null,null,null,null,null,null,null,null,null,null,null,null,null,null,null,null,null,null,null,null,null,null,null,null,null,null,"6.78³³ × 5.6³³"]
[null,null,null,null,null,null,null,null,null,null,null,null,null,null,null,null,null,null,null,null,null,null,null,null,null,null,null,null,null,null,null,null,"6.78³³ ÷ 5.6³³"]
[null,null,null,null,null,null,null,null,null,null,null,null,null,null,null,null,null,null,null,null,null,null,null,null,null,null,null,null,null,null,null,null,"2⅝³"]

{"sheet":"BASINT-VE","index":18,"n_rows":45,"n_cols":46,"rows_kept":45,"cut":false,"hidden":false,"merged":[]}
[]
[null,null,{"$f":"'BASINT+VE'!C2","v":"Evaluate each expression using a calculator."},null,null,null,null,null,null,null,null,null,null,null,null,null,null,null,null,null,null,null,null,null,null,null,null,null,null,null,null,null,null,{"$f":"IF(C8=1,H7*P7*W7,IF(C8=2,H7*P7,IF(C8=3,W7*H7,H7)))","v":-46046},{"$f":"CONCATENATE(IF(H7<0,\"−\",\"\"),ABS(H7),I7,IF(P7<0,\"−\",\"\"),ABS(P7),Q7,IF(W7<0,\"−\",\"\"),ABS(W7))","v":"−13 × 77 × 46"},{"$f":"CONCATENATE(IF(H7<0,\"−\",\"\"),ABS(H7),I7,IF(P7<0,\"−\",\"\"),ABS(P7))","v":"−13 × 77"},{"$f":"CONCATENATE(\"(\",IF(H7*P7<0,\"−\",\"\"),ABS(H7*P7),\" ÷ \",IF(P7<0,\"−\",\"\"),ABS(P7),\") × \",IF(W7<0,\"−\",\"\"),ABS(W7))","v":"(−1001 ÷ 77) × 46"},{"$f":"CONCATENATE(IF(H7*P7<0,\"−\",\"\"),ABS(H7*P7),\" ÷ \",IF(P7<0,\"−\",\"\"),ABS(P7))","v":"−1001 ÷ 77"},"x","x","x","x","x","x","x","x"]
[null,null,null,null,null,null,null,null,null,null,null,null,null,null,null,null,null,null,null,null,null,null,null,null,null,null,null,null,null,null,null,null,null,{"$f":"IF(AK4>5,INT(5*RAND())+5,IF(AK4>4,INT(6*RAND())+4,IF(AK4>2.5,INT(7*RAND())+3,INT(8*RAND())+2)))","v":3},null,null,{"$f":"(INT(12*RAND())+3)/2","v":2}]
[null,null,{"$f":"INT(10*RAND())+0","v":0},{"$f":"IF(RAND()>0.5,0,INT(9*RAND())+1)","v":9},{"$f":"INT(9*RAND())+1","v":5},{"$f":"IF(RAND()>0.5,0,INT(9*RAND())+1)","v":5},{"$f":"C4*1000+D4*100+E4*10+F4","v":955},1,{"$f":"IF(RAND()>0.5,1,-1)","v":-1},{"$f":"(G4/H4)*I4","v":-955},{"$f":"IF(RAND()>0.5,1,-1)","v":1},{"$f":"IF(K4=1,\" + \",\" − \")","v":" + "},{"$f":"INT(10*RAND())+0","v":7},{"$f":"IF(RAND()>0.5,0,INT(9*RAND())+1)","v":0},{"$f":"INT(9*RAND())+1","v":4},{"$f":"IF(RAND()>0.5,0,INT(9*RAND())+1)","v":8},{"$f":"M4*1000+N4*100+O4*10+P4","v":7048},1,{"$f":"-I4","v":1},{"$f":"(Q4/R4)*S4","v":7048},{"$f":"IF(RAND()>0.5,1,-1)","v":-1},{"$f":"IF(U4=1,\" + \",\" − \")","v":" − "},{"$f":"INT(10*RAND())+0","v":9},{"$f":"IF(RAND()>0.5,0,INT(9*RAND())+1)","v":6},{"$f":"INT(9*RAND())+1","v":6},{"$f":"IF(RAND()>0.5,0,INT(9*RAND())+1)","v":0},{"$f":"W4*1000+X4*100+Y4*10+Z4","v":9660},1,{"$f":"IF(RAND()>0.5,1,-1)","v":-1},{"$f":"(AA4/AB4)*AC4","v":-9660},null,null,{"$f":"INT(10*RAND())+0","v":4},{"$f":"IF(AG4=0,AH3,INT(9*RAND())+1)","v":6},{"$f":"IF(AI5=1,INT(9*RAND())+1,0)","v":0},{"$f":"AG4+AH4/10+AI4/100","v":4.5999999999999996},{"$f":"(INT(12*RAND())+3)/2","v":3.5}]
[null,null,{"$f":"IF(RAND()>0.5,1,0)","v":0},{"$f":"IF(C5=1,CONCATENATE(IF(J4<0,\"−\",\"\"),ABS(J4),L4,IF(T4<0,\"−\",\"\"),ABS(T4),V4,IF(AD4<0,\"−\",\"\"),ABS(AD4)),CONCATENATE(IF(J4<0,\"−\",\"\"),ABS(J4),L4,IF(T4<0,\"−\",\"\"),ABS(T4)))","v":"−955 + 7048"},null,null,null,null,null,null,null,null,null,null,null,null,null,null,null,null,null,null,null,null,null,null,null,null,null,null,null,null,null,null,{"$f":"IF(RAND()>0.5,1,0)","v":0},{"$f":"AJ4^AK4","v":208.76246243422193},{"$f":"IF(AK9=0,0,1/300000000)","v":3.3333333333333334E-9}]
[null,null,null,null,null,null,null,null,null,null,null,null,null,null,null,null,null,null,null,null,{"$f":"D5","v":"−955 + 7048"},"=",{"$f":"IF(C5=1,CONCATENATE(IF(ROUND(J4+K4*T4+U4*AD4,6)<0,\"−\",\"\"),ABS(ROUND(J4+K4*T4+U4*AD4,6)),),CONCATENATE(IF(ROUND(J4+K4*T4,6)<0,\"−\",\"\"),ABS(ROUND(J4+K4*T4,6)),))","v":"6093"},null,null,null,null,null,null,null,null,null,null,null,2,{"$f":"AJ5+AK5","v":208.76246243755526},{"$f":"AJ6^1","v":208.76246243755526},{"$f":"CONCATENATE(AJ6)","v":"208.762462437555"},{"$f":"IF(AJ6=0,CONCATENATE(\"0\",AJ8,\"\"),CONCATENATE(AP6,AO6))","v":"208.76 (2 d.p.)"},{"$f":"CONCATENATE(ROUND(AL7,9))","v":"208.762462438"},{"$f":"IF(AP7=0,CONCATENATE(AJ8),CONCATENATE(AT7,AJ8,\" (\",AI6,\" d.p.)\"))","v":" (2 d.p.)"},{"$f":"IF(AP7=0,AK7,AJ7)","v":208.76},{"$f":"ROUND(100*AJ7,0)","v":20876},{"$f":"AQ6-AQ7*100","v":76},{"$f":"IF(AP7=0,\"\",IF(AR7=0,\".0\",\"\"))","v":""},{"$f":"AQ6-AQ7*100-AR7*10","v":6}]
[null,null,{"$f":"INT(10*RAND())+0","v":1},{"$f":"INT(9*RAND())+1","v":3},{"$f":"C7*10+D7*1","v":13},1,{"$f":"IF(RAND()>0.5,1,-1)","v":-1},{"$f":"(E7/F7)*G7","v":-13}," × ",{"$f":"INT(10*RAND())+0","v":7},{"$f":"INT(9*RAND())+1","v":7},0,{"$f":"J7*10+K7*1","v":77},1,{"$f":"-G7","v":1},{"$f":"(M7/N7)*O7","v":77}," × ",{"$f":"INT(10*RAND())+0","v":4},{"$f":"INT(9*RAND())+1","v":6},{"$f":"R7*10+S7*1","v":46},1,{"$f":"IF(RAND()>0.5,1,-1)","v":1},{"$f":"(T7/U7)*V7","v":46},null,null,null,null,null,null,null,null,null,null,null,{"$f":"ROUNDDOWN(AK6,0)","v":208},{"$f":"ROUND(AK6,AI6)","v":208.76},{"$f":"ROUND(AK6,6)","v":208.762462},{"$f":"ROUND(AK6,9)","v":208.762462438},{"$f":"ROUND(AL7-AI7,9)","v":0.76246243800000002},{"$f":"ROUND(AK7-AI7,9)","v":0.76246199999999997},{"$f":"ROUND(AL7-AI7,9)","v":0.76246243800000002},{"$f":"AO7-AN7","v":4.3800000004701189E-7},{"$f":"ROUNDDOWN(AQ6/100,0)","v":208},{"$f":"ROUNDDOWN(AR6/10,0)","v":7},{"$f":"IF(AT6=0,0,\"\")","v":""},{"$f":"IF(AI6=2,IF(AT6=0,CONCATENATE(AS6,AS7),AS7),AS6)","v":""}]
[null,null,{"$f":"INT(4*RAND())+1","v":1},{"$f":"IF(C8=1,AI2,IF(C8=2,AJ2,IF(C8=3,AK2,AL2)))","v":"−13 × 77 × 46"},null,null,null,null,null,null,null,null,null,null,null,null,null,null,null,null,null,null,null,null,null,null,null,null,null,null,null,null,null,null,null,{"$f":"IF(AK8=\"cm\",\"\",\"\")","v":""},"NIL",null,{"$f":"ROUND(AK6,2)","v":208.76},{"$f":"AM6","v":"208.76 (2 d.p.)"}]
[null,null,null,null,null,null,null,null,null,null,null,null,null,null,null,null,null,null,null,null,{"$f":"D8","v":"−13 × 77 × 46"},"=",{"$f":"CONCATENATE(IF(AH2<0,\"−\",\"\"),ABS(AH2))","v":"−46046"},null,null,null,null,null,null,null,null,null,null,null,null,null,{"$f":"ROUND((AM9-AL9)*10000,7)","v":6243.4221989999996},{"$f":"ROUNDDOWN(AM9,0)","v":2087624},{"$f":"10000*AN9","v":2087624.6243422199},{"$f":"CONCATENATE(AJ4^AK4)","v":"208.762462434222"}]
[null,null,{"$f":"INT(10*RAND())+0","v":0},{"$f":"IF(RAND()>0.5,0,INT(9*RAND())+1)","v":2},{"$f":"INT(9*RAND())+1","v":6},0,{"$f":"C10*100+D10*10+E10*1","v":26},1,{"$f":"IF(RAND()>0.5,1,-1)","v":-1},{"$f":"(G10/H10)*I10","v":-26},{"$f":"IF(RAND()>0.5,1,-1)","v":-1},{"$f":"IF(K10=1,\" + \",\" − \")","v":" − "},{"$f":"INT(10*RAND())+0","v":1},{"$f":"IF(RAND()>0.5,0,INT(9*RAND())+1)","v":4},{"$f":"INT(9*RAND())+1","v":7},0,{"$f":"M10*100+N10*10+O10*1","v":147},1,1,{"$f":"(Q10/R10)*S10","v":147},{"$f":"IF(RAND()>0.5,1,-1)","v":1},{"$f":"IF(U10=1,\" + \",\" − \")","v":" + "},{"$f":"INT(10*RAND())+0","v":7},{"$f":"IF(RAND()>0.5,0,INT(9*RAND())+1)","v":9},{"$f":"INT(9*RAND())+1","v":1},0,{"$f":"W10*100+X10*10+Y10*1","v":791},1,{"$f":"IF(RAND()>0.5,1,-1)","v":1},{"$f":"(AA10/AB10)*AC10","v":791},null,null,null,{"$f":"IF(RAND()>0.5,1,0)","v":1},{"$f":"IF(RAND()>0.5,1,0)","v":0},{"$f":"IF(RAND()>0.5,1,0)","v":1},{"$f":"IF(RAND()>0.5,1,0)","v":0},{"$f":"IF(AM10>0.75,1,IF(AM10>0.5,10,IF(AM10>0.25,100,1000)))","v":10},{"$f":"RAND()","v":0.61112302588680423}]
[null,null,{"$f":"INT(8*RAND())+2","v":4},{"$f":"CONCATENATE(IF(J10<0,\"−\",\"\"),ABS(J10),L10,C11,\"(\",T10,V10,IF(AD10<0,\"−\",\"\"),ABS(AD10),\")\")","v":"−26 − 4(147 + 791)"},null,null,null,null,null,null,null,null,null,null,null,null,null,null,null,null,null,null,null,null,null,null,null,null,null,null,null,null,null,{"$f":"IF(AI10=0,INT(99*RAND())+1,INT(9*RAND())+1)","v":41},{"$f":"IF(AI10=0,INT(10*RAND())+0,0)","v":1},{"$f":"IF(AJ10=0,INT(10*RAND())+0,0)","v":0},{"$f":"IF(AK10=0,INT(10*RAND())+0,0)","v":3},{"$f":"(AH11*1000+AI11*100+AJ11*10+AK11)/AL10","v":4110.3},{"$f":"INT(6*RAND())+4","v":6}]
[null,null,null,null,null,null,null,null,null,null,null,null,null,null,null,null,null,null,null,null,{"$f":"D11","v":"−26 − 4(147 + 791)"},"=",{"$f":"CONCATENATE(IF(ROUND(J10+K10*C11*(T10+U10*AD10),6)<0,\"−\",\"\"),ABS(ROUND(J10+K10*C11*(T10+U10*AD10),6)))","v":"−3778"},null,null,null,null,null,null,null,null,null,null,null,2,{"$f":"AL11^(1/AM11)","v":4.0023240954545978},{"$f":"AJ12^1","v":4.0023240954545978},{"$f":"CONCATENATE(AJ12)","v":"4.0023240954546"},{"$f":"IF(AJ12=0,CONCATENATE(\"0\",AJ14,\"\"),CONCATENATE(AP12,AO12))","v":"4.00 (2 d.p.)"},{"$f":"CONCATENATE(ROUND(AL13,9))","v":"4.002324095"},{"$f":"IF(AP13=0,CONCATENATE(AJ14),CONCATENATE(AT13,AJ14,\" (\",AI12,\" d.p.)\"))","v":".00 (2 d.p.)"},{"$f":"IF(AP13=0,AK13,AJ13)","v":4},{"$f":"ROUND(100*AJ13,0)","v":400},{"$f":"AQ12-AQ13*100","v":0},{"$f":"IF(AP13=0,\"\",IF(AR13=0,\".0\",\"\"))","v":".0"},{"$f":"AQ12-AQ13*100-AR13*10","v":0}]
[null,null,null,null,null,null,null,null,null,null,null,null,null,null,null,null,null,null,null,null,null,null,null,null,null,null,null,null,null,null,null,null,null,null,{"$f":"ROUNDDOWN(AK12,0)","v":4},{"$f":"ROUND(AK12,AI12)","v":4},{"$f":"ROUND(AK12,6)","v":4.0023239999999998},{"$f":"ROUND(AK12,9)","v":4.0023240949999996},{"$f":"ROUND(AL13-AI13,9)","v":2.324095E-3},{"$f":"ROUND(AK13-AI13,9)","v":2.3240000000000001E-3},{"$f":"ROUND(AL13-AI13,9)","v":2.324095E-3},{"$f":"AO13-AN13","v":9.4999999999869494E-8},{"$f":"ROUNDDOWN(AQ12/100,0)","v":4},{"$f":"ROUNDDOWN(AR12/10,0)","v":0},{"$f":"IF(AT12=0,0,\"\")","v":0},{"$f":"IF(AI12=2,IF(AT12=0,CONCATENATE(AS12,AS13),AS13),AS12)","v":".00"}]
[null,null,{"$f":"IF(RAND()>0.5,1,0)","v":0},{"$f":"IF(C14=1,Y22,Y21)","v":"−370 × 6 − (85 + −11)"},null,null,null,null,null,null,null,null,null,null,null,null,null,null,null,null,null,null,null,null,null,null,null,null,null,null,null,null,null,{"$f":"IF(AI14<0,-1,1)","v":{"$error":"#VALUE!"}},{"$f":"G7^(1/I7)+L7*R7^(1/T7)","v":{"$error":"#VALUE!"}},{"$f":"IF(AK14=\"cm\",\"\",\"\")","v":""},"litres",null,{"$f":"ROUND(AK12,2)","v":4},{"$f":"AM12","v":"4.00 (2 d.p.)"}]
[null,null,null,null,null,null,null,null,null,null,null,null,null,null,null,null,null,null,null,null,{"$f":"D14","v":"−370 × 6 − (85 + −11)"},"=",{"$f":"IF(C14=1,CONCATENATE(IF(AB22<0,\"−\",\"\"),ABS(AB22)),CONCATENATE(IF(AB21<0,\"−\",\"\"),ABS(AB21)))","v":"−2294"},null,null,null,null,null,null,null,null,null,null,2,{"$f":"ABS(AI14)","v":{"$error":"#VALUE!"}},{"$f":"AI15^1","v":{"$error":"#VALUE!"}},{"$f":"CONCATENATE(AI15)","v":{"$error":"#VALUE!"}},{"$f":"IF(AI15=0,CONCATENATE(\"0\",AI17,\"\"),CONCATENATE(AO15,AN15))","v":{"$error":"#VALUE!"}},{"$f":"CONCATENATE(ROUND(AK16,9))","v":{"$error":"#VALUE!"}},{"$f":"IF(AO16=0,CONCATENATE(AI17),CONCATENATE(AS16,AI17,\" (\",AH15,\" d.p.)\"))","v":{"$error":"#VALUE!"}},{"$f":"IF(AO16=0,AJ16,AI16)","v":{"$error":"#VALUE!"}},{"$f":"ROUND(100*AI16,0)","v":{"$error":"#VALUE!"}},{"$f":"AP15-AP16*100","v":{"$error":"#VALUE!"}},{"$f":"IF(AO16=0,\"\",IF(AQ16=0,\".0\",\"\"))","v":{"$error":"#VALUE!"}},{"$f":"AP15-AP16*100-AQ16*10","v":{"$error":"#VALUE!"}}]
[null,null,null,null,null,null,null,null,null,null,null,null,null,null,null,null,null,null,null,null,null,null,null,null,null,null,null,null,null,null,null,null,null,{"$f":"ROUNDDOWN(AJ15,0)","v":{"$error":"#VALUE!"}},{"$f":"ROUND(AJ15,AH15)","v":{"$error":"#VALUE!"}},{"$f":"ROUND(AJ15,6)","v":{"$error":"#VALUE!"}},{"$f":"ROUND(AJ15,9)","v":{"$error":"#VALUE!"}},{"$f":"ROUND(AK16-AH16,9)","v":{"$error":"#VALUE!"}},{"$f":"ROUND(AJ16-AH16,9)","v":{"$error":"#VALUE!"}},{"$f":"ROUND(AK16-AH16,9)","v":{"$error":"#VALUE!"}},{"$f":"AN16-AM16","v":{"$error":"#VALUE!"}},{"$f":"ROUNDDOWN(AP15/100,0)","v":{"$error":"#VALUE!"}},{"$f":"ROUNDDOWN(AQ15/10,0)","v":{"$error":"#VALUE!"}},{"$f":"IF(AS15=0,0,\"\")","v":{"$error":"#VALUE!"}},{"$f":"IF(AH15=2,IF(AS15=0,CONCATENATE(AR15,AR16),AR16),AR15)","v":{"$error":"#VALUE!"}}]
[null,null,null,null,null,null,null,null,null,null,null,null,null,null,null,null,null,null,null,null,null,null,null,null,null,null,null,null,null,null,null,null,null,null,{"$f":"IF(AJ17=\"cm\",\"\",\"\")","v":""},"NIL",null,{"$f":"ROUND(AJ15,2)","v":{"$error":"#VALUE!"}}]
[]
[]
[null,null,null,null,null,null,null,null,null,null,null,null,null,null,null,null,null,null,null,null,null,null,null,null,null,null,null,null,null,null,null,null,"(15.1² ± 3.2 × 15.123)³"]
[null,null,{"$f":"INT(10*RAND())+0","v":3},{"$f":"INT(9*RAND())+1","v":7},0,{"$f":"IF(RAND()>0.5,1,-1)","v":-1},{"$f":"((C21*100+D21*10+E21*1)/1)*F21","v":-370},{"$f":"INT(10*RAND())+0","v":0},{"$f":"INT(9*RAND())+1","v":6},{"$f":"IF(RAND()>0.5,1,-1)","v":1},{"$f":"((H21*10+I21*1)/1)*J21","v":6},-1,{"$f":"IF(L21=1,\" + \",\" − \")","v":" − "},{"$f":"INT(10*RAND())+0","v":8},{"$f":"INT(9*RAND())+1","v":5},null,1,{"$f":"((N21*10+O21*1+P21*1)/1)*Q21","v":85},{"$f":"IF(RAND()>0.5,1,-1)","v":1},{"$f":"IF(S21=1,\" + \",\" − \")","v":" + "},{"$f":"INT(10*RAND())+0","v":1},{"$f":"INT(9*RAND())+1","v":1},{"$f":"-Q21","v":-1},{"$f":"((U21*10+V21*1)/1)*W21","v":-11},{"$f":"CONCATENATE(IF(G21<0,\"−\",\"\"),ABS(G21),\" × \",IF(K21<0,\"−\",\"\"),ABS(K21),M21,\"(\",R21,T21,IF(X21<0,\"−\",\"\"),ABS(X21),\")\")","v":"−370 × 6 − (85 + −11)"},null,null,{"$f":"ROUND(G21*K21+L21*(R21+S21*X21),6)","v":-2294},null,null,null,null,"5 × √(3.2² ± 6.78³)"]
[null,null,{"$f":"INT(10*RAND())+0","v":0},{"$f":"INT(9*RAND())+1","v":3},0,{"$f":"((C22*10+D22*1+E22*1)/1)","v":3},{"$f":"IF(RAND()>0.5,1,-1)","v":-1},{"$f":"IF(G22=1,\" + \",\" − \")","v":" − "},{"$f":"INT(10*RAND())+0","v":6},{"$f":"INT(9*RAND())+1","v":3},{"$f":"IF(RAND()>0.5,1,-1)","v":-1},{"$f":"((I22*10+J22*1)/1)*K22","v":-63},{"$f":"INT(10*RAND())+0","v":9},{"$f":"INT(9*RAND())+1","v":6},{"$f":"((M22*10+N22*1)/1)","v":96},{"$f":"IF(RAND()>0.5,1,-1)","v":1},{"$f":"IF(P22=1,\" + \",\" − \")","v":" + "},{"$f":"INT(10*RAND())+0","v":7},{"$f":"INT(9*RAND())+1","v":6},0,{"$f":"IF(RAND()>0.5,1,-1)","v":1},{"$f":"((R22*10+S22*1)/1)*U22","v":76},null,null,{"$f":"IF(RAND()>0.5,Y23,Y24)","v":"(3 − −63) × (96 + 76)"},null,null,{"$f":"ROUND((F22+G22*L22)*(O22+P22*V22),6)","v":11352},null,null,null,null,"⅔ × √(3.2² + 6.78³)"]
[null,null,null,null,null,null,null,null,null,null,null,null,null,null,null,null,null,null,null,null,null,null,null,null,{"$f":"CONCATENATE(\"(\",F22,H22,IF(L22<0,\"−\",\"\"),ABS(L22),\") × (\",O22,Q22,IF(V22<0,\"−\",\"\"),ABS(V22),\")\")","v":"(3 − −63) × (96 + 76)"},null,null,null,null,null,null,null,"³√(3.2² + 6.78³)"]
[null,null,null,null,null,null,null,null,null,null,null,null,null,null,null,null,null,null,null,null,null,null,null,null,{"$f":"CONCATENATE(\"(\",O22,Q22,IF(V22<0,\"−\",\"\"),ABS(V22),\") × (\",F22,H22,IF(L22<0,\"−\",\"\"),ABS(L22),\")\")","v":"(96 + 76) × (3 − −63)"},null,null,null,null,null,null,null,"√(3.2 + 6.78)"]
[null,null,null,null,null,null,null,null,null,null,null,null,null,null,null,null,null,null,null,null,null,null,null,null,null,null,null,null,null,null,null,null,"³√(8.7 × 10¹º)"]
[null,null,null,null,null,null,null,null,null,null,null,null,null,null,null,null,null,null,null,null,null,null,null,null,null,null,null,null,null,null,null,null,"³√(3.2 − 6.78)"]
[null,null,null,null,null,null,null,null,null,null,null,null,null,null,null,null,null,null,null,null,null,null,null,null,null,null,null,null,null,null,null,null,"√6.78 × ³√5.6"]
[null,null,null,null,null,null,null,null,null,null,null,null,null,null,null,null,null,null,null,null,null,null,null,null,null,null,null,null,null,null,null,null,"√(15.1² ± 3.2³)"]
[null,null,null,null,null,null,null,null,null,null,null,null,null,null,null,null,null,null,null,null,null,null,null,null,null,null,null,null,null,null,null,null,"³√(15.1² ± 3.2 × 15.123)"]
[null,null,null,null,null,null,null,null,null,null,null,null,null,null,null,null,null,null,null,null,null,null,null,null,null,null,null,null,null,null,null,null,"(43.6 ± 13.92)³ + √4.68"]
[null,null,null,null,null,null,null,null,null,null,null,null,null,null,null,null,null,null,null,null,null,null,null,null,null,null,null,null,null,null,null,null,"(43.6 ± 13.92)² ± ³√4.68"]
[]
[null,null,null,null,null,null,null,null,null,null,null,null,null,null,null,null,null,null,null,null,null,null,null,null,null,null,null,null,null,null,null,null,"3.7² ± 6.7³"]
[null,null,null,null,null,null,null,null,null,null,null,null,null,null,null,null,null,null,null,null,null,null,null,null,null,null,null,null,null,null,null,null,"3.7² × 6.7³"]
[null,null,null,null,null,null,null,null,null,null,null,null,null,null,null,null,null,null,null,null,null,null,null,null,null,null,null,null,null,null,null,null,"5 × 6.78³"]
[null,null,null,null,null,null,null,null,null,null,null,null,null,null,null,null,null,null,null,null,null,null,null,null,null,null,null,null,null,null,null,null,"1⅔ × 6.78³"]
[null,null,null,null,null,null,null,null,null,null,null,null,null,null,null,null,null,null,null,null,null,null,null,null,null,null,null,null,null,null,null,null,"√4.68 ± ³√4.68"]
[null,null,null,null,null,null,null,null,null,null,null,null,null,null,null,null,null,null,null,null,null,null,null,null,null,null,null,null,null,null,null,null,"√4.68 × ³√4.68"]
[null,null,null,null,null,null,null,null,null,null,null,null,null,null,null,null,null,null,null,null,null,null,null,null,null,null,null,null,null,null,null,null,"√4.68 ÷ ³√4.68"]
[null,null,null,null,null,null,null,null,null,null,null,null,null,null,null,null,null,null,null,null,null,null,null,null,null,null,null,null,null,null,null,null,"6.7³ ± ³√4.68"]
[null,null,null,null,null,null,null,null,null,null,null,null,null,null,null,null,null,null,null,null,null,null,null,null,null,null,null,null,null,null,null,null,"6.7³ × ³√4.68"]
[null,null,null,null,null,null,null,null,null,null,null,null,null,null,null,null,null,null,null,null,null,null,null,null,null,null,null,null,null,null,null,null,"6.7³ ÷ ³√4.68"]
[null,null,null,null,null,null,null,null,null,null,null,null,null,null,null,null,null,null,null,null,null,null,null,null,null,null,null,null,null,null,null,null,"6.78³³ × 5.6³³"]
[null,null,null,null,null,null,null,null,null,null,null,null,null,null,null,null,null,null,null,null,null,null,null,null,null,null,null,null,null,null,null,null,"6.78³³ ÷ 5.6³³"]
[null,null,null,null,null,null,null,null,null,null,null,null,null,null,null,null,null,null,null,null,null,null,null,null,null,null,null,null,null,null,null,null,"2⅝³"]

{"sheet":"BASDEC+VE","index":19,"n_rows":45,"n_cols":46,"rows_kept":45,"cut":false,"hidden":false,"merged":[]}
[]
[null,null,{"$f":"RFPDEPOSVE!C2","v":"Evaluate each expression using a calculator."},null,null,null,null,null,null,null,null,null,null,null,null,null,null,null,null,null,null,null,null,null,null,null,null,null,null,null,null,null,null,"x","x","x"]
[null,null,null,null,null,null,null,null,null,null,null,null,null,null,null,null,null,null,null,null,null,null,null,null,null,null,null,null,null,null,null,null,null,{"$f":"IF(AK4>5,INT(5*RAND())+5,IF(AK4>4,INT(6*RAND())+4,IF(AK4>2.5,INT(7*RAND())+3,INT(8*RAND())+2)))","v":7},null,null,{"$f":"(INT(12*RAND())+3)/2","v":4.5}]
[null,null,{"$f":"INT(10*RAND())+0","v":6},{"$f":"IF(RAND()>0.5,0,INT(9*RAND())+1)","v":2},{"$f":"INT(9*RAND())+1","v":1},{"$f":"IF(RAND()>0.5,0,INT(9*RAND())+1)","v":9},{"$f":"C4*1000+D4*100+E4*10+F4","v":6219},{"$f":"IF(RAND()>0.5,100,1000)","v":100},1,{"$f":"(G4/H4)*I4","v":62.19},{"$f":"IF(RAND()>0.5,1,-1)","v":-1},{"$f":"IF(K4=1,\" + \",\" − \")","v":" − "},{"$f":"INT(10*RAND())+0","v":9},{"$f":"IF(RAND()>0.5,0,INT(9*RAND())+1)","v":6},{"$f":"INT(9*RAND())+1","v":8},{"$f":"IF(RAND()>0.5,0,INT(9*RAND())+1)","v":0},{"$f":"M4*1000+N4*100+O4*10+P4","v":9680},{"$f":"IF(RAND()>0.5,100,1000)","v":1000},1,{"$f":"(Q4/R4)*S4","v":9.68},{"$f":"IF(RAND()>0.5,1,-1)","v":1},{"$f":"IF(U4=1,\" + \",\" − \")","v":" + "},{"$f":"INT(10*RAND())+0","v":4},{"$f":"IF(RAND()>0.5,0,INT(9*RAND())+1)","v":0},{"$f":"INT(9*RAND())+1","v":5},{"$f":"IF(RAND()>0.5,0,INT(9*RAND())+1)","v":8},{"$f":"W4*1000+X4*100+Y4*10+Z4","v":4058},{"$f":"IF(RAND()>0.5,100,1000)","v":1000},1,{"$f":"(AA4/AB4)*AC4","v":4.0579999999999998},null,null,{"$f":"INT(10*RAND())+0","v":2},{"$f":"IF(AG4=0,AH3,INT(9*RAND())+1)","v":5},{"$f":"IF(AI5=1,INT(9*RAND())+1,0)","v":0},{"$f":"AG4+AH4/10+AI4/100","v":2.5},{"$f":"(INT(12*RAND())+3)/2","v":5.5}]
[null,null,{"$f":"IF(RAND()>0.5,1,0)","v":0},{"$f":"IF(C5=1,CONCATENATE(J4,L4,T4,V4,AD4),CONCATENATE(J4,L4,T4))","v":"62.19 − 9.68"},null,null,null,null,null,null,null,null,null,null,null,null,null,null,null,null,null,null,null,null,null,null,null,null,null,null,null,null,null,null,{"$f":"IF(RAND()>0.5,1,0)","v":0},{"$f":"AJ4^AK4","v":154.40808887540911},{"$f":"IF(AK9=0,0,1/300000000)","v":3.3333333333333334E-9}]
[null,null,null,null,null,null,null,null,null,null,null,null,null,null,null,null,null,null,null,null,{"$f":"D5","v":"62.19 − 9.68"},"=",{"$f":"IF(C5=1,CONCATENATE(IF(ROUND(J4+K4*T4+U4*AD4,6)<0,\"−\",\"\"),ABS(ROUND(J4+K4*T4+U4*AD4,6)),),CONCATENATE(IF(ROUND(J4+K4*T4,6)<0,\"−\",\"\"),ABS(ROUND(J4+K4*T4,6)),))","v":"52.51"},null,null,null,null,null,null,null,null,null,null,null,2,{"$f":"AJ5+AK5","v":154.40808887874243},{"$f":"AJ6^1","v":154.40808887874243},{"$f":"CONCATENATE(AJ6)","v":"154.408088878742"},{"$f":"IF(AJ6=0,CONCATENATE(\"0\",AJ8,\"\"),CONCATENATE(AP6,AO6))","v":"154.41 (2 d.p.)"},{"$f":"CONCATENATE(ROUND(AL7,9))","v":"154.408088879"},{"$f":"IF(AP7=0,CONCATENATE(AJ8),CONCATENATE(AT7,AJ8,\" (\",AI6,\" d.p.)\"))","v":" (2 d.p.)"},{"$f":"IF(AP7=0,AK7,AJ7)","v":154.41},{"$f":"ROUND(100*AJ7,0)","v":15441},{"$f":"AQ6-AQ7*100","v":41},{"$f":"IF(AP7=0,\"\",IF(AR7=0,\".0\",\"\"))","v":""},{"$f":"AQ6-AQ7*100-AR7*10","v":1}]
[null,null,{"$f":"INT(10*RAND())+0","v":6},{"$f":"INT(9*RAND())+1","v":6},{"$f":"C7*1000+D7*100","v":6600},1000,1,{"$f":"(E7/F7)*G7","v":6.6}," × ",{"$f":"INT(10*RAND())+0","v":0},{"$f":"INT(9*RAND())+1","v":4},{"$f":"IF(RAND()>0.5,0,INT(9*RAND())+1)","v":0},{"$f":"J7*1000+K7*100+L7*10","v":400},1000,1,{"$f":"(M7/N7)*O7","v":0.4}," × ",{"$f":"INT(10*RAND())+0","v":9},{"$f":"INT(9*RAND())+1","v":2},{"$f":"R7*1000+S7*100","v":9200},1000,1,{"$f":"(T7/U7)*V7","v":9.1999999999999993},null,null,null,null,null,null,null,null,null,null,null,{"$f":"ROUNDDOWN(AK6,0)","v":154},{"$f":"ROUND(AK6,AI6)","v":154.41},{"$f":"ROUND(AK6,6)","v":154.40808899999999},{"$f":"ROUND(AK6,9)","v":154.40808887899999},{"$f":"ROUND(AL7-AI7,9)","v":0.40808887900000002},{"$f":"ROUND(AK7-AI7,9)","v":0.40808899999999998},{"$f":"ROUND(AL7-AI7,9)","v":0.40808887900000002},{"$f":"AO7-AN7","v":-1.2099999996406652E-7},{"$f":"ROUNDDOWN(AQ6/100,0)","v":154},{"$f":"ROUNDDOWN(AR6/10,0)","v":4},{"$f":"IF(AT6=0,0,\"\")","v":""},{"$f":"IF(AI6=2,IF(AT6=0,CONCATENATE(AS6,AS7),AS7),AS6)","v":""}]
[null,null,{"$f":"INT(4*RAND())+1","v":4},{"$f":"IF(C8=1,CONCATENATE(H7,I7,P7,Q7,W7),IF(C8=2,CONCATENATE(H7,I7,P7),IF(C8=3,CONCATENATE(\"(\",H7*P7,\" ÷ \",P7,\") × \",W7),CONCATENATE(H7*P7,\" ÷ \",P7))))","v":"2.64 ÷ 0.4"},null,null,null,null,null,null,null,null,null,null,null,null,null,null,null,null,null,null,null,null,null,null,null,null,null,null,null,null,null,null,null,{"$f":"IF(AK8=\"cm\",\"\",\"\")","v":""},"NIL",null,{"$f":"ROUND(AK6,2)","v":154.41},{"$f":"AM6","v":"154.41 (2 d.p.)"}]
[null,null,null,null,null,null,null,null,null,null,null,null,null,null,null,null,null,null,null,null,{"$f":"D8","v":"2.64 ÷ 0.4"},"=",{"$f":"IF(C8=1,CONCATENATE(H7*P7*W7),IF(C8=2,CONCATENATE(H7*P7),IF(C8=3,CONCATENATE(W7*H7),CONCATENATE(H7))))","v":"6.6"},null,null,null,null,null,null,null,null,null,null,null,null,null,{"$f":"ROUND((AM9-AL9)*10000,7)","v":8887.5408982999998},{"$f":"ROUNDDOWN(AM9,0)","v":1544080},{"$f":"10000*AN9","v":1544080.8887540898},{"$f":"CONCATENATE(AJ4^AK4)","v":"154.408088875409"}]
[null,null,{"$f":"INT(10*RAND())+0","v":4},{"$f":"IF(RAND()>0.5,0,INT(9*RAND())+1)","v":0},{"$f":"INT(9*RAND())+1","v":4},{"$f":"IF(RAND()>0.5,0,INT(9*RAND())+1)","v":0},{"$f":"C10*1000+D10*100+E10*10+F10","v":4040},{"$f":"IF(RAND()>0.5,100,1000)","v":1000},1,{"$f":"(G10/H10)*I10","v":4.04},1,{"$f":"IF(K10=1,\" + \",\" − \")","v":" + "},{"$f":"INT(10*RAND())+0","v":9},{"$f":"IF(RAND()>0.5,0,INT(9*RAND())+1)","v":0},{"$f":"INT(9*RAND())+1","v":7},{"$f":"IF(RAND()>0.5,0,INT(9*RAND())+1)","v":4},{"$f":"M10*1000+N10*100+O10*10+P10","v":9074},{"$f":"IF(RAND()>0.5,100,1000)","v":1000},1,{"$f":"(Q10/R10)*S10","v":9.0739999999999998},{"$f":"IF(RAND()>0.5,1,-1)","v":1},{"$f":"IF(U10=1,\" + \",\" − \")","v":" + "},{"$f":"INT(10*RAND())+0","v":8},{"$f":"IF(RAND()>0.5,0,INT(9*RAND())+1)","v":3},{"$f":"INT(9*RAND())+1","v":4},{"$f":"IF(RAND()>0.5,0,INT(9*RAND())+1)","v":5},{"$f":"W10*1000+X10*100+Y10*10+Z10","v":8345},{"$f":"IF(RAND()>0.5,100,1000)","v":1000},1,{"$f":"(AA10/AB10)*AC10","v":8.3450000000000006},null,null,null,{"$f":"IF(RAND()>0.5,1,0)","v":0},{"$f":"IF(RAND()>0.5,1,0)","v":0},{"$f":"IF(RAND()>0.5,1,0)","v":0},{"$f":"IF(RAND()>0.5,1,0)","v":1},{"$f":"IF(AM10>0.75,1,IF(AM10>0.5,10,IF(AM10>0.25,100,1000)))","v":1},{"$f":"RAND()","v":0.99230404589315735}]
[null,null,{"$f":"INT(8*RAND())+2","v":3},{"$f":"CONCATENATE(J10,L10,C11,\"(\",T10,V10,AD10,\")\")","v":"4.04 + 3(9.074 + 8.345)"},null,null,null,null,null,null,null,null,null,null,null,null,null,null,null,null,null,null,null,null,null,null,null,null,null,null,null,null,null,{"$f":"IF(AI10=0,INT(99*RAND())+1,INT(9*RAND())+1)","v":56},{"$f":"IF(AI10=0,INT(10*RAND())+0,0)","v":6},{"$f":"IF(AJ10=0,INT(10*RAND())+0,0)","v":2},{"$f":"IF(AK10=0,INT(10*RAND())+0,0)","v":0},{"$f":"(AH11*1000+AI11*100+AJ11*10+AK11)/AL10","v":56620},{"$f":"INT(6*RAND())+4","v":8}]
[null,null,null,null,null,null,null,null,null,null,null,null,null,null,null,null,null,null,null,null,{"$f":"D11","v":"4.04 + 3(9.074 + 8.345)"},"=",{"$f":"CONCATENATE(IF(ROUND(J10+K10*C11*(T10+U10*AD10),6)<0,\"−\",\"\"),ABS(ROUND(J10+K10*C11*(T10+U10*AD10),6)))","v":"56.297"},null,null,null,null,null,null,null,null,null,null,null,2,{"$f":"AL11^(1/AM11)","v":3.9275455737395939},{"$f":"AJ12^1","v":3.9275455737395939},{"$f":"CONCATENATE(AJ12)","v":"3.92754557373959"},{"$f":"IF(AJ12=0,CONCATENATE(\"0\",AJ14,\"\"),CONCATENATE(AP12,AO12))","v":"3.93 (2 d.p.)"},{"$f":"CONCATENATE(ROUND(AL13,9))","v":"3.927545574"},{"$f":"IF(AP13=0,CONCATENATE(AJ14),CONCATENATE(AT13,AJ14,\" (\",AI12,\" d.p.)\"))","v":" (2 d.p.)"},{"$f":"IF(AP13=0,AK13,AJ13)","v":3.93},{"$f":"ROUND(100*AJ13,0)","v":393},{"$f":"AQ12-AQ13*100","v":93},{"$f":"IF(AP13=0,\"\",IF(AR13=0,\".0\",\"\"))","v":""},{"$f":"AQ12-AQ13*100-AR13*10","v":3}]
[null,null,null,null,null,null,null,null,null,null,null,null,null,null,null,null,null,null,null,null,null,null,null,null,null,null,null,null,null,null,null,null,null,null,{"$f":"ROUNDDOWN(AK12,0)","v":3},{"$f":"ROUND(AK12,AI12)","v":3.93},{"$f":"ROUND(AK12,6)","v":3.927546},{"$f":"ROUND(AK12,9)","v":3.9275455739999998},{"$f":"ROUND(AL13-AI13,9)","v":0.92754557400000004},{"$f":"ROUND(AK13-AI13,9)","v":0.92754599999999998},{"$f":"ROUND(AL13-AI13,9)","v":0.92754557400000004},{"$f":"AO13-AN13","v":-4.2599999994230586E-7},{"$f":"ROUNDDOWN(AQ12/100,0)","v":3},{"$f":"ROUNDDOWN(AR12/10,0)","v":9},{"$f":"IF(AT12=0,0,\"\")","v":""},{"$f":"IF(AI12=2,IF(AT12=0,CONCATENATE(AS12,AS13),AS13),AS12)","v":""}]
[null,null,{"$f":"IF(RAND()>0.5,1,0)","v":0},{"$f":"IF(C14=1,Y22,Y21)","v":"0.09 × 1.2 − (3.13 + 2.3)"},null,null,null,null,null,null,null,null,null,null,null,null,null,null,null,null,null,null,null,null,null,null,null,null,null,null,null,null,null,{"$f":"IF(AI14<0,-1,1)","v":{"$error":"#VALUE!"}},{"$f":"G7^(1/I7)+L7*R7^(1/T7)","v":{"$error":"#VALUE!"}},{"$f":"IF(AK14=\"cm\",\"\",\"\")","v":""},"litres",null,{"$f":"ROUND(AK12,2)","v":3.93},{"$f":"AM12","v":"3.93 (2 d.p.)"}]
[null,null,null,null,null,null,null,null,null,null,null,null,null,null,null,null,null,null,null,null,{"$f":"D14","v":"0.09 × 1.2 − (3.13 + 2.3)"},"=",{"$f":"IF(C14=1,CONCATENATE(IF(AB22<0,\"−\",\"\"),ABS(AB22)),CONCATENATE(IF(AB21<0,\"−\",\"\"),ABS(AB21)))","v":"−5.322"},null,null,null,null,null,null,null,null,null,null,2,{"$f":"ABS(AI14)","v":{"$error":"#VALUE!"}},{"$f":"AI15^1","v":{"$error":"#VALUE!"}},{"$f":"CONCATENATE(AI15)","v":{"$error":"#VALUE!"}},{"$f":"IF(AI15=0,CONCATENATE(\"0\",AI17,\"\"),CONCATENATE(AO15,AN15))","v":{"$error":"#VALUE!"}},{"$f":"CONCATENATE(ROUND(AK16,9))","v":{"$error":"#VALUE!"}},{"$f":"IF(AO16=0,CONCATENATE(AI17),CONCATENATE(AS16,AI17,\" (\",AH15,\" d.p.)\"))","v":{"$error":"#VALUE!"}},{"$f":"IF(AO16=0,AJ16,AI16)","v":{"$error":"#VALUE!"}},{"$f":"ROUND(100*AI16,0)","v":{"$error":"#VALUE!"}},{"$f":"AP15-AP16*100","v":{"$error":"#VALUE!"}},{"$f":"IF(AO16=0,\"\",IF(AQ16=0,\".0\",\"\"))","v":{"$error":"#VALUE!"}},{"$f":"AP15-AP16*100-AQ16*10","v":{"$error":"#VALUE!"}}]
[null,null,null,null,null,null,null,null,null,null,null,null,null,null,null,null,null,null,null,null,null,null,null,null,null,null,null,null,null,null,null,null,null,{"$f":"ROUNDDOWN(AJ15,0)","v":{"$error":"#VALUE!"}},{"$f":"ROUND(AJ15,AH15)","v":{"$error":"#VALUE!"}},{"$f":"ROUND(AJ15,6)","v":{"$error":"#VALUE!"}},{"$f":"ROUND(AJ15,9)","v":{"$error":"#VALUE!"}},{"$f":"ROUND(AK16-AH16,9)","v":{"$error":"#VALUE!"}},{"$f":"ROUND(AJ16-AH16,9)","v":{"$error":"#VALUE!"}},{"$f":"ROUND(AK16-AH16,9)","v":{"$error":"#VALUE!"}},{"$f":"AN16-AM16","v":{"$error":"#VALUE!"}},{"$f":"ROUNDDOWN(AP15/100,0)","v":{"$error":"#VALUE!"}},{"$f":"ROUNDDOWN(AQ15/10,0)","v":{"$error":"#VALUE!"}},{"$f":"IF(AS15=0,0,\"\")","v":{"$error":"#VALUE!"}},{"$f":"IF(AH15=2,IF(AS15=0,CONCATENATE(AR15,AR16),AR16),AR15)","v":{"$error":"#VALUE!"}}]
[null,null,null,null,null,null,null,null,null,null,null,null,null,null,null,null,null,null,null,null,null,null,null,null,null,null,null,null,null,null,null,null,null,null,{"$f":"IF(AJ17=\"cm\",\"\",\"\")","v":""},"NIL",null,{"$f":"ROUND(AJ15,2)","v":{"$error":"#VALUE!"}}]
[]
[]
[null,null,null,null,null,null,null,null,null,null,null,null,null,null,null,null,null,null,null,null,null,null,null,null,null,null,null,null,null,null,null,null,"(15.1² ± 3.2 × 15.123)³"]
[null,null,{"$f":"INT(10*RAND())+0","v":0},{"$f":"IF(RAND()>0.5,0,INT(9*RAND())+1)","v":0},{"$f":"INT(9*RAND())+1","v":9},1,{"$f":"((C21*1000+D21*100+E21*10)/1000)*F21","v":0.09},{"$f":"INT(10*RAND())+0","v":1},{"$f":"INT(9*RAND())+1","v":2},1,{"$f":"((H21*1000+I21*100)/1000)*J21","v":1.2},-1,{"$f":"IF(L21=1,\" + \",\" − \")","v":" − "},{"$f":"INT(10*RAND())+0","v":3},{"$f":"IF(RAND()>0.5,0,INT(9*RAND())+1)","v":1},{"$f":"INT(9*RAND())+1","v":3},1,{"$f":"((N21*1000+O21*100+P21*10)/1000)*Q21","v":3.13},{"$f":"IF(RAND()>0.5,1,-1)","v":1},{"$f":"IF(S21=1,\" + \",\" − \")","v":" + "},{"$f":"INT(10*RAND())+0","v":2},{"$f":"INT(9*RAND())+1","v":3},1,{"$f":"((U21*1000+V21*100)/1000)*W21","v":2.2999999999999998},{"$f":"CONCATENATE(G21,\" × \",K21,M21,\"(\",R21,T21,X21,\")\")","v":"0.09 × 1.2 − (3.13 + 2.3)"},null,null,{"$f":"ROUND(G21*K21+L21*(R21+S21*X21),6)","v":-5.3220000000000001},null,null,null,null,"5 × √(3.2² ± 6.78³)"]
[null,null,{"$f":"INT(10*RAND())+0","v":2},{"$f":"IF(RAND()>0.5,0,INT(9*RAND())+1)","v":0},{"$f":"INT(9*RAND())+1","v":3},{"$f":"((C22*1000+D22*100+E22*10)/1000)","v":2.0299999999999998},{"$f":"IF(RAND()>0.5,1,-1)","v":1},{"$f":"IF(G22=1,\" + \",\" − \")","v":" + "},{"$f":"INT(10*RAND())+0","v":2},{"$f":"INT(9*RAND())+1","v":2},1,{"$f":"((I22*1000+J22*100)/1000)*K22","v":2.2000000000000002},{"$f":"INT(10*RAND())+0","v":7},{"$f":"INT(9*RAND())+1","v":6},{"$f":"((M22*1000+N22*100)/1000)","v":7.6},{"$f":"IF(RAND()>0.5,1,-1)","v":1},{"$f":"IF(P22=1,\" + \",\" − \")","v":" + "},{"$f":"INT(10*RAND())+0","v":0},{"$f":"IF(RAND()>0.5,0,INT(9*RAND())+1)","v":0},{"$f":"INT(9*RAND())+1","v":1},1,{"$f":"((R22*1000+S22*100+T22*10)/1000)*U22","v":0.01},null,null,{"$f":"IF(RAND()>0.5,CONCATENATE(\"(\",F22,H22,L22,\") × (\",O22,Q22,V22,\")\"),CONCATENATE(\"(\",O22,Q22,V22,\") × (\",F22,H22,L22,\")\"))","v":"(2.03 + 2.2) × (7.6 + 0.01)"},null,null,{"$f":"ROUND((F22+G22*L22)*(O22+P22*V22),6)","v":32.190300000000001},null,null,null,null,"⅔ × √(3.2² + 6.78³)"]
[null,null,null,null,null,null,null,null,null,null,null,null,null,null,null,null,null,null,null,null,null,null,null,null,null,null,null,null,null,null,null,null,"³√(3.2² + 6.78³)"]
[null,null,null,null,null,null,null,null,null,null,null,null,null,null,null,null,null,null,null,null,null,null,null,null,null,null,null,null,null,null,null,null,"√(3.2 + 6.78)"]
[null,null,null,null,null,null,null,null,null,null,null,null,null,null,null,null,null,null,null,null,null,null,null,null,null,null,null,null,null,null,null,null,"³√(8.7 × 10¹º)"]
[null,null,null,null,null,null,null,null,null,null,null,null,null,null,null,null,null,null,null,null,null,null,null,null,null,null,null,null,null,null,null,null,"³√(3.2 − 6.78)"]
[null,null,null,null,null,null,null,null,null,null,null,null,null,null,null,null,null,null,null,null,null,null,null,null,null,null,null,null,null,null,null,null,"√6.78 × ³√5.6"]
[null,null,null,null,null,null,null,null,null,null,null,null,null,null,null,null,null,null,null,null,null,null,null,null,null,null,null,null,null,null,null,null,"√(15.1² ± 3.2³)"]
[null,null,null,null,null,null,null,null,null,null,null,null,null,null,null,null,null,null,null,null,null,null,null,null,null,null,null,null,null,null,null,null,"³√(15.1² ± 3.2 × 15.123)"]
[null,null,null,null,null,null,null,null,null,null,null,null,null,null,null,null,null,null,null,null,null,null,null,null,null,null,null,null,null,null,null,null,"(43.6 ± 13.92)³ + √4.68"]
[null,null,null,null,null,null,null,null,null,null,null,null,null,null,null,null,null,null,null,null,null,null,null,null,null,null,null,null,null,null,null,null,"(43.6 ± 13.92)² ± ³√4.68"]
[]
[null,null,null,null,null,null,null,null,null,null,null,null,null,null,null,null,null,null,null,null,null,null,null,null,null,null,null,null,null,null,null,null,"3.7² ± 6.7³"]
[null,null,null,null,null,null,null,null,null,null,null,null,null,null,null,null,null,null,null,null,null,null,null,null,null,null,null,null,null,null,null,null,"3.7² × 6.7³"]
[null,null,null,null,null,null,null,null,null,null,null,null,null,null,null,null,null,null,null,null,null,null,null,null,null,null,null,null,null,null,null,null,"5 × 6.78³"]
[null,null,null,null,null,null,null,null,null,null,null,null,null,null,null,null,null,null,null,null,null,null,null,null,null,null,null,null,null,null,null,null,"1⅔ × 6.78³"]
[null,null,null,null,null,null,null,null,null,null,null,null,null,null,null,null,null,null,null,null,null,null,null,null,null,null,null,null,null,null,null,null,"√4.68 ± ³√4.68"]
[null,null,null,null,null,null,null,null,null,null,null,null,null,null,null,null,null,null,null,null,null,null,null,null,null,null,null,null,null,null,null,null,"√4.68 × ³√4.68"]
[null,null,null,null,null,null,null,null,null,null,null,null,null,null,null,null,null,null,null,null,null,null,null,null,null,null,null,null,null,null,null,null,"√4.68 ÷ ³√4.68"]
[null,null,null,null,null,null,null,null,null,null,null,null,null,null,null,null,null,null,null,null,null,null,null,null,null,null,null,null,null,null,null,null,"6.7³ ± ³√4.68"]
[null,null,null,null,null,null,null,null,null,null,null,null,null,null,null,null,null,null,null,null,null,null,null,null,null,null,null,null,null,null,null,null,"6.7³ × ³√4.68"]
[null,null,null,null,null,null,null,null,null,null,null,null,null,null,null,null,null,null,null,null,null,null,null,null,null,null,null,null,null,null,null,null,"6.7³ ÷ ³√4.68"]
[null,null,null,null,null,null,null,null,null,null,null,null,null,null,null,null,null,null,null,null,null,null,null,null,null,null,null,null,null,null,null,null,"6.78³³ × 5.6³³"]
[null,null,null,null,null,null,null,null,null,null,null,null,null,null,null,null,null,null,null,null,null,null,null,null,null,null,null,null,null,null,null,null,"6.78³³ ÷ 5.6³³"]
[null,null,null,null,null,null,null,null,null,null,null,null,null,null,null,null,null,null,null,null,null,null,null,null,null,null,null,null,null,null,null,null,"2⅝³"]

{"sheet":"BASDEC-VE","index":20,"n_rows":45,"n_cols":46,"rows_kept":45,"cut":false,"hidden":false,"merged":[]}
[]
[null,null,{"$f":"RFPDEPOSVE!C2","v":"Evaluate each expression using a calculator."},null,null,null,null,null,null,null,null,null,null,null,null,null,null,null,null,null,null,null,null,null,null,null,null,null,null,null,null,null,null,{"$f":"IF(C8=1,H7*P7*W7,IF(C8=2,H7*P7,IF(C8=3,W7*H7,H7)))","v":-36.959999999999994},{"$f":"IF(C14=1,AB22,AB21)","v":-5.3784000000000001},{"$f":"CONCATENATE(IF(H7<0,\"−\",\"\"),ABS(H7),I7,IF(P7<0,\"−\",\"\"),ABS(P7),Q7,IF(W7<0,\"−\",\"\"),ABS(W7))","v":"5.6 × −9.3 × −6.6"},{"$f":"CONCATENATE(IF(H7<0,\"−\",\"\"),ABS(H7),I7,IF(P7<0,\"−\",\"\"),ABS(P7))","v":"5.6 × −9.3"},{"$f":"CONCATENATE(\"(\",IF(H7*P7<0,\"−\",\"\"),ABS(H7*P7),\" ÷ \",IF(P7<0,\"−\",\"\"),ABS(P7),\") × \",IF(W7<0,\"−\",\"\"),ABS(W7))","v":"(−52.08 ÷ −9.3) × −6.6"},{"$f":"CONCATENATE(IF(H7*P7<0,\"−\",\"\"),ABS(H7*P7),\" ÷ \",IF(P7<0,\"−\",\"\"),ABS(P7))","v":"−52.08 ÷ −9.3"},"x","x","x","x"]
[null,null,null,null,null,null,null,null,null,null,null,null,null,null,null,null,null,null,null,null,null,null,null,null,null,null,null,null,null,null,null,null,null,{"$f":"IF(AK4>5,INT(5*RAND())+5,IF(AK4>4,INT(6*RAND())+4,IF(AK4>2.5,INT(7*RAND())+3,INT(8*RAND())+2)))","v":6},null,null,{"$f":"(INT(12*RAND())+3)/2","v":2.5}]
[null,null,{"$f":"INT(10*RAND())+0","v":3},{"$f":"IF(RAND()>0.5,0,INT(9*RAND())+1)","v":0},{"$f":"INT(9*RAND())+1","v":4},{"$f":"IF(RAND()>0.5,0,INT(9*RAND())+1)","v":0},{"$f":"C4*1000+D4*100+E4*10+F4","v":3040},{"$f":"IF(RAND()>0.5,100,1000)","v":1000},{"$f":"IF(RAND()>0.5,1,-1)","v":-1},{"$f":"(G4/H4)*I4","v":-3.04},{"$f":"IF(RAND()>0.5,1,-1)","v":-1},{"$f":"IF(K4=1,\" + \",\" − \")","v":" − "},{"$f":"INT(10*RAND())+0","v":3},{"$f":"IF(RAND()>0.5,0,INT(9*RAND())+1)","v":0},{"$f":"INT(9*RAND())+1","v":7},{"$f":"IF(RAND()>0.5,0,INT(9*RAND())+1)","v":7},{"$f":"M4*1000+N4*100+O4*10+P4","v":3077},{"$f":"IF(RAND()>0.5,100,1000)","v":1000},{"$f":"-I4","v":1},{"$f":"(Q4/R4)*S4","v":3.077},{"$f":"IF(RAND()>0.5,1,-1)","v":-1},{"$f":"IF(U4=1,\" + \",\" − \")","v":" − "},{"$f":"INT(10*RAND())+0","v":7},{"$f":"IF(RAND()>0.5,0,INT(9*RAND())+1)","v":0},{"$f":"INT(9*RAND())+1","v":7},{"$f":"IF(RAND()>0.5,0,INT(9*RAND())+1)","v":0},{"$f":"W4*1000+X4*100+Y4*10+Z4","v":7070},{"$f":"IF(RAND()>0.5,100,1000)","v":100},{"$f":"IF(RAND()>0.5,1,-1)","v":1},{"$f":"(AA4/AB4)*AC4","v":70.7},null,null,{"$f":"INT(10*RAND())+0","v":2},{"$f":"IF(AG4=0,AH3,INT(9*RAND())+1)","v":8},{"$f":"IF(AI5=1,INT(9*RAND())+1,0)","v":9},{"$f":"AG4+AH4/10+AI4/100","v":2.8899999999999997},{"$f":"(INT(12*RAND())+3)/2","v":6.5}]
[null,null,{"$f":"IF(RAND()>0.5,1,0)","v":1},{"$f":"IF(C5=1,CONCATENATE(IF(J4<0,\"−\",\"\"),ABS(J4),L4,IF(T4<0,\"−\",\"\"),ABS(T4),V4,IF(AD4<0,\"−\",\"\"),ABS(AD4)),CONCATENATE(IF(J4<0,\"−\",\"\"),ABS(J4),L4,IF(T4<0,\"−\",\"\"),ABS(T4)))","v":"−3.04 − 3.077 − 70.7"},null,null,null,null,null,null,null,null,null,null,null,null,null,null,null,null,null,null,null,null,null,null,null,null,null,null,null,null,null,null,{"$f":"IF(RAND()>0.5,1,0)","v":1},{"$f":"AJ4^AK4","v":990.4578032905938},{"$f":"IF(AK9=0,0,1/300000000)","v":3.3333333333333334E-9}]
[null,null,null,null,null,null,null,null,null,null,null,null,null,null,null,null,null,null,null,null,{"$f":"D5","v":"−3.04 − 3.077 − 70.7"},"=",{"$f":"IF(C5=1,CONCATENATE(IF(ROUND(J4+K4*T4+U4*AD4,6)<0,\"−\",\"\"),ABS(ROUND(J4+K4*T4+U4*AD4,6)),),CONCATENATE(IF(ROUND(J4+K4*T4,6)<0,\"−\",\"\"),ABS(ROUND(J4+K4*T4,6)),))","v":"−76.817"},null,null,null,null,null,null,null,null,null,null,null,2,{"$f":"AJ5+AK5","v":990.4578032939271},{"$f":"AJ6^1","v":990.4578032939271},{"$f":"CONCATENATE(AJ6)","v":"990.457803293927"},{"$f":"IF(AJ6=0,CONCATENATE(\"0\",AJ8,\"\"),CONCATENATE(AP6,AO6))","v":"990.46 (2 d.p.)"},{"$f":"CONCATENATE(ROUND(AL7,9))","v":"990.457803294"},{"$f":"IF(AP7=0,CONCATENATE(AJ8),CONCATENATE(AT7,AJ8,\" (\",AI6,\" d.p.)\"))","v":" (2 d.p.)"},{"$f":"IF(AP7=0,AK7,AJ7)","v":990.46},{"$f":"ROUND(100*AJ7,0)","v":99046},{"$f":"AQ6-AQ7*100","v":46},{"$f":"IF(AP7=0,\"\",IF(AR7=0,\".0\",\"\"))","v":""},{"$f":"AQ6-AQ7*100-AR7*10","v":6}]
[null,null,{"$f":"INT(10*RAND())+0","v":5},{"$f":"INT(9*RAND())+1","v":6},{"$f":"C7*1000+D7*100","v":5600},1000,{"$f":"IF(RAND()>0.5,1,-1)","v":1},{"$f":"(E7/F7)*G7","v":5.6}," × ",{"$f":"INT(10*RAND())+0","v":9},{"$f":"INT(9*RAND())+1","v":3},{"$f":"IF(RAND()>0.5,0,INT(9*RAND())+1)","v":0},{"$f":"J7*1000+K7*100+L7*10","v":9300},1000,{"$f":"-G7","v":-1},{"$f":"(M7/N7)*O7","v":-9.3000000000000007}," × ",{"$f":"INT(10*RAND())+0","v":6},{"$f":"INT(9*RAND())+1","v":6},{"$f":"R7*1000+S7*100","v":6600},1000,{"$f":"IF(RAND()>0.5,1,-1)","v":-1},{"$f":"(T7/U7)*V7","v":-6.6},null,null,null,null,null,null,null,null,null,null,null,{"$f":"ROUNDDOWN(AK6,0)","v":990},{"$f":"ROUND(AK6,AI6)","v":990.46},{"$f":"ROUND(AK6,6)","v":990.45780300000001},{"$f":"ROUND(AK6,9)","v":990.45780329399997},{"$f":"ROUND(AL7-AI7,9)","v":0.45780329400000003},{"$f":"ROUND(AK7-AI7,9)","v":0.45780300000000002},{"$f":"ROUND(AL7-AI7,9)","v":0.45780329400000003},{"$f":"AO7-AN7","v":2.9400000001178483E-7},{"$f":"ROUNDDOWN(AQ6/100,0)","v":990},{"$f":"ROUNDDOWN(AR6/10,0)","v":4},{"$f":"IF(AT6=0,0,\"\")","v":""},{"$f":"IF(AI6=2,IF(AT6=0,CONCATENATE(AS6,AS7),AS7),AS6)","v":""}]
[null,null,{"$f":"INT(4*RAND())+1","v":3},{"$f":"IF(C8=1,AJ2,IF(C8=2,AK2,IF(C8=3,AL2,AM2)))","v":"(−52.08 ÷ −9.3) × −6.6"},null,null,null,null,null,null,null,null,null,null,null,null,null,null,null,null,null,null,null,null,null,null,null,null,null,null,null,null,null,null,null,{"$f":"IF(AK8=\"cm\",\"\",\"\")","v":""},"NIL",null,{"$f":"ROUND(AK6,2)","v":990.46},{"$f":"AM6","v":"990.46 (2 d.p.)"}]
[null,null,null,null,null,null,null,null,null,null,null,null,null,null,null,null,null,null,null,null,{"$f":"D8","v":"(−52.08 ÷ −9.3) × −6.6"},"=",{"$f":"CONCATENATE(IF(AH2<0,\"−\",\"\"),ABS(AH2))","v":"−36.96"},null,null,null,null,null,null,null,null,null,null,null,null,null,{"$f":"ROUND((AM9-AL9)*10000,7)","v":329.05939969999997},{"$f":"ROUNDDOWN(AM9,0)","v":9904578},{"$f":"10000*AN9","v":9904578.03290594},{"$f":"CONCATENATE(AJ4^AK4)","v":"990.457803290594"}]
[null,null,{"$f":"INT(10*RAND())+0","v":5},{"$f":"IF(RAND()>0.5,0,INT(9*RAND())+1)","v":0},{"$f":"INT(9*RAND())+1","v":3},{"$f":"IF(RAND()>0.5,0,INT(9*RAND())+1)","v":0},{"$f":"C10*1000+D10*100+E10*10+F10","v":5030},{"$f":"IF(RAND()>0.5,100,1000)","v":100},{"$f":"IF(RAND()>0.5,1,-1)","v":-1},{"$f":"(G10/H10)*I10","v":-50.3},{"$f":"IF(RAND()>0.5,1,-1)","v":-1},{"$f":"IF(K10=1,\" + \",\" − \")","v":" − "},{"$f":"INT(10*RAND())+0","v":2},{"$f":"IF(RAND()>0.5,0,INT(9*RAND())+1)","v":6},{"$f":"INT(9*RAND())+1","v":4},{"$f":"IF(RAND()>0.5,0,INT(9*RAND())+1)","v":8},{"$f":"M10*1000+N10*100+O10*10+P10","v":2648},{"$f":"IF(RAND()>0.5,100,1000)","v":1000},1,{"$f":"(Q10/R10)*S10","v":2.6480000000000001},{"$f":"IF(RAND()>0.5,1,-1)","v":1},{"$f":"IF(U10=1,\" + \",\" − \")","v":" + "},{"$f":"INT(10*RAND())+0","v":7},{"$f":"IF(RAND()>0.5,0,INT(9*RAND())+1)","v":3},{"$f":"INT(9*RAND())+1","v":6},{"$f":"IF(RAND()>0.5,0,INT(9*RAND())+1)","v":7},{"$f":"W10*1000+X10*100+Y10*10+Z10","v":7367},{"$f":"IF(RAND()>0.5,100,1000)","v":1000},{"$f":"IF(RAND()>0.5,1,-1)","v":1},{"$f":"(AA10/AB10)*AC10","v":7.367},null,null,null,{"$f":"IF(RAND()>0.5,1,0)","v":1},{"$f":"IF(RAND()>0.5,1,0)","v":0},{"$f":"IF(RAND()>0.5,1,0)","v":1},{"$f":"IF(RAND()>0.5,1,0)","v":1},{"$f":"IF(AM10>0.75,1,IF(AM10>0.5,10,IF(AM10>0.25,100,1000)))","v":1000},{"$f":"RAND()","v":0.13667101307477847}]
[null,null,{"$f":"INT(8*RAND())+2","v":4},{"$f":"CONCATENATE(IF(J10<0,\"−\",\"\"),ABS(J10),L10,C11,\"(\",T10,V10,IF(AD10<0,\"−\",\"\"),ABS(AD10),\")\")","v":"−50.3 − 4(2.648 + 7.367)"},null,null,null,null,null,null,null,null,null,null,null,null,null,null,null,null,null,null,null,null,null,null,null,null,null,null,null,null,null,{"$f":"IF(AI10=0,INT(99*RAND())+1,INT(9*RAND())+1)","v":84},{"$f":"IF(AI10=0,INT(10*RAND())+0,0)","v":6},{"$f":"IF(AJ10=0,INT(10*RAND())+0,0)","v":0},{"$f":"IF(AK10=0,INT(10*RAND())+0,0)","v":0},{"$f":"(AH11*1000+AI11*100+AJ11*10+AK11)/AL10","v":84.6},{"$f":"INT(6*RAND())+4","v":9}]
[null,null,null,null,null,null,null,null,null,null,null,null,null,null,null,null,null,null,null,null,{"$f":"D11","v":"−50.3 − 4(2.648 + 7.367)"},"=",{"$f":"CONCATENATE(IF(ROUND(J10+K10*C11*(T10+U10*AD10),6)<0,\"−\",\"\"),ABS(ROUND(J10+K10*C11*(T10+U10*AD10),6)))","v":"−90.36"},null,null,null,null,null,null,null,null,null,null,null,2,{"$f":"AL11^(1/AM11)","v":1.6373904858185679},{"$f":"AJ12^1","v":1.6373904858185679},{"$f":"CONCATENATE(AJ12)","v":"1.63739048581857"},{"$f":"IF(AJ12=0,CONCATENATE(\"0\",AJ14,\"\"),CONCATENATE(AP12,AO12))","v":"1.64 (2 d.p.)"},{"$f":"CONCATENATE(ROUND(AL13,9))","v":"1.637390486"},{"$f":"IF(AP13=0,CONCATENATE(AJ14),CONCATENATE(AT13,AJ14,\" (\",AI12,\" d.p.)\"))","v":" (2 d.p.)"},{"$f":"IF(AP13=0,AK13,AJ13)","v":1.64},{"$f":"ROUND(100*AJ13,0)","v":164},{"$f":"AQ12-AQ13*100","v":64},{"$f":"IF(AP13=0,\"\",IF(AR13=0,\".0\",\"\"))","v":""},{"$f":"AQ12-AQ13*100-AR13*10","v":4}]
[null,null,null,null,null,null,null,null,null,null,null,null,null,null,null,null,null,null,null,null,null,null,null,null,null,null,null,null,null,null,null,null,null,null,{"$f":"ROUNDDOWN(AK12,0)","v":1},{"$f":"ROUND(AK12,AI12)","v":1.64},{"$f":"ROUND(AK12,6)","v":1.6373899999999999},{"$f":"ROUND(AK12,9)","v":1.6373904859999999},{"$f":"ROUND(AL13-AI13,9)","v":0.63739048600000003},{"$f":"ROUND(AK13-AI13,9)","v":0.63739000000000001},{"$f":"ROUND(AL13-AI13,9)","v":0.63739048600000003},{"$f":"AO13-AN13","v":4.8600000002174681E-7},{"$f":"ROUNDDOWN(AQ12/100,0)","v":1},{"$f":"ROUNDDOWN(AR12/10,0)","v":6},{"$f":"IF(AT12=0,0,\"\")","v":""},{"$f":"IF(AI12=2,IF(AT12=0,CONCATENATE(AS12,AS13),AS13),AS12)","v":""}]
[null,null,{"$f":"IF(RAND()>0.5,1,0)","v":1},{"$f":"IF(C14=1,Y22,Y21)","v":"(5.06 + −3.4) × (5.9 − 9.14)"},null,null,null,null,null,null,null,null,null,null,null,null,null,null,null,null,null,null,null,null,null,null,null,null,null,null,null,null,null,{"$f":"IF(AI14<0,-1,1)","v":{"$error":"#VALUE!"}},{"$f":"G7^(1/I7)+L7*R7^(1/T7)","v":{"$error":"#VALUE!"}},{"$f":"IF(AK14=\"cm\",\"\",\"\")","v":""},"litres",null,{"$f":"ROUND(AK12,2)","v":1.64},{"$f":"AM12","v":"1.64 (2 d.p.)"}]
[null,null,null,null,null,null,null,null,null,null,null,null,null,null,null,null,null,null,null,null,{"$f":"D14","v":"(5.06 + −3.4) × (5.9 − 9.14)"},"=",{"$f":"CONCATENATE(IF(AI2<0,\"−\",\"\"),ABS(AI2))","v":"−5.3784"},null,null,null,null,null,null,null,null,null,null,2,{"$f":"ABS(AI14)","v":{"$error":"#VALUE!"}},{"$f":"AI15^1","v":{"$error":"#VALUE!"}},{"$f":"CONCATENATE(AI15)","v":{"$error":"#VALUE!"}},{"$f":"IF(AI15=0,CONCATENATE(\"0\",AI17,\"\"),CONCATENATE(AO15,AN15))","v":{"$error":"#VALUE!"}},{"$f":"CONCATENATE(ROUND(AK16,9))","v":{"$error":"#VALUE!"}},{"$f":"IF(AO16=0,CONCATENATE(AI17),CONCATENATE(AS16,AI17,\" (\",AH15,\" d.p.)\"))","v":{"$error":"#VALUE!"}},{"$f":"IF(AO16=0,AJ16,AI16)","v":{"$error":"#VALUE!"}},{"$f":"ROUND(100*AI16,0)","v":{"$error":"#VALUE!"}},{"$f":"AP15-AP16*100","v":{"$error":"#VALUE!"}},{"$f":"IF(AO16=0,\"\",IF(AQ16=0,\".0\",\"\"))","v":{"$error":"#VALUE!"}},{"$f":"AP15-AP16*100-AQ16*10","v":{"$error":"#VALUE!"}}]
[null,null,null,null,null,null,null,null,null,null,null,null,null,null,null,null,null,null,null,null,null,null,null,null,null,null,null,null,null,null,null,null,null,{"$f":"ROUNDDOWN(AJ15,0)","v":{"$error":"#VALUE!"}},{"$f":"ROUND(AJ15,AH15)","v":{"$error":"#VALUE!"}},{"$f":"ROUND(AJ15,6)","v":{"$error":"#VALUE!"}},{"$f":"ROUND(AJ15,9)","v":{"$error":"#VALUE!"}},{"$f":"ROUND(AK16-AH16,9)","v":{"$error":"#VALUE!"}},{"$f":"ROUND(AJ16-AH16,9)","v":{"$error":"#VALUE!"}},{"$f":"ROUND(AK16-AH16,9)","v":{"$error":"#VALUE!"}},{"$f":"AN16-AM16","v":{"$error":"#VALUE!"}},{"$f":"ROUNDDOWN(AP15/100,0)","v":{"$error":"#VALUE!"}},{"$f":"ROUNDDOWN(AQ15/10,0)","v":{"$error":"#VALUE!"}},{"$f":"IF(AS15=0,0,\"\")","v":{"$error":"#VALUE!"}},{"$f":"IF(AH15=2,IF(AS15=0,CONCATENATE(AR15,AR16),AR16),AR15)","v":{"$error":"#VALUE!"}}]
[null,null,null,null,null,null,null,null,null,null,null,null,null,null,null,null,null,null,null,null,null,null,null,null,null,null,null,null,null,null,null,null,null,null,{"$f":"IF(AJ17=\"cm\",\"\",\"\")","v":""},"NIL",null,{"$f":"ROUND(AJ15,2)","v":{"$error":"#VALUE!"}}]
[]
[]
[null,null,null,null,null,null,null,null,null,null,null,null,null,null,null,null,null,null,null,null,null,null,null,null,null,null,null,null,null,null,null,null,"(15.1² ± 3.2 × 15.123)³"]
[null,null,{"$f":"INT(10*RAND())+0","v":5},{"$f":"IF(RAND()>0.5,0,INT(9*RAND())+1)","v":7},{"$f":"INT(9*RAND())+1","v":7},{"$f":"IF(RAND()>0.5,1,-1)","v":1},{"$f":"((C21*1000+D21*100+E21*10)/1000)*F21","v":5.77},{"$f":"INT(10*RAND())+0","v":6},{"$f":"INT(9*RAND())+1","v":7},{"$f":"IF(RAND()>0.5,1,-1)","v":1},{"$f":"((H21*1000+I21*100)/1000)*J21","v":6.7},-1,{"$f":"IF(L21=1,\" + \",\" − \")","v":" − "},{"$f":"INT(10*RAND())+0","v":0},{"$f":"IF(RAND()>0.5,0,INT(9*RAND())+1)","v":0},{"$f":"INT(9*RAND())+1","v":6},1,{"$f":"((N21*1000+O21*100+P21*10)/1000)*Q21","v":0.06},{"$f":"IF(RAND()>0.5,1,-1)","v":-1},{"$f":"IF(S21=1,\" + \",\" − \")","v":" − "},{"$f":"INT(10*RAND())+0","v":0},{"$f":"INT(9*RAND())+1","v":1},{"$f":"-Q21","v":-1},{"$f":"((U21*1000+V21*100)/1000)*W21","v":-0.1},{"$f":"CONCATENATE(IF(G21<0,\"−\",\"\"),ABS(G21),\" × \",IF(K21<0,\"−\",\"\"),ABS(K21),M21,\"(\",R21,T21,IF(X21<0,\"−\",\"\"),ABS(X21),\")\")","v":"5.77 × 6.7 − (0.06 − −0.1)"},null,null,{"$f":"ROUND(G21*K21+L21*(R21+S21*X21),6)","v":38.499000000000002},null,null,null,null,"5 × √(3.2² ± 6.78³)"]
[null,null,{"$f":"INT(10*RAND())+0","v":5},{"$f":"IF(RAND()>0.5,0,INT(9*RAND())+1)","v":0},{"$f":"INT(9*RAND())+1","v":6},{"$f":"((C22*1000+D22*100+E22*10)/1000)","v":5.0599999999999996},{"$f":"IF(RAND()>0.5,1,-1)","v":1},{"$f":"IF(G22=1,\" + \",\" − \")","v":" + "},{"$f":"INT(10*RAND())+0","v":3},{"$f":"INT(9*RAND())+1","v":4},{"$f":"IF(RAND()>0.5,1,-1)","v":-1},{"$f":"((I22*1000+J22*100)/1000)*K22","v":-3.4},{"$f":"INT(10*RAND())+0","v":5},{"$f":"INT(9*RAND())+1","v":9},{"$f":"((M22*1000+N22*100)/1000)","v":5.9},{"$f":"IF(RAND()>0.5,1,-1)","v":-1},{"$f":"IF(P22=1,\" + \",\" − \")","v":" − "},{"$f":"INT(10*RAND())+0","v":9},{"$f":"IF(RAND()>0.5,0,INT(9*RAND())+1)","v":1},{"$f":"INT(9*RAND())+1","v":4},{"$f":"IF(RAND()>0.5,1,-1)","v":1},{"$f":"((R22*1000+S22*100+T22*10)/1000)*U22","v":9.14},null,null,{"$f":"IF(RAND()>0.5,Y23,Y24)","v":"(5.06 + −3.4) × (5.9 − 9.14)"},null,null,{"$f":"ROUND((F22+G22*L22)*(O22+P22*V22),6)","v":-5.3784000000000001},null,null,null,null,"⅔ × √(3.2² + 6.78³)"]
[null,null,null,null,null,null,null,null,null,null,null,null,null,null,null,null,null,null,null,null,null,null,null,null,{"$f":"CONCATENATE(\"(\",F22,H22,IF(L22<0,\"−\",\"\"),ABS(L22),\") × (\",O22,Q22,IF(V22<0,\"−\",\"\"),ABS(V22),\")\")","v":"(5.06 + −3.4) × (5.9 − 9.14)"},null,null,null,null,null,null,null,"³√(3.2² + 6.78³)"]
[null,null,null,null,null,null,null,null,null,null,null,null,null,null,null,null,null,null,null,null,null,null,null,null,{"$f":"CONCATENATE(\"(\",O22,Q22,IF(V22<0,\"−\",\"\"),ABS(V22),\") × (\",F22,H22,IF(L22<0,\"−\",\"\"),ABS(L22),\")\")","v":"(5.9 − 9.14) × (5.06 + −3.4)"},null,null,null,null,null,null,null,"√(3.2 + 6.78)"]
[null,null,null,null,null,null,null,null,null,null,null,null,null,null,null,null,null,null,null,null,null,null,null,null,null,null,null,null,null,null,null,null,"³√(8.7 × 10¹º)"]
[null,null,null,null,null,null,null,null,null,null,null,null,null,null,null,null,null,null,null,null,null,null,null,null,null,null,null,null,null,null,null,null,"³√(3.2 − 6.78)"]
[null,null,null,null,null,null,null,null,null,null,null,null,null,null,null,null,null,null,null,null,null,null,null,null,null,null,null,null,null,null,null,null,"√6.78 × ³√5.6"]
[null,null,null,null,null,null,null,null,null,null,null,null,null,null,null,null,null,null,null,null,null,null,null,null,null,null,null,null,null,null,null,null,"√(15.1² ± 3.2³)"]
[null,null,null,null,null,null,null,null,null,null,null,null,null,null,null,null,null,null,null,null,null,null,null,null,null,null,null,null,null,null,null,null,"³√(15.1² ± 3.2 × 15.123)"]
[null,null,null,null,null,null,null,null,null,null,null,null,null,null,null,null,null,null,null,null,null,null,null,null,null,null,null,null,null,null,null,null,"(43.6 ± 13.92)³ + √4.68"]
[null,null,null,null,null,null,null,null,null,null,null,null,null,null,null,null,null,null,null,null,null,null,null,null,null,null,null,null,null,null,null,null,"(43.6 ± 13.92)² ± ³√4.68"]
[]
[null,null,null,null,null,null,null,null,null,null,null,null,null,null,null,null,null,null,null,null,null,null,null,null,null,null,null,null,null,null,null,null,"3.7² ± 6.7³"]
[null,null,null,null,null,null,null,null,null,null,null,null,null,null,null,null,null,null,null,null,null,null,null,null,null,null,null,null,null,null,null,null,"3.7² × 6.7³"]
[null,null,null,null,null,null,null,null,null,null,null,null,null,null,null,null,null,null,null,null,null,null,null,null,null,null,null,null,null,null,null,null,"5 × 6.78³"]
[null,null,null,null,null,null,null,null,null,null,null,null,null,null,null,null,null,null,null,null,null,null,null,null,null,null,null,null,null,null,null,null,"1⅔ × 6.78³"]
[null,null,null,null,null,null,null,null,null,null,null,null,null,null,null,null,null,null,null,null,null,null,null,null,null,null,null,null,null,null,null,null,"√4.68 ± ³√4.68"]
[null,null,null,null,null,null,null,null,null,null,null,null,null,null,null,null,null,null,null,null,null,null,null,null,null,null,null,null,null,null,null,null,"√4.68 × ³√4.68"]
[null,null,null,null,null,null,null,null,null,null,null,null,null,null,null,null,null,null,null,null,null,null,null,null,null,null,null,null,null,null,null,null,"√4.68 ÷ ³√4.68"]
[null,null,null,null,null,null,null,null,null,null,null,null,null,null,null,null,null,null,null,null,null,null,null,null,null,null,null,null,null,null,null,null,"6.7³ ± ³√4.68"]
[null,null,null,null,null,null,null,null,null,null,null,null,null,null,null,null,null,null,null,null,null,null,null,null,null,null,null,null,null,null,null,null,"6.7³ × ³√4.68"]
[null,null,null,null,null,null,null,null,null,null,null,null,null,null,null,null,null,null,null,null,null,null,null,null,null,null,null,null,null,null,null,null,"6.7³ ÷ ³√4.68"]
[null,null,null,null,null,null,null,null,null,null,null,null,null,null,null,null,null,null,null,null,null,null,null,null,null,null,null,null,null,null,null,null,"6.78³³ × 5.6³³"]
[null,null,null,null,null,null,null,null,null,null,null,null,null,null,null,null,null,null,null,null,null,null,null,null,null,null,null,null,null,null,null,null,"6.78³³ ÷ 5.6³³"]
[null,null,null,null,null,null,null,null,null,null,null,null,null,null,null,null,null,null,null,null,null,null,null,null,null,null,null,null,null,null,null,null,"2⅝³"]

{"sheet":"FRAINT+VE","index":21,"n_rows":44,"n_cols":43,"rows_kept":44,"cut":false,"hidden":false,"merged":[[11,18,12,18],[10,6,11,7],[11,9,12,17],[17,19,18,27],[23,18,24,18],[23,19,24,27],[17,18,18,18],[11,19,12,27],[5,19,6,27],[6,6,7,7],[4,6,5,7],[5,18,6,18],[5,8,6,8],[4,2,7,5],[10,2,13,5],[5,9,6,17],[22,2,25,3],[16,2,19,3],[23,9,24,17],[17,9,18,17],[17,8,18,8],[23,8,24,8],[24,4,25,7],[18,4,19,7],[16,4,17,7],[22,4,23,7],[12,6,13,7],[11,8,12,8]]}
[]
[null,null,{"$f":"RFPDEPOSVE!C2","v":"Evaluate each expression using a calculator."},null,null,null,null,null,null,null,null,null,null,null,null,null,null,null,null,null,null,null,null,null,null,null,null,null,null,null,null,null,null,"x","x","x"]
[null,null,{"$f":"RFPDEPOSVE!C3","v":"Round to 2 d.p. when necessary."}]
[null,{"$f":"10*(INT(9*RAND())+1)+1*(INT(9*RAND())+1)","v":91},{"$f":"IF(RAND()>0.5,0,B4)","v":0},{"$f":"IF(C4=0,0,IF(RAND()>0.5,1,-1))","v":0},{"$f":"IF(D4=1,\"+\",IF(D4=0,\"\",\"−\"))","v":""},1,{"$f":"IF(F4=2,\"\",3)","v":3},{"$f":"IF(RAND()>0.5,100*(INT(9*RAND())+1)+10*(INT(9*RAND())+1)+INT(9*RAND())+1,10*(INT(9*RAND())+1)+INT(9*RAND())+1)","v":82},1,{"$f":"H4/I4","v":82},{"$f":"1*(INT(9*RAND())+1)+10*(INT(9*RAND())+1)","v":89},{"$f":"RAND()","v":0.3362213060158733},1,{"$f":"IF(M4=1,\"\",IF(M4=2,\"²\",\"³\"))","v":""},{"$f":"IF(D4=-1,C4-1*(((K4^M4)/J4)^(1/F4)),C4+1*(((K4^M4)/J4)^(1/F4)))","v":1.0853658536585367},{"$f":"RAND()","v":0.36096410894916298}]
[null,null,{"$f":"IF(C4=0,\"\",CONCATENATE(\" \",C4,\" \",E4,\" \"))","v":""},null,null,null,{"$f":"CONCATENATE(\" \",K4,N4,\" \")","v":" 89 "}]
[null,null,null,null,null,null,null,null,"=",{"$f":"CONCATENATE(IF(ROUND(O4,8)<0,\"−\",\"\"),ABS(ROUND(O4,8)))","v":"1.08536585"},null,null,null,null,null,null,null,null,"=",{"$f":"AJ6","v":"1.09 (2 d.p.)"},null,null,null,null,null,null,null,null,null,null,null,2,{"$f":"O4","v":1.0853658536585367},{"$f":"AG6^1","v":1.0853658536585367},{"$f":"CONCATENATE(AG6)","v":"1.08536585365854"},{"$f":"IF(AG6=0,CONCATENATE(\"0\",AG8,\"\"),CONCATENATE(AM6,AL6))","v":"1.09 (2 d.p.)"},{"$f":"CONCATENATE(ROUND(AI7,9))","v":"1.085365854"},{"$f":"IF(AM7=0,CONCATENATE(AG8),CONCATENATE(AQ7,AG8,\" (\",AF6,\" d.p.)\"))","v":" (2 d.p.)"},{"$f":"IF(AM7=0,AH7,AG7)","v":1.0900000000000001},{"$f":"ROUND(100*AG7,0)","v":109},{"$f":"AN6-AN7*100","v":9},{"$f":"IF(AM7=0,\"\",IF(AO7=0,\".0\",\"\"))","v":".0"},{"$f":"AN6-AN7*100-AO7*10","v":9}]
[null,null,null,null,null,null,{"$f":"CONCATENATE(\" \",J4,\" \")","v":" 82 "},null,null,null,null,null,null,null,null,null,null,null,null,null,null,null,null,null,null,null,null,null,null,null,null,{"$f":"ROUNDDOWN(AH6,0)","v":1},{"$f":"ROUND(AH6,AF6)","v":1.0900000000000001},{"$f":"ROUND(AH6,6)","v":1.0853660000000001},{"$f":"ROUND(AH6,9)","v":1.085365854},{"$f":"ROUND(AI7-AF7,9)","v":8.5365854000000005E-2},{"$f":"ROUND(AH7-AF7,9)","v":8.5365999999999997E-2},{"$f":"ROUND(AI7-AF7,9)","v":8.5365854000000005E-2},{"$f":"AL7-AK7","v":-1.4599999999254099E-7},{"$f":"ROUNDDOWN(AN6/100,0)","v":1},{"$f":"ROUNDDOWN(AO6/10,0)","v":0},{"$f":"IF(AQ6=0,0,\"\")","v":""},{"$f":"IF(AF6=2,IF(AQ6=0,CONCATENATE(AP6,AP7),AP7),AP6)","v":""}]
[null,null,null,null,null,null,null,null,null,null,null,null,null,null,null,null,null,null,null,null,null,null,null,null,null,null,null,null,null,null,null,null,{"$f":"IF(AH8=\"cm\",\"\",\"\")","v":""},"NIL",null,{"$f":"ROUND(AH6,2)","v":1.0900000000000001}]
[]
[null,{"$f":"10*(INT(9*RAND())+1)+1*(INT(9*RAND())+1)","v":42},{"$f":"IF(RAND()>0.5,0,B10)","v":0},{"$f":"IF(C10=0,0,IF(RAND()>0.5,1,-1))","v":0},{"$f":"IF(D10=1,\"+\",IF(D10=0,\"\",\"−\"))","v":""},1,{"$f":"IF(F10=2,\"\",3)","v":3},{"$f":"IF(RAND()>0.5,100*(INT(9*RAND())+1)+10*(INT(9*RAND())+1)+INT(9*RAND())+1,10*(INT(9*RAND())+1)+INT(9*RAND())+1)","v":343},1,{"$f":"H10/I10","v":343},{"$f":"1*(INT(9*RAND())+1)+10*(INT(9*RAND())+1)","v":89},{"$f":"RAND()","v":0.17962342427544598},1,{"$f":"IF(M10=1,\"\",IF(M10=2,\"²\",\"³\"))","v":""},{"$f":"IF(D10=-1,C10-1*((J10/(K10^M10))^(1/F10)),C10+1*((J10/(K10^M10))^(1/F10)))","v":3.8539325842696628},{"$f":"RAND()","v":0.68147996411356115}]
[null,null,{"$f":"IF(C10=0,\"\",CONCATENATE(\" \",C10,\" \",E10,\" \"))","v":""},null,null,null,{"$f":"CONCATENATE(\" \",J10,\" \")","v":" 343 "}]
[null,null,null,null,null,null,null,null,"=",{"$f":"CONCATENATE(IF(ROUND(O10,8)<0,\"−\",\"\"),ABS(ROUND(O10,8)))","v":"3.85393258"},null,null,null,null,null,null,null,null,"=",{"$f":"CONCATENATE(IF(O10<0,\"−\",\"\"),AJ12)","v":"3.85 (2 d.p.)"},null,null,null,null,null,null,null,null,null,null,null,2,{"$f":"ABS(O10)","v":3.8539325842696628},{"$f":"AG12^1","v":3.8539325842696628},{"$f":"CONCATENATE(AG12)","v":"3.85393258426966"},{"$f":"IF(AG12=0,CONCATENATE(\"0\",AG14,\"\"),CONCATENATE(AM12,AL12))","v":"3.85 (2 d.p.)"},{"$f":"CONCATENATE(ROUND(AI13,9))","v":"3.853932584"},{"$f":"IF(AM13=0,CONCATENATE(AG14),CONCATENATE(AQ13,AG14,\" (\",AF12,\" d.p.)\"))","v":" (2 d.p.)"},{"$f":"IF(AM13=0,AH13,AG13)","v":3.85},{"$f":"ROUND(100*AG13,0)","v":385},{"$f":"AN12-AN13*100","v":85},{"$f":"IF(AM13=0,\"\",IF(AO13=0,\".0\",\"\"))","v":""},{"$f":"AN12-AN13*100-AO13*10","v":5}]
[null,null,null,null,null,null,{"$f":"CONCATENATE(K10,N10)","v":"89"},null,null,null,null,null,null,null,null,null,null,null,null,null,null,null,null,null,null,null,null,null,null,null,null,{"$f":"ROUNDDOWN(AH12,0)","v":3},{"$f":"ROUND(AH12,AF12)","v":3.85},{"$f":"ROUND(AH12,6)","v":3.8539330000000001},{"$f":"ROUND(AH12,9)","v":3.8539325839999998},{"$f":"ROUND(AI13-AF13,9)","v":0.85393258400000005},{"$f":"ROUND(AH13-AF13,9)","v":0.85393300000000005},{"$f":"ROUND(AI13-AF13,9)","v":0.85393258400000005},{"$f":"AL13-AK13","v":-4.1600000000308057E-7},{"$f":"ROUNDDOWN(AN12/100,0)","v":3},{"$f":"ROUNDDOWN(AO12/10,0)","v":8},{"$f":"IF(AQ12=0,0,\"\")","v":""},{"$f":"IF(AF12=2,IF(AQ12=0,CONCATENATE(AP12,AP13),AP13),AP12)","v":""}]
[null,null,null,null,null,null,null,null,null,null,null,null,null,null,null,null,null,null,null,null,null,null,null,null,null,null,null,null,null,null,null,null,{"$f":"IF(AH14=\"cm\",\"\",\"\")","v":""},"NIL",null,{"$f":"ROUND(AH12,2)","v":3.85}]
[null,null,{"$f":"D44","v":3}]
[null,null,null,{"$f":"IF($C$15=1,D37,IF($C$15=2,D38,IF($C$15=3,D39,IF($C$15=4,D40,IF($C$15=5,D41,D42)))))","v":1},null,null,null,null,null,null,null,null,null,null,{"$f":"IF($C$15=1,O37,IF($C$15=2,O38,IF($C$15=3,O39,IF($C$15=4,O40,IF($C$15=5,O41,O42)))))","v":"  80 − 51  "},{"$f":"IF($C$15=1,P37,IF($C$15=2,P38,IF($C$15=3,P39,IF($C$15=4,P40,IF($C$15=5,P41,P42)))))","v":29},{"$f":"IF($C$15=1,Q37,IF($C$15=2,Q38,IF($C$15=3,Q39,IF($C$15=4,Q40,IF($C$15=5,Q41,Q42)))))","v":43},{"$f":"IF($C$15=1,R37,IF($C$15=2,R38,IF($C$15=3,R39,IF($C$15=4,R40,IF($C$15=5,R41,R42)))))","v":1},null,null,null,null,null,null,null,null,{"$f":"IF($C$15=1,AA37,IF($C$15=2,AA38,IF($C$15=3,AA39,IF($C$15=4,AA40,IF($C$15=5,AA41,AA42)))))","v":"  43 − 1  "},{"$f":"IF($C$15=1,AB37,IF($C$15=2,AB38,IF($C$15=3,AB39,IF($C$15=4,AB40,IF($C$15=5,AB41,AB42)))))","v":42},{"$f":"IF($C$15=1,AC37,IF($C$15=2,AC38,IF($C$15=3,AC39,IF($C$15=4,AC40,IF($C$15=5,AC41,AC42)))))","v":0.69047619047619047}]
[null,null,null,null,{"$f":"O16","v":"  80 − 51  "}]
[null,null,null,null,null,null,null,null,"=",{"$f":"CONCATENATE(ROUND(AC16,8))","v":"0.69047619"},null,null,null,null,null,null,null,null,"=",{"$f":"$AJ18","v":"0.69 (2 d.p.)"},null,null,null,null,null,null,null,null,null,null,null,2,{"$f":"AC16","v":0.69047619047619047},{"$f":"AG18^1","v":0.69047619047619047},{"$f":"CONCATENATE(AG18)","v":"0.69047619047619"},{"$f":"IF(AG18=0,CONCATENATE(\"0\",AG20,\"\"),CONCATENATE(AM18,AL18))","v":"0.69 (2 d.p.)"},{"$f":"CONCATENATE(ROUND(AI19,9))","v":"0.69047619"},{"$f":"IF(AM19=0,CONCATENATE(AG20),CONCATENATE(AQ19,AG20,\" (\",AF18,\" d.p.)\"))","v":" (2 d.p.)"},{"$f":"IF(AM19=0,AH19,AG19)","v":0.69},{"$f":"ROUND(100*AG19,0)","v":69},{"$f":"AN18-AN19*100","v":69},{"$f":"IF(AM19=0,\"\",IF(AO19=0,\".0\",\"\"))","v":""},{"$f":"AN18-AN19*100-AO19*10","v":9}]
[null,null,null,null,{"$f":"AA16","v":"  43 − 1  "},null,null,null,null,null,null,null,null,null,null,null,null,null,null,null,null,null,null,null,null,null,null,null,null,null,null,{"$f":"ROUNDDOWN(AH18,0)","v":0},{"$f":"ROUND(AH18,AF18)","v":0.69},{"$f":"ROUND(AH18,6)","v":0.69047599999999998},{"$f":"ROUND(AH18,9)","v":0.69047619000000005},{"$f":"ROUND(AI19-AF19,9)","v":0.69047619000000005},{"$f":"ROUND(AH19-AF19,9)","v":0.69047599999999998},{"$f":"ROUND(AI19-AF19,9)","v":0.69047619000000005},{"$f":"AL19-AK19","v":1.9000000006652584E-7},{"$f":"ROUNDDOWN(AN18/100,0)","v":0},{"$f":"ROUNDDOWN(AO18/10,0)","v":6},{"$f":"IF(AQ18=0,0,\"\")","v":""},{"$f":"IF(AF18=2,IF(AQ18=0,CONCATENATE(AP18,AP19),AP19),AP18)","v":""}]
[null,null,null,null,null,null,null,null,null,null,null,null,null,null,null,null,null,null,null,null,null,null,null,null,null,null,null,null,null,null,null,null,{"$f":"IF(AH20=\"cm\",\"\",\"\")","v":""},"NIL",null,{"$f":"ROUND(AH18,2)","v":0.69}]
[null,null,{"$f":"G44","v":2}]
[null,null,null,{"$f":"IF(C21=1,$D$37,IF(C21=2,$D$38,IF(C21=3,$D$39,IF(C21=4,$D$40,IF(C21=5,$D$41,$D$42)))))","v":1},null,null,null,null,null,null,null,null,null,null,{"$f":"IF(C21=1,O37,IF(C21=2,O38,IF(C21=3,O39,IF(C21=4,O40,IF(C21=5,O41,O42)))))","v":"  48 − 3  "},{"$f":"IF(C21=1,P37,IF(C21=2,P38,IF(C21=3,P39,IF(C21=4,P40,IF(C21=5,P41,P42)))))","v":45},{"$f":"IF(C21=1,Q37,IF(C21=2,Q38,IF(C21=3,Q39,IF(C21=4,Q40,IF(C21=5,Q41,Q42)))))","v":36},{"$f":"IF(C21=1,R37,IF(C21=2,R38,IF(C21=3,R39,IF(C21=4,R40,IF(C21=5,R41,R42)))))","v":1},null,null,null,null,null,null,null,null,{"$f":"IF(C21=1,AA37,IF(C21=2,AA38,IF(C21=3,AA39,IF(C21=4,AA40,IF(C21=5,AA41,AA42)))))","v":"  9 + 36  "},{"$f":"IF($C$21=1,AB37,IF($C$21=2,AB38,IF($C$21=3,AB39,IF($C$21=4,AB40,IF($C$21=5,AB41,AB42)))))","v":45},{"$f":"IF($C$21=1,AC37,IF($C$21=2,AC38,IF($C$21=3,AC39,IF($C$21=4,AC40,IF($C$21=5,AC41,AC42)))))","v":1}]
[null,null,null,null,{"$f":"O22","v":"  48 − 3  "}]
[null,null,null,null,null,null,null,null,"=",{"$f":"CONCATENATE(ROUND(AC22,8))","v":"1"},null,null,null,null,null,null,null,null,"=",{"$f":"$AJ24","v":"1"},null,null,null,null,null,null,null,null,null,null,null,2,{"$f":"AC22","v":1},{"$f":"AG24^1","v":1},{"$f":"CONCATENATE(AG24)","v":"1"},{"$f":"IF(AG24=0,CONCATENATE(\"0\",AG26,\"\"),CONCATENATE(AM24,AL24))","v":"1"},{"$f":"CONCATENATE(ROUND(AI25,9))","v":"1"},{"$f":"IF(AM25=0,CONCATENATE(AG26),CONCATENATE(AQ25,AG26,\" (\",AF24,\" d.p.)\"))","v":""},{"$f":"IF(AM25=0,AH25,AG25)","v":1},{"$f":"ROUND(100*AG25,0)","v":100},{"$f":"AN24-AN25*100","v":0},{"$f":"IF(AM25=0,\"\",IF(AO25=0,\".0\",\"\"))","v":""},{"$f":"AN24-AN25*100-AO25*10","v":0}]
[null,null,null,null,{"$f":"AA22","v":"  9 + 36  "},null,null,null,null,null,null,null,null,null,null,null,null,null,null,null,null,null,null,null,null,null,null,null,null,null,null,{"$f":"ROUNDDOWN(AH24,0)","v":1},{"$f":"ROUND(AH24,AF24)","v":1},{"$f":"ROUND(AH24,6)","v":1},{"$f":"ROUND(AH24,9)","v":1},{"$f":"ROUND(AI25-AF25,9)","v":0},{"$f":"ROUND(AH25-AF25,9)","v":0},{"$f":"ROUND(AI25-AF25,9)","v":0},{"$f":"AL25-AK25","v":0},{"$f":"ROUNDDOWN(AN24/100,0)","v":1},{"$f":"ROUNDDOWN(AO24/10,0)","v":0},{"$f":"IF(AQ24=0,0,\"\")","v":0},{"$f":"IF(AF24=2,IF(AQ24=0,CONCATENATE(AP24,AP25),AP25),AP24)","v":"0"}]
[null,null,null,null,null,null,null,null,null,null,null,null,null,null,null,null,null,null,null,null,null,null,null,null,null,null,null,null,null,null,null,null,{"$f":"IF(AH26=\"cm\",\"\",\"\")","v":""},"NIL",null,{"$f":"ROUND(AH24,2)","v":1}]
[]
[]
[]
[]
[null,null,1,1,{"$f":"IF(RAND()>0.5,INT(999*RAND())+1,INT(99*RAND())+1)","v":80},{"$f":"IF(E31>99,10,IF(RAND()>0.5,10,1))","v":10},{"$f":"E31/F31","v":8},{"$f":"IF(M31<1,1,IF(RAND()>0.5,1,-1))","v":-1},{"$f":"IF(H31=1,\" + \",\" − \")","v":" − "},{"$f":"IF(E31>99,INT(9*RAND())+1,INT(99*RAND())+1)","v":49},{"$f":"IF(E31>99,1,IF(RAND()>0.5,10,1))","v":1},{"$f":"J31/K31","v":49},{"$f":"ABS(L31-G31)","v":41},{"$f":"IF(L31>G31,0,1)","v":0},{"$f":"IF(N31=0,CONCATENATE(\"  \",L31,I31,G31,\"  \"),CONCATENATE(\"  \",G31,I31,L31,\"  \"))","v":"  49 − 8  "},{"$f":"IF(N31=0,L31+H31*G31,G31+H31*L31)","v":41},{"$f":"IF(RAND()>0.5,INT(999*RAND())+1,INT(99*RAND())+1)","v":33},{"$f":"IF(Q31>99,10,IF(RAND()>0.5,10,1))","v":10},{"$f":"Q31/R31","v":3.3},{"$f":"IF(Y31<1,1,IF(RAND()>0.5,1,-1))","v":1},{"$f":"IF(T31=1,\" + \",\" − \")","v":" + "},{"$f":"IF(Q31>99,INT(9*RAND())+1,INT(99*RAND())+1)","v":60},{"$f":"IF(Q31>99,1,IF(RAND()>0.5,10,1))","v":1},{"$f":"V31/W31","v":60},{"$f":"ABS(X31-S31)","v":56.7},{"$f":"IF(X31>S31,0,1)","v":0},{"$f":"IF(Z31=0,CONCATENATE(X31,U31,S31),CONCATENATE(S31,U31,X31))","v":"60 + 3.3"},{"$f":"IF(Z31=0,X31+T31*S31,S31+T31*X31)","v":63.3},{"$f":"(P31/AB31)^(1/C31)","v":0.64770932069510267}]
[null,null,1,1,{"$f":"0.1*(INT(9*RAND())+1)+1*(INT(9*RAND())+1)","v":2.7},{"$f":"0.1*(INT(9*RAND())+1)+1*(INT(9*RAND())+1)","v":6.1},null,null,null,null,null,null,null,null,{"$f":"CONCATENATE(\" \",E32,\" × \",F32,\" \")","v":" 2.7 × 6.1 "},{"$f":"E32*F32","v":16.47},{"$f":"IF(RAND()>0.5,INT(999*RAND())+1,INT(99*RAND())+1)","v":61},{"$f":"IF(Q32>99,10,IF(RAND()>0.5,10,1))","v":10},{"$f":"Q32/R32","v":6.1},{"$f":"IF(Y32<1,1,IF(RAND()>0.5,1,-1))","v":1},{"$f":"IF(T32=1,\" + \",\" − \")","v":" + "},{"$f":"IF(Q32>99,INT(9*RAND())+1,INT(99*RAND())+1)","v":93},{"$f":"IF(Q32>99,1,IF(RAND()>0.5,10,1))","v":10},{"$f":"V32/W32","v":9.3000000000000007},{"$f":"ABS(X32-S32)","v":3.2000000000000011},{"$f":"IF(X32>S32,0,1)","v":0},{"$f":"IF(Z32=0,CONCATENATE(X32,U32,S32),CONCATENATE(S32,U32,X32))","v":"9.3 + 6.1"},{"$f":"IF(Z32=0,X32+T32*S32,S32+T32*X32)","v":15.4},{"$f":"(P32/AB32)^(1/C32)","v":1.0694805194805195}]
[null,null,1,1,{"$f":"0.1*(INT(9*RAND())+1)+1*(INT(9*RAND())+1)","v":7.4},{"$f":"0.1*(INT(9*RAND())+1)+1*(INT(9*RAND())+1)","v":2.9},null,null,null,null,null,null,null,null,{"$f":"CONCATENATE(\" \",E33,\" × \",F33,\" \")","v":" 7.4 × 2.9 "},{"$f":"E33*F33","v":21.46},{"$f":"0.1*(INT(9*RAND())+1)+1*(INT(9*RAND())+1)","v":7.2},{"$f":"0.1*(INT(9*RAND())+1)+1*(INT(9*RAND())+1)","v":2.2999999999999998},null,null,null,null,null,null,null,null,{"$f":"CONCATENATE(Q33,\" × \",R33)","v":"7.2 × 2.3"},{"$f":"Q33*R33","v":16.559999999999999},{"$f":"(P33/AB33)^(1/C33)","v":1.2958937198067635}]
[null,null,1,1,{"$f":"IF(RAND()>0.5,INT(999*RAND())+1,INT(99*RAND())+1)","v":20},{"$f":"IF(E34>99,10,IF(RAND()>0.5,10,1))","v":1},{"$f":"E34/F34","v":20},{"$f":"IF(M34<1,1,IF(RAND()>0.5,1,-1))","v":-1},{"$f":"IF(H34=1,\" + \",\" − \")","v":" − "},{"$f":"IF(E34>99,INT(9*RAND())+1,INT(99*RAND())+1)","v":66},{"$f":"IF(E34>99,1,IF(RAND()>0.5,10,1))","v":10},{"$f":"J34/K34","v":6.6},{"$f":"ABS(L34-G34)","v":13.4},{"$f":"IF(L34>G34,0,1)","v":1},{"$f":"IF(N34=0,CONCATENATE(\"  \",L34,I34,G34,\"  \"),CONCATENATE(\"  \",G34,I34,L34,\"  \"))","v":"  20 − 6.6  "},{"$f":"IF(N34=0,L34+H34*G34,G34+H34*L34)","v":13.4},{"$f":"0.1*(INT(9*RAND())+1)+1*(INT(9*RAND())+1)","v":6.6},{"$f":"0.1*(INT(9*RAND())+1)+1*(INT(9*RAND())+1)","v":3.6},null,null,null,null,null,null,null,null,{"$f":"CONCATENATE(Q34,\" × \",R34)","v":"6.6 × 3.6"},{"$f":"Q34*R34","v":23.759999999999998},{"$f":"(P34/AB34)^(1/C34)","v":0.56397306397306401}]
[]
[]
[null,null,1,1,{"$f":"1*(INT(9*RAND())+1)+10*(INT(8*RAND())+2)","v":57},1,"",{"$f":"IF(RAND()>0.5,1,-1)","v":1},{"$f":"IF(H37=1,\" + \",\" − \")","v":" + "},{"$f":"E37^F37","v":57},{"$f":"IF(J37>11,9,ROUNDDOWN(J37,0)-1)","v":9},{"$f":"INT(K37*RAND())+1","v":5},null,{"$f":"IF(RAND()>0.5,1,-1)","v":1},{"$f":"IF(H37=-1,CONCATENATE(\"  \",E37,G37,I37,L37,\"  \"),IF(N37=1,CONCATENATE(\"  \",E37,G37,I37,L37,\"  \"),CONCATENATE(\"  \",L37,I37,E37,G37,\"  \")))","v":"  57 + 5  "},{"$f":"E37^F37+H37*L37","v":62},{"$f":"IF(RAND()>0.5,INT(999*RAND())+1,INT(99*RAND())+1)","v":887},1,{"$f":"Q37/R37","v":887},{"$f":"IF(Y37<1,1,IF(RAND()>0.5,1,-1))","v":1},{"$f":"IF(T37=1,\" + \",\" − \")","v":" + "},{"$f":"IF(Q37>99,INT(9*RAND())+1,INT(99*RAND())+1)","v":1},1,{"$f":"V37/W37","v":1},{"$f":"ABS(X37-S37)","v":886},{"$f":"IF(X37>S37,0,1)","v":1},{"$f":"IF(Z37=0,CONCATENATE(X37,U37,S37),CONCATENATE(S37,U37,X37))","v":"887 + 1"},{"$f":"IF(Z37=0,X37+T37*S37,S37+T37*X37)","v":888},{"$f":"(P37/AB37)^(1/C37)","v":6.9819819819819814E-2}]
[null,null,1,1,{"$f":"1*(INT(9*RAND())+1)+10*(INT(8*RAND())+2)","v":48},1,"",{"$f":"IF(RAND()>0.5,1,-1)","v":-1},{"$f":"IF(H38=1,\" + \",\" − \")","v":" − "},{"$f":"E38^F38","v":48},{"$f":"IF(J38>11,9,ROUNDDOWN(J38,0)-1)","v":9},{"$f":"INT(K38*RAND())+1","v":3},null,{"$f":"IF(RAND()>0.5,1,-1)","v":-1},{"$f":"IF(H38=-1,CONCATENATE(\"  \",E38,G38,I38,L38,\"  \"),IF(N38=1,CONCATENATE(\"  \",E38,G38,I38,L38,\"  \"),CONCATENATE(\"  \",L38,I38,E38,G38,\"  \")))","v":"  48 − 3  "},{"$f":"E38^F38+H38*L38","v":45},{"$f":"1*(INT(9*RAND())+1)+10*(INT(8*RAND())+2)","v":36},1,"",{"$f":"IF(RAND()>0.5,1,-1)","v":1},{"$f":"IF(T38=1,\" + \",\" − \")","v":" + "},{"$f":"Q38^R38","v":36},{"$f":"IF(V38>11,9,ROUNDDOWN(V38,0)-1)","v":9},{"$f":"INT(W38*RAND())+1","v":9},null,{"$f":"IF(RAND()>0.5,1,-1)","v":-1},{"$f":"IF(T38=-1,CONCATENATE(\"  \",Q38,S38,U38,X38,\"  \"),IF(Z38=1,CONCATENATE(\"  \",Q38,S38,U38,X38,\"  \"),CONCATENATE(\"  \",X38,U38,Q38,S38,\"  \")))","v":"  9 + 36  "},{"$f":"Q38^R38+T38*X38","v":45},1]
[null,null,1,1,{"$f":"IF(RAND()>0.5,INT(999*RAND())+1,INT(99*RAND())+1)","v":51},1,{"$f":"E39/F39","v":51},{"$f":"IF(M39<1,1,IF(RAND()>0.5,1,-1))","v":-1},{"$f":"IF(H39=1,\" + \",\" − \")","v":" − "},{"$f":"IF(E39>99,INT(9*RAND())+1,INT(99*RAND())+1)","v":80},1,{"$f":"J39/K39","v":80},{"$f":"ABS(L39-G39)","v":29},{"$f":"IF(L39>G39,0,1)","v":0},{"$f":"IF(N39=0,CONCATENATE(\"  \",L39,I39,G39,\"  \"),CONCATENATE(\"  \",G39,I39,L39,\"  \"))","v":"  80 − 51  "},{"$f":"IF(N39=0,L39+H39*G39,G39+H39*L39)","v":29},{"$f":"1*(INT(9*RAND())+1)+10*(INT(8*RAND())+2)","v":43},1,"",{"$f":"IF(RAND()>0.5,1,-1)","v":-1},{"$f":"IF(T39=1,\" + \",\" − \")","v":" − "},{"$f":"Q39^R39","v":43},{"$f":"IF(V39>11,9,ROUNDDOWN(V39,0)-1)","v":9},{"$f":"INT(W39*RAND())+1","v":1},null,{"$f":"IF(RAND()>0.5,1,-1)","v":-1},{"$f":"IF(T39=-1,CONCATENATE(\"  \",Q39,S39,U39,X39,\"  \"),IF(Z39=1,CONCATENATE(\"  \",Q39,S39,U39,X39,\"  \"),CONCATENATE(\"  \",X39,U39,Q39,S39,\"  \")))","v":"  43 − 1  "},{"$f":"Q39^R39+T39*X39","v":42},0.69047619047619047]
[null,null,1,1,{"$f":"1*(INT(9*RAND())+1)+10*(INT(8*RAND())+2)","v":21},1,"",1," × ",{"$f":"E40^F40","v":21},{"$f":"IF(J40>11,9,ROUNDDOWN(J40,0)-1)","v":9},{"$f":"INT((K40-1)*RAND())+2","v":8},null,{"$f":"IF(RAND()>0.5,1,-1)","v":-1},{"$f":"IF(H40=-1,CONCATENATE(\"  \",E40,G40,I40,L40,\"  \"),IF(N40=1,CONCATENATE(\"  \",E40,G40,I40,L40,\"  \"),CONCATENATE(\"  \",L40,I40,E40,G40,\"  \")))","v":"  8 × 21  "},{"$f":"E40^F40*H40*L40","v":168},{"$f":"1*(INT(9*RAND())+1)+10*(INT(8*RAND())+2)","v":75},1,"",{"$f":"IF(RAND()>0.5,1,-1)","v":1},{"$f":"IF(T40=1,\" + \",\" − \")","v":" + "},{"$f":"Q40^R40","v":75},{"$f":"IF(V40>11,9,ROUNDDOWN(V40,0)-1)","v":9},{"$f":"INT(W40*RAND())+1","v":4},null,{"$f":"IF(RAND()>0.5,1,-1)","v":-1},{"$f":"IF(T40=-1,CONCATENATE(\"  \",Q40,S40,U40,X40,\"  \"),IF(Z40=1,CONCATENATE(\"  \",Q40,S40,U40,X40,\"  \"),CONCATENATE(\"  \",X40,U40,Q40,S40,\"  \")))","v":"  4 + 75  "},{"$f":"Q40^R40+T40*X40","v":79},2.1265822784810124]
[null,null,1,1,{"$f":"1*(INT(9*RAND())+1)+10*(INT(8*RAND())+2)","v":24},1,"",1," × ",{"$f":"E41^F41","v":24},{"$f":"IF(J41>11,9,ROUNDDOWN(J41,0)-1)","v":9},{"$f":"INT((K41-1)*RAND())+2","v":6},null,{"$f":"IF(RAND()>0.5,1,-1)","v":1},{"$f":"IF(H41=-1,CONCATENATE(\"  \",E41,G41,I41,L41,\"  \"),IF(N41=1,CONCATENATE(\"  \",E41,G41,I41,L41,\"  \"),CONCATENATE(\"  \",L41,I41,E41,G41,\"  \")))","v":"  24 × 6  "},{"$f":"E41^F41*H41*L41","v":144},{"$f":"1*(INT(9*RAND())+1)+10*(INT(8*RAND())+2)","v":81},1,"",1," × ",{"$f":"Q41^R41","v":81},{"$f":"IF(V41>11,9,ROUNDDOWN(V41,0)-1)","v":9},{"$f":"INT((W41-1)*RAND())+2","v":8},null,{"$f":"IF(RAND()>0.5,1,-1)","v":-1},{"$f":"IF(T41=-1,CONCATENATE(\"  \",Q41,S41,U41,X41,\"  \"),IF(Z41=1,CONCATENATE(\"  \",Q41,S41,U41,X41,\"  \"),CONCATENATE(\"  \",X41,U41,Q41,S41,\"  \")))","v":"  8 × 81  "},{"$f":"Q41^R41*T41*X41","v":648},0.22222222222222221]
[null,null,1,1,{"$f":"1*(INT(9*RAND())+1)+10*(INT(8*RAND())+2)","v":89},1,"",{"$f":"IF(RAND()>0.5,1,-1)","v":1},{"$f":"IF(H42=1,\" + \",\" − \")","v":" + "},{"$f":"E42^F42","v":89},{"$f":"IF(J42>11,9,ROUNDDOWN(J42,0)-1)","v":9},{"$f":"INT(K42*RAND())+1","v":6},null,{"$f":"IF(RAND()>0.5,1,-1)","v":-1},{"$f":"IF(H42=-1,CONCATENATE(\"  \",E42,G42,I42,L42,\"  \"),IF(N42=1,CONCATENATE(\"  \",E42,G42,I42,L42,\"  \"),CONCATENATE(\"  \",L42,I42,E42,G42,\"  \")))","v":"  6 + 89  "},{"$f":"E42^F42+H42*L42","v":95},{"$f":"1*(INT(9*RAND())+1)+10*(INT(8*RAND())+2)","v":94},1,"",1," × ",{"$f":"Q42^R42","v":94},{"$f":"IF(V42>11,9,ROUNDDOWN(V42,0)-1)","v":9},{"$f":"INT((W42-1)*RAND())+2","v":2},null,{"$f":"IF(RAND()>0.5,1,-1)","v":1},{"$f":"IF(T42=-1,CONCATENATE(\"  \",Q42,S42,U42,X42,\"  \"),IF(Z42=1,CONCATENATE(\"  \",Q42,S42,U42,X42,\"  \"),CONCATENATE(\"  \",X42,U42,Q42,S42,\"  \")))","v":"  94 × 2  "},{"$f":"Q42^R42*T42*X42","v":188},0.50531914893617025]
[]
[null,null,6,{"$f":"1*(INT(C44*RAND())+1)","v":3},{"$f":"1*(INT((C44-1)*RAND())+1)","v":5},{"$f":"E44+D44","v":8},{"$f":"MOD(F44-1,C44)+1","v":2}]

{"sheet":"FRADEC+VE","index":22,"n_rows":44,"n_cols":43,"rows_kept":44,"cut":false,"hidden":false,"merged":[[4,2,7,5],[10,2,13,5],[5,9,6,17],[22,2,25,3],[16,2,19,3],[23,9,24,17],[17,9,18,17],[17,8,18,8],[23,8,24,8],[24,4,25,7],[18,4,19,7],[16,4,17,7],[22,4,23,7],[6,6,7,7],[4,6,5,7],[5,8,6,8],[12,6,13,7],[11,8,12,8],[11,18,12,18],[10,6,11,7],[11,9,12,17],[17,19,18,27],[23,18,24,18],[23,19,24,27],[17,18,18,18],[5,19,6,27],[5,18,6,18],[11,19,12,27]]}
[]
[null,null,{"$f":"RFPDEPOSVE!C2","v":"Evaluate each expression using a calculator."},null,null,null,null,null,null,null,null,null,null,null,null,null,null,null,null,null,null,null,null,null,null,null,null,null,null,null,null,null,null,"x","x","x"]
[null,null,{"$f":"RFPDEPOSVE!C3","v":"Round to 2 d.p. when necessary."}]
[null,{"$f":"INT(9*RAND())+1+0.1*(INT(9*RAND())+1)","v":1.1000000000000001},{"$f":"IF(RAND()>0.5,0,B4)","v":0},{"$f":"IF(C4=0,0,IF(RAND()>0.5,1,-1))","v":0},{"$f":"IF(D4=1,\"+\",IF(D4=0,\"\",\"−\"))","v":""},1,{"$f":"IF(F4=2,\"\",3)","v":3},{"$f":"IF(RAND()>0.5,100*(INT(9*RAND())+1)+10*(INT(9*RAND())+1)+INT(9*RAND())+1,10*(INT(9*RAND())+1)+INT(9*RAND())+1)","v":38},{"$f":"IF(RAND()>0.5,10,1)","v":1},{"$f":"H4/I4","v":38},{"$f":"0.1*(INT(9*RAND())+1)+1*(INT(9*RAND())+1)","v":5.0999999999999996},{"$f":"RAND()","v":0.61425840017168143},1,{"$f":"IF(M4=1,\"\",IF(M4=2,\"²\",\"³\"))","v":""},{"$f":"IF(D4=-1,C4-1*(((K4^M4)/J4)^(1/F4)),C4+1*(((K4^M4)/J4)^(1/F4)))","v":0.13421052631578947},{"$f":"RAND()","v":0.34362187001363398}]
[null,null,{"$f":"IF(C4=0,\"\",CONCATENATE(C4,\" \",E4,\" \"))","v":""},null,null,null,{"$f":"CONCATENATE(\" \",K4,N4,\" \")","v":" 5.1 "}]
[null,null,null,null,null,null,null,null,"=",{"$f":"CONCATENATE(IF(ROUND(O4,8)<0,\"−\",\"\"),ABS(ROUND(O4,8)))","v":"0.13421053"},null,null,null,null,null,null,null,null,"=",{"$f":"CONCATENATE(IF(O4<0,\"−\",\"\"),AJ6)","v":"0.13 (2 d.p.)"},null,null,null,null,null,null,null,null,null,null,null,2,{"$f":"ABS(O4)","v":0.13421052631578947},{"$f":"AG6^1","v":0.13421052631578947},{"$f":"CONCATENATE(AG6)","v":"0.134210526315789"},{"$f":"IF(AG6=0,CONCATENATE(\"0\",AG8,\"\"),CONCATENATE(AM6,AL6))","v":"0.13 (2 d.p.)"},{"$f":"CONCATENATE(ROUND(AI7,9))","v":"0.134210526"},{"$f":"IF(AM7=0,CONCATENATE(AG8),CONCATENATE(AQ7,AG8,\" (\",AF6,\" d.p.)\"))","v":" (2 d.p.)"},{"$f":"IF(AM7=0,AH7,AG7)","v":0.13},{"$f":"ROUND(100*AG7,0)","v":13},{"$f":"AN6-AN7*100","v":13},{"$f":"IF(AM7=0,\"\",IF(AO7=0,\".0\",\"\"))","v":""},{"$f":"AN6-AN7*100-AO7*10","v":3}]
[null,null,null,null,null,null,{"$f":"CONCATENATE(\" \",J4,\" \")","v":" 38 "},null,null,null,null,null,null,null,null,null,null,null,null,null,null,null,null,null,null,null,null,null,null,null,null,{"$f":"ROUNDDOWN(AH6,0)","v":0},{"$f":"ROUND(AH6,AF6)","v":0.13},{"$f":"ROUND(AH6,6)","v":0.134211},{"$f":"ROUND(AH6,9)","v":0.134210526},{"$f":"ROUND(AI7-AF7,9)","v":0.134210526},{"$f":"ROUND(AH7-AF7,9)","v":0.134211},{"$f":"ROUND(AI7-AF7,9)","v":0.134210526},{"$f":"AL7-AK7","v":-4.7400000000030751E-7},{"$f":"ROUNDDOWN(AN6/100,0)","v":0},{"$f":"ROUNDDOWN(AO6/10,0)","v":1},{"$f":"IF(AQ6=0,0,\"\")","v":""},{"$f":"IF(AF6=2,IF(AQ6=0,CONCATENATE(AP6,AP7),AP7),AP6)","v":""}]
[null,null,null,null,null,null,null,null,null,null,null,null,null,null,null,null,null,null,null,null,null,null,null,null,null,null,null,null,null,null,null,null,{"$f":"IF(AH8=\"cm\",\"\",\"\")","v":""},"NIL",null,{"$f":"ROUND(AH6,2)","v":0.13}]
[]
[null,{"$f":"INT(9*RAND())+1+0.1*(INT(9*RAND())+1)","v":5.8},{"$f":"IF(RAND()>0.5,0,B10)","v":0},{"$f":"IF(C10=0,0,IF(RAND()>0.5,1,-1))","v":0},{"$f":"IF(D10=1,\"+\",IF(D10=0,\"\",\"−\"))","v":""},1,{"$f":"IF(F10=2,\"\",3)","v":3},{"$f":"IF(RAND()>0.5,100*(INT(9*RAND())+1)+10*(INT(9*RAND())+1)+INT(9*RAND())+1,10*(INT(9*RAND())+1)+INT(9*RAND())+1)","v":112},{"$f":"IF(RAND()>0.5,10,1)","v":1},{"$f":"H10/I10","v":112},{"$f":"0.1*(INT(9*RAND())+1)+1*(INT(9*RAND())+1)","v":9.6},{"$f":"RAND()","v":0.75756701706136187},1,{"$f":"IF(M10=1,\"\",IF(M10=2,\"²\",\"³\"))","v":""},{"$f":"IF(D10=-1,C10-1*((J10/(K10^M10))^(1/F10)),C10+1*((J10/(K10^M10))^(1/F10)))","v":11.666666666666668},{"$f":"RAND()","v":0.60731807060439624}]
[null,null,{"$f":"IF(C10=0,\"\",CONCATENATE(C10,\" \",E10,\" \"))","v":""},null,null,null,{"$f":"CONCATENATE(\" \",J10,\" \")","v":" 112 "}]
[null,null,null,null,null,null,null,null,"=",{"$f":"CONCATENATE(IF(ROUND(O10,8)<0,\"−\",\"\"),ABS(ROUND(O10,8)))","v":"11.66666667"},null,null,null,null,null,null,null,null,"=",{"$f":"CONCATENATE(IF(O10<0,\"−\",\"\"),AJ12)","v":"11.67 (2 d.p.)"},null,null,null,null,null,null,null,null,null,null,null,2,{"$f":"ABS(O10)","v":11.666666666666668},{"$f":"AG12^1","v":11.666666666666668},{"$f":"CONCATENATE(AG12)","v":"11.6666666666667"},{"$f":"IF(AG12=0,CONCATENATE(\"0\",AG14,\"\"),CONCATENATE(AM12,AL12))","v":"11.67 (2 d.p.)"},{"$f":"CONCATENATE(ROUND(AI13,9))","v":"11.666666667"},{"$f":"IF(AM13=0,CONCATENATE(AG14),CONCATENATE(AQ13,AG14,\" (\",AF12,\" d.p.)\"))","v":" (2 d.p.)"},{"$f":"IF(AM13=0,AH13,AG13)","v":11.67},{"$f":"ROUND(100*AG13,0)","v":1167},{"$f":"AN12-AN13*100","v":67},{"$f":"IF(AM13=0,\"\",IF(AO13=0,\".0\",\"\"))","v":""},{"$f":"AN12-AN13*100-AO13*10","v":7}]
[null,null,null,null,null,null,{"$f":"CONCATENATE(K10,N10)","v":"9.6"},null,null,null,null,null,null,null,null,null,null,null,null,null,null,null,null,null,null,null,null,null,null,null,null,{"$f":"ROUNDDOWN(AH12,0)","v":11},{"$f":"ROUND(AH12,AF12)","v":11.67},{"$f":"ROUND(AH12,6)","v":11.666667},{"$f":"ROUND(AH12,9)","v":11.666666666999999},{"$f":"ROUND(AI13-AF13,9)","v":0.66666666699999999},{"$f":"ROUND(AH13-AF13,9)","v":0.66666700000000001},{"$f":"ROUND(AI13-AF13,9)","v":0.66666666699999999},{"$f":"AL13-AK13","v":-3.3300000001901253E-7},{"$f":"ROUNDDOWN(AN12/100,0)","v":11},{"$f":"ROUNDDOWN(AO12/10,0)","v":6},{"$f":"IF(AQ12=0,0,\"\")","v":""},{"$f":"IF(AF12=2,IF(AQ12=0,CONCATENATE(AP12,AP13),AP13),AP12)","v":""}]
[null,null,null,null,null,null,null,null,null,null,null,null,null,null,null,null,null,null,null,null,null,null,null,null,null,null,null,null,null,null,null,null,{"$f":"IF(AH14=\"cm\",\"\",\"\")","v":""},"NIL",null,{"$f":"ROUND(AH12,2)","v":11.67}]
[null,null,{"$f":"D44","v":4}]
[null,null,null,{"$f":"IF($C$15=1,D37,IF($C$15=2,D38,IF($C$15=3,D39,IF($C$15=4,D40,IF($C$15=5,D41,D42)))))","v":1},null,null,null,null,null,null,null,null,null,null,{"$f":"IF($C$15=1,O37,IF($C$15=2,O38,IF($C$15=3,O39,IF($C$15=4,O40,IF($C$15=5,O41,O42)))))","v":"  2.3 × 2  "},{"$f":"IF($C$15=1,P37,IF($C$15=2,P38,IF($C$15=3,P39,IF($C$15=4,P40,IF($C$15=5,P41,P42)))))","v":4.5999999999999996},{"$f":"IF($C$15=1,Q37,IF($C$15=2,Q38,IF($C$15=3,Q39,IF($C$15=4,Q40,IF($C$15=5,Q41,Q42)))))","v":2.4},{"$f":"IF($C$15=1,R37,IF($C$15=2,R38,IF($C$15=3,R39,IF($C$15=4,R40,IF($C$15=5,R41,R42)))))","v":1},null,null,null,null,null,null,null,null,{"$f":"IF($C$15=1,AA37,IF($C$15=2,AA38,IF($C$15=3,AA39,IF($C$15=4,AA40,IF($C$15=5,AA41,AA42)))))","v":"  1 + 2.4  "},{"$f":"IF($C$15=1,AB37,IF($C$15=2,AB38,IF($C$15=3,AB39,IF($C$15=4,AB40,IF($C$15=5,AB41,AB42)))))","v":3.4},{"$f":"IF($C$15=1,AC37,IF($C$15=2,AC38,IF($C$15=3,AC39,IF($C$15=4,AC40,IF($C$15=5,AC41,AC42)))))","v":1.3529411764705881}]
[null,null,null,null,{"$f":"O16","v":"  2.3 × 2  "}]
[null,null,null,null,null,null,null,null,"=",{"$f":"CONCATENATE(ROUND(AC16,8))","v":"1.35294118"},null,null,null,null,null,null,null,null,"=",{"$f":"$AJ18","v":"1.35 (2 d.p.)"},null,null,null,null,null,null,null,null,null,null,null,2,{"$f":"AC16","v":1.3529411764705881},{"$f":"AG18^1","v":1.3529411764705881},{"$f":"CONCATENATE(AG18)","v":"1.35294117647059"},{"$f":"IF(AG18=0,CONCATENATE(\"0\",AG20,\"\"),CONCATENATE(AM18,AL18))","v":"1.35 (2 d.p.)"},{"$f":"CONCATENATE(ROUND(AI19,9))","v":"1.352941176"},{"$f":"IF(AM19=0,CONCATENATE(AG20),CONCATENATE(AQ19,AG20,\" (\",AF18,\" d.p.)\"))","v":" (2 d.p.)"},{"$f":"IF(AM19=0,AH19,AG19)","v":1.35},{"$f":"ROUND(100*AG19,0)","v":135},{"$f":"AN18-AN19*100","v":35},{"$f":"IF(AM19=0,\"\",IF(AO19=0,\".0\",\"\"))","v":""},{"$f":"AN18-AN19*100-AO19*10","v":5}]
[null,null,null,null,{"$f":"AA16","v":"  1 + 2.4  "},null,null,null,null,null,null,null,null,null,null,null,null,null,null,null,null,null,null,null,null,null,null,null,null,null,null,{"$f":"ROUNDDOWN(AH18,0)","v":1},{"$f":"ROUND(AH18,AF18)","v":1.35},{"$f":"ROUND(AH18,6)","v":1.3529409999999999},{"$f":"ROUND(AH18,9)","v":1.3529411760000001},{"$f":"ROUND(AI19-AF19,9)","v":0.35294117600000002},{"$f":"ROUND(AH19-AF19,9)","v":0.352941},{"$f":"ROUND(AI19-AF19,9)","v":0.35294117600000002},{"$f":"AL19-AK19","v":1.7600000001838367E-7},{"$f":"ROUNDDOWN(AN18/100,0)","v":1},{"$f":"ROUNDDOWN(AO18/10,0)","v":3},{"$f":"IF(AQ18=0,0,\"\")","v":""},{"$f":"IF(AF18=2,IF(AQ18=0,CONCATENATE(AP18,AP19),AP19),AP18)","v":""}]
[null,null,null,null,null,null,null,null,null,null,null,null,null,null,null,null,null,null,null,null,null,null,null,null,null,null,null,null,null,null,null,null,{"$f":"IF(AH20=\"cm\",\"\",\"\")","v":""},"NIL",null,{"$f":"ROUND(AH18,2)","v":1.35}]
[null,null,{"$f":"G44","v":6}]
[null,null,null,{"$f":"IF(C21=1,$D$37,IF(C21=2,$D$38,IF(C21=3,$D$39,IF(C21=4,$D$40,IF(C21=5,$D$41,$D$42)))))","v":1},null,null,null,null,null,null,null,null,null,null,{"$f":"IF(C21=1,O37,IF(C21=2,O38,IF(C21=3,O39,IF(C21=4,O40,IF(C21=5,O41,O42)))))","v":"  7.2 − 4  "},{"$f":"IF(C21=1,P37,IF(C21=2,P38,IF(C21=3,P39,IF(C21=4,P40,IF(C21=5,P41,P42)))))","v":3.2},{"$f":"IF(C21=1,Q37,IF(C21=2,Q38,IF(C21=3,Q39,IF(C21=4,Q40,IF(C21=5,Q41,Q42)))))","v":8.6999999999999993},{"$f":"IF(C21=1,R37,IF(C21=2,R38,IF(C21=3,R39,IF(C21=4,R40,IF(C21=5,R41,R42)))))","v":1},null,null,null,null,null,null,null,null,{"$f":"IF(C21=1,AA37,IF(C21=2,AA38,IF(C21=3,AA39,IF(C21=4,AA40,IF(C21=5,AA41,AA42)))))","v":"  2 × 8.7  "},{"$f":"IF($C$21=1,AB37,IF($C$21=2,AB38,IF($C$21=3,AB39,IF($C$21=4,AB40,IF($C$21=5,AB41,AB42)))))","v":17.399999999999999},{"$f":"IF($C$21=1,AC37,IF($C$21=2,AC38,IF($C$21=3,AC39,IF($C$21=4,AC40,IF($C$21=5,AC41,AC42)))))","v":0.18390804597701152}]
[null,null,null,null,{"$f":"O22","v":"  7.2 − 4  "}]
[null,null,null,null,null,null,null,null,"=",{"$f":"CONCATENATE(ROUND(AC22,8))","v":"0.18390805"},null,null,null,null,null,null,null,null,"=",{"$f":"$AJ24","v":"0.18 (2 d.p.)"},null,null,null,null,null,null,null,null,null,null,null,2,{"$f":"AC22","v":0.18390804597701152},{"$f":"AG24^1","v":0.18390804597701152},{"$f":"CONCATENATE(AG24)","v":"0.183908045977012"},{"$f":"IF(AG24=0,CONCATENATE(\"0\",AG26,\"\"),CONCATENATE(AM24,AL24))","v":"0.18 (2 d.p.)"},{"$f":"CONCATENATE(ROUND(AI25,9))","v":"0.183908046"},{"$f":"IF(AM25=0,CONCATENATE(AG26),CONCATENATE(AQ25,AG26,\" (\",AF24,\" d.p.)\"))","v":" (2 d.p.)"},{"$f":"IF(AM25=0,AH25,AG25)","v":0.18},{"$f":"ROUND(100*AG25,0)","v":18},{"$f":"AN24-AN25*100","v":18},{"$f":"IF(AM25=0,\"\",IF(AO25=0,\".0\",\"\"))","v":""},{"$f":"AN24-AN25*100-AO25*10","v":8}]
[null,null,null,null,{"$f":"AA22","v":"  2 × 8.7  "},null,null,null,null,null,null,null,null,null,null,null,null,null,null,null,null,null,null,null,null,null,null,null,null,null,null,{"$f":"ROUNDDOWN(AH24,0)","v":0},{"$f":"ROUND(AH24,AF24)","v":0.18},{"$f":"ROUND(AH24,6)","v":0.18390799999999999},{"$f":"ROUND(AH24,9)","v":0.18390804599999999},{"$f":"ROUND(AI25-AF25,9)","v":0.18390804599999999},{"$f":"ROUND(AH25-AF25,9)","v":0.18390799999999999},{"$f":"ROUND(AI25-AF25,9)","v":0.18390804599999999},{"$f":"AL25-AK25","v":4.6000000003543207E-8},{"$f":"ROUNDDOWN(AN24/100,0)","v":0},{"$f":"ROUNDDOWN(AO24/10,0)","v":1},{"$f":"IF(AQ24=0,0,\"\")","v":""},{"$f":"IF(AF24=2,IF(AQ24=0,CONCATENATE(AP24,AP25),AP25),AP24)","v":""}]
[null,null,null,null,null,null,null,null,null,null,null,null,null,null,null,null,null,null,null,null,null,null,null,null,null,null,null,null,null,null,null,null,{"$f":"IF(AH26=\"cm\",\"\",\"\")","v":""},"NIL",null,{"$f":"ROUND(AH24,2)","v":0.18}]
[]
[]
[]
[]
[null,null,1,1,{"$f":"IF(RAND()>0.5,INT(999*RAND())+1,INT(99*RAND())+1)","v":26},{"$f":"IF(E31>99,10,IF(RAND()>0.5,10,1))","v":1},{"$f":"E31/F31","v":26},{"$f":"IF(M31<1,1,IF(RAND()>0.5,1,-1))","v":-1},{"$f":"IF(H31=1,\" + \",\" − \")","v":" − "},{"$f":"IF(E31>99,INT(9*RAND())+1,INT(99*RAND())+1)","v":31},{"$f":"IF(E31>99,1,IF(RAND()>0.5,10,1))","v":10},{"$f":"J31/K31","v":3.1},{"$f":"ABS(L31-G31)","v":22.9},{"$f":"IF(L31>G31,0,1)","v":1},{"$f":"IF(N31=0,CONCATENATE(\"  \",L31,I31,G31,\"  \"),CONCATENATE(\"  \",G31,I31,L31,\"  \"))","v":"  26 − 3.1  "},{"$f":"IF(N31=0,L31+H31*G31,G31+H31*L31)","v":22.9},{"$f":"IF(RAND()>0.5,INT(999*RAND())+1,INT(99*RAND())+1)","v":35},{"$f":"IF(Q31>99,10,IF(RAND()>0.5,10,1))","v":1},{"$f":"Q31/R31","v":35},{"$f":"IF(Y31<1,1,IF(RAND()>0.5,1,-1))","v":-1},{"$f":"IF(T31=1,\" + \",\" − \")","v":" − "},{"$f":"IF(Q31>99,INT(9*RAND())+1,INT(99*RAND())+1)","v":60},{"$f":"IF(Q31>99,1,IF(RAND()>0.5,10,1))","v":10},{"$f":"V31/W31","v":6},{"$f":"ABS(X31-S31)","v":29},{"$f":"IF(X31>S31,0,1)","v":1},{"$f":"IF(Z31=0,CONCATENATE(X31,U31,S31),CONCATENATE(S31,U31,X31))","v":"35 − 6"},{"$f":"IF(Z31=0,X31+T31*S31,S31+T31*X31)","v":29},{"$f":"(P31/AB31)^(1/C31)","v":0.78965517241379302}]
[null,null,1,1,{"$f":"0.1*(INT(9*RAND())+1)+1*(INT(9*RAND())+1)","v":4.5999999999999996},{"$f":"0.1*(INT(9*RAND())+1)+1*(INT(9*RAND())+1)","v":6.6},null,null,null,null,null,null,null,null,{"$f":"CONCATENATE(\" \",E32,\" × \",F32,\" \")","v":" 4.6 × 6.6 "},{"$f":"E32*F32","v":30.359999999999996},{"$f":"IF(RAND()>0.5,INT(999*RAND())+1,INT(99*RAND())+1)","v":690},{"$f":"IF(Q32>99,10,IF(RAND()>0.5,10,1))","v":10},{"$f":"Q32/R32","v":69},{"$f":"IF(Y32<1,1,IF(RAND()>0.5,1,-1))","v":1},{"$f":"IF(T32=1,\" + \",\" − \")","v":" + "},{"$f":"IF(Q32>99,INT(9*RAND())+1,INT(99*RAND())+1)","v":2},{"$f":"IF(Q32>99,1,IF(RAND()>0.5,10,1))","v":1},{"$f":"V32/W32","v":2},{"$f":"ABS(X32-S32)","v":67},{"$f":"IF(X32>S32,0,1)","v":1},{"$f":"IF(Z32=0,CONCATENATE(X32,U32,S32),CONCATENATE(S32,U32,X32))","v":"69 + 2"},{"$f":"IF(Z32=0,X32+T32*S32,S32+T32*X32)","v":71},{"$f":"(P32/AB32)^(1/C32)","v":0.42760563380281685}]
[null,null,1,1,{"$f":"0.1*(INT(9*RAND())+1)+1*(INT(9*RAND())+1)","v":5.2},{"$f":"0.1*(INT(9*RAND())+1)+1*(INT(9*RAND())+1)","v":1.4},null,null,null,null,null,null,null,null,{"$f":"CONCATENATE(\" \",E33,\" × \",F33,\" \")","v":" 5.2 × 1.4 "},{"$f":"E33*F33","v":7.2799999999999994},{"$f":"0.1*(INT(9*RAND())+1)+1*(INT(9*RAND())+1)","v":5.0999999999999996},{"$f":"0.1*(INT(9*RAND())+1)+1*(INT(9*RAND())+1)","v":1.5},null,null,null,null,null,null,null,null,{"$f":"CONCATENATE(Q33,\" × \",R33)","v":"5.1 × 1.5"},{"$f":"Q33*R33","v":7.6499999999999995},{"$f":"(P33/AB33)^(1/C33)","v":0.95163398692810452}]
[null,null,1,1,{"$f":"IF(RAND()>0.5,INT(999*RAND())+1,INT(99*RAND())+1)","v":54},{"$f":"IF(E34>99,10,IF(RAND()>0.5,10,1))","v":1},{"$f":"E34/F34","v":54},{"$f":"IF(M34<1,1,IF(RAND()>0.5,1,-1))","v":1},{"$f":"IF(H34=1,\" + \",\" − \")","v":" + "},{"$f":"IF(E34>99,INT(9*RAND())+1,INT(99*RAND())+1)","v":10},{"$f":"IF(E34>99,1,IF(RAND()>0.5,10,1))","v":1},{"$f":"J34/K34","v":10},{"$f":"ABS(L34-G34)","v":44},{"$f":"IF(L34>G34,0,1)","v":1},{"$f":"IF(N34=0,CONCATENATE(\"  \",L34,I34,G34,\"  \"),CONCATENATE(\"  \",G34,I34,L34,\"  \"))","v":"  54 + 10  "},{"$f":"IF(N34=0,L34+H34*G34,G34+H34*L34)","v":64},{"$f":"0.1*(INT(9*RAND())+1)+1*(INT(9*RAND())+1)","v":6.5},{"$f":"0.1*(INT(9*RAND())+1)+1*(INT(9*RAND())+1)","v":8.1999999999999993},null,null,null,null,null,null,null,null,{"$f":"CONCATENATE(Q34,\" × \",R34)","v":"6.5 × 8.2"},{"$f":"Q34*R34","v":53.3},{"$f":"(P34/AB34)^(1/C34)","v":1.2007504690431521}]
[]
[]
[null,null,1,1,{"$f":"0.1*(INT(9*RAND())+1)+1*(INT(8*RAND())+2)","v":5.6},1,"",{"$f":"IF(RAND()>0.5,1,-1)","v":1},{"$f":"IF(H37=1,\" + \",\" − \")","v":" + "},{"$f":"E37^F37","v":5.6},{"$f":"IF(J37>11,9,ROUNDDOWN(J37,0)-1)","v":4},{"$f":"INT(K37*RAND())+1","v":1},null,{"$f":"IF(RAND()>0.5,1,-1)","v":1},{"$f":"IF(H37=-1,CONCATENATE(\"  \",E37,G37,I37,L37,\"  \"),IF(N37=1,CONCATENATE(\"  \",E37,G37,I37,L37,\"  \"),CONCATENATE(\"  \",L37,I37,E37,G37,\"  \")))","v":"  5.6 + 1  "},{"$f":"E37^F37+H37*L37","v":6.6},{"$f":"IF(RAND()>0.5,INT(999*RAND())+1,INT(99*RAND())+1)","v":79},{"$f":"IF(Q37>99,10,IF(RAND()>0.5,10,1))","v":1},{"$f":"Q37/R37","v":79},{"$f":"IF(Y37<1,1,IF(RAND()>0.5,1,-1))","v":1},{"$f":"IF(T37=1,\" + \",\" − \")","v":" + "},{"$f":"IF(Q37>99,INT(9*RAND())+1,INT(99*RAND())+1)","v":91},{"$f":"IF(Q37>99,1,IF(RAND()>0.5,10,1))","v":1},{"$f":"V37/W37","v":91},{"$f":"ABS(X37-S37)","v":12},{"$f":"IF(X37>S37,0,1)","v":0},{"$f":"IF(Z37=0,CONCATENATE(X37,U37,S37),CONCATENATE(S37,U37,X37))","v":"91 + 79"},{"$f":"IF(Z37=0,X37+T37*S37,S37+T37*X37)","v":170},{"$f":"(P37/AB37)^(1/C37)","v":3.8823529411764701E-2}]
[null,null,1,1,{"$f":"0.1*(INT(9*RAND())+1)+1*(INT(8*RAND())+2)","v":5.9},1,"",{"$f":"IF(RAND()>0.5,1,-1)","v":-1},{"$f":"IF(H38=1,\" + \",\" − \")","v":" − "},{"$f":"E38^F38","v":5.9},{"$f":"IF(J38>11,9,ROUNDDOWN(J38,0)-1)","v":4},{"$f":"INT(K38*RAND())+1","v":1},null,{"$f":"IF(RAND()>0.5,1,-1)","v":1},{"$f":"IF(H38=-1,CONCATENATE(\"  \",E38,G38,I38,L38,\"  \"),IF(N38=1,CONCATENATE(\"  \",E38,G38,I38,L38,\"  \"),CONCATENATE(\"  \",L38,I38,E38,G38,\"  \")))","v":"  5.9 − 1  "},{"$f":"E38^F38+H38*L38","v":4.9000000000000004},{"$f":"0.1*(INT(9*RAND())+1)+1*(INT(8*RAND())+2)","v":3.3},1,"",{"$f":"IF(RAND()>0.5,1,-1)","v":1},{"$f":"IF(T38=1,\" + \",\" − \")","v":" + "},{"$f":"Q38^R38","v":3.3},{"$f":"IF(V38>11,9,ROUNDDOWN(V38,0)-1)","v":2},{"$f":"INT(W38*RAND())+1","v":2},null,{"$f":"IF(RAND()>0.5,1,-1)","v":1},{"$f":"IF(T38=-1,CONCATENATE(\"  \",Q38,S38,U38,X38,\"  \"),IF(Z38=1,CONCATENATE(\"  \",Q38,S38,U38,X38,\"  \"),CONCATENATE(\"  \",X38,U38,Q38,S38,\"  \")))","v":"  3.3 + 2  "},{"$f":"Q38^R38+T38*X38","v":5.3},0.92452830188679258]
[null,null,1,1,{"$f":"IF(RAND()>0.5,INT(999*RAND())+1,INT(99*RAND())+1)","v":483},{"$f":"IF(E39>99,10,IF(RAND()>0.5,10,1))","v":10},{"$f":"E39/F39","v":48.3},{"$f":"IF(M39<1,1,IF(RAND()>0.5,1,-1))","v":1},{"$f":"IF(H39=1,\" + \",\" − \")","v":" + "},{"$f":"IF(E39>99,INT(9*RAND())+1,INT(99*RAND())+1)","v":9},{"$f":"IF(E39>99,1,IF(RAND()>0.5,10,1))","v":1},{"$f":"J39/K39","v":9},{"$f":"ABS(L39-G39)","v":39.299999999999997},{"$f":"IF(L39>G39,0,1)","v":1},{"$f":"IF(N39=0,CONCATENATE(\"  \",L39,I39,G39,\"  \"),CONCATENATE(\"  \",G39,I39,L39,\"  \"))","v":"  48.3 + 9  "},{"$f":"IF(N39=0,L39+H39*G39,G39+H39*L39)","v":57.3},{"$f":"0.1*(INT(9*RAND())+1)+1*(INT(8*RAND())+2)","v":5.4},1,"",{"$f":"IF(RAND()>0.5,1,-1)","v":1},{"$f":"IF(T39=1,\" + \",\" − \")","v":" + "},{"$f":"Q39^R39","v":5.4},{"$f":"IF(V39>11,9,ROUNDDOWN(V39,0)-1)","v":4},{"$f":"INT(W39*RAND())+1","v":3},null,{"$f":"IF(RAND()>0.5,1,-1)","v":-1},{"$f":"IF(T39=-1,CONCATENATE(\"  \",Q39,S39,U39,X39,\"  \"),IF(Z39=1,CONCATENATE(\"  \",Q39,S39,U39,X39,\"  \"),CONCATENATE(\"  \",X39,U39,Q39,S39,\"  \")))","v":"  3 + 5.4  "},{"$f":"Q39^R39+T39*X39","v":8.4},6.8214285714285712]
[null,null,1,1,{"$f":"0.1*(INT(9*RAND())+1)+1*(INT(8*RAND())+2)","v":2.2999999999999998},1,"",1," × ",{"$f":"E40^F40","v":2.2999999999999998},{"$f":"IF(J40>11,9,ROUNDDOWN(J40,0)-1)","v":1},{"$f":"INT((K40-1)*RAND())+2","v":2},null,{"$f":"IF(RAND()>0.5,1,-1)","v":1},{"$f":"IF(H40=-1,CONCATENATE(\"  \",E40,G40,I40,L40,\"  \"),IF(N40=1,CONCATENATE(\"  \",E40,G40,I40,L40,\"  \"),CONCATENATE(\"  \",L40,I40,E40,G40,\"  \")))","v":"  2.3 × 2  "},{"$f":"E40^F40*H40*L40","v":4.5999999999999996},{"$f":"0.1*(INT(9*RAND())+1)+1*(INT(8*RAND())+2)","v":2.4},1,"",{"$f":"IF(RAND()>0.5,1,-1)","v":1},{"$f":"IF(T40=1,\" + \",\" − \")","v":" + "},{"$f":"Q40^R40","v":2.4},{"$f":"IF(V40>11,9,ROUNDDOWN(V40,0)-1)","v":1},{"$f":"INT(W40*RAND())+1","v":1},null,{"$f":"IF(RAND()>0.5,1,-1)","v":-1},{"$f":"IF(T40=-1,CONCATENATE(\"  \",Q40,S40,U40,X40,\"  \"),IF(Z40=1,CONCATENATE(\"  \",Q40,S40,U40,X40,\"  \"),CONCATENATE(\"  \",X40,U40,Q40,S40,\"  \")))","v":"  1 + 2.4  "},{"$f":"Q40^R40+T40*X40","v":3.4},1.3529411764705881]
[null,null,1,1,{"$f":"0.1*(INT(9*RAND())+1)+1*(INT(8*RAND())+2)","v":2.7},1,"",1," × ",{"$f":"E41^F41","v":2.7},{"$f":"IF(J41>11,9,ROUNDDOWN(J41,0)-1)","v":1},{"$f":"INT((K41-1)*RAND())+2","v":2},null,{"$f":"IF(RAND()>0.5,1,-1)","v":1},{"$f":"IF(H41=-1,CONCATENATE(\"  \",E41,G41,I41,L41,\"  \"),IF(N41=1,CONCATENATE(\"  \",E41,G41,I41,L41,\"  \"),CONCATENATE(\"  \",L41,I41,E41,G41,\"  \")))","v":"  2.7 × 2  "},{"$f":"E41^F41*H41*L41","v":5.4},{"$f":"0.1*(INT(9*RAND())+1)+1*(INT(8*RAND())+2)","v":6.8},1,"",1," × ",{"$f":"Q41^R41","v":6.8},{"$f":"IF(V41>11,9,ROUNDDOWN(V41,0)-1)","v":5},{"$f":"INT((W41-1)*RAND())+2","v":3},null,{"$f":"IF(RAND()>0.5,1,-1)","v":-1},{"$f":"IF(T41=-1,CONCATENATE(\"  \",Q41,S41,U41,X41,\"  \"),IF(Z41=1,CONCATENATE(\"  \",Q41,S41,U41,X41,\"  \"),CONCATENATE(\"  \",X41,U41,Q41,S41,\"  \")))","v":"  3 × 6.8  "},{"$f":"Q41^R41*T41*X41","v":20.399999999999999},0.26470588235294124]
[null,null,1,1,{"$f":"0.1*(INT(9*RAND())+1)+1*(INT(8*RAND())+2)","v":7.2},1,"",{"$f":"IF(RAND()>0.5,1,-1)","v":-1},{"$f":"IF(H42=1,\" + \",\" − \")","v":" − "},{"$f":"E42^F42","v":7.2},{"$f":"IF(J42>11,9,ROUNDDOWN(J42,0)-1)","v":6},{"$f":"INT(K42*RAND())+1","v":4},null,{"$f":"IF(RAND()>0.5,1,-1)","v":1},{"$f":"IF(H42=-1,CONCATENATE(\"  \",E42,G42,I42,L42,\"  \"),IF(N42=1,CONCATENATE(\"  \",E42,G42,I42,L42,\"  \"),CONCATENATE(\"  \",L42,I42,E42,G42,\"  \")))","v":"  7.2 − 4  "},{"$f":"E42^F42+H42*L42","v":3.2},{"$f":"0.1*(INT(9*RAND())+1)+1*(INT(8*RAND())+2)","v":8.6999999999999993},1,"",1," × ",{"$f":"Q42^R42","v":8.6999999999999993},{"$f":"IF(V42>11,9,ROUNDDOWN(V42,0)-1)","v":7},{"$f":"INT((W42-1)*RAND())+2","v":2},null,{"$f":"IF(RAND()>0.5,1,-1)","v":-1},{"$f":"IF(T42=-1,CONCATENATE(\"  \",Q42,S42,U42,X42,\"  \"),IF(Z42=1,CONCATENATE(\"  \",Q42,S42,U42,X42,\"  \"),CONCATENATE(\"  \",X42,U42,Q42,S42,\"  \")))","v":"  2 × 8.7  "},{"$f":"Q42^R42*T42*X42","v":17.399999999999999},0.18390804597701152]
[]
[null,null,6,{"$f":"1*(INT(C44*RAND())+1)","v":4},{"$f":"1*(INT((C44-1)*RAND())+1)","v":2},{"$f":"E44+D44","v":6},{"$f":"MOD(F44-1,C44)+1","v":6}]

{"sheet":"FPODEC+VE","index":23,"n_rows":44,"n_cols":43,"rows_kept":44,"cut":false,"hidden":false,"merged":[[11,19,12,27],[5,19,6,27],[6,6,7,7],[4,6,5,7],[5,8,6,8],[12,6,13,7],[11,8,12,8],[10,6,11,7],[11,9,12,17],[5,18,6,18],[11,18,12,18],[5,9,6,17],[4,2,7,5],[10,2,13,5],[17,18,18,18],[17,19,18,27],[23,18,24,18],[23,19,24,27],[22,2,25,3],[16,2,19,3],[23,9,24,17],[17,9,18,17],[18,4,19,7],[16,4,17,7],[22,4,23,7],[17,8,18,8],[23,8,24,8],[24,4,25,7]]}
[]
[null,null,{"$f":"RFPDEPOSVE!C2","v":"Evaluate each expression using a calculator."},null,null,null,null,null,null,null,null,null,null,null,null,null,null,null,null,null,null,null,null,null,null,null,null,null,null,null,null,null,null,"x","x","x"]
[null,null,{"$f":"RFPDEPOSVE!C3","v":"Round to 2 d.p. when necessary."}]
[null,{"$f":"INT(9*RAND())+1+0.1*(INT(9*RAND())+1)","v":5.6},{"$f":"IF(RAND()>0.5,0,B4)","v":0},{"$f":"IF(C4=0,0,IF(RAND()>0.5,1,-1))","v":0},{"$f":"IF(D4=1,\"+\",IF(D4=0,\"\",\"−\"))","v":""},1,{"$f":"IF(F4=2,\"\",3)","v":3},{"$f":"IF(RAND()>0.5,100*(INT(9*RAND())+1)+10*(INT(9*RAND())+1)+INT(9*RAND())+1,10*(INT(9*RAND())+1)+INT(9*RAND())+1)","v":775},{"$f":"IF(RAND()>0.5,10,1)","v":1},{"$f":"H4/I4","v":775},{"$f":"0.1*(INT(9*RAND())+1)+1*(INT(9*RAND())+1)","v":9.8000000000000007},{"$f":"RAND()","v":0.85332575027297297},{"$f":"IF(L4>0.5,2,3)","v":2},{"$f":"IF(M4=1,\"\",IF(M4=2,\"²\",\"³\"))","v":"²"},{"$f":"IF(D4=-1,C4-1*(((K4^M4)/J4)^(1/F4)),C4+1*(((K4^M4)/J4)^(1/F4)))","v":0.12392258064516132},{"$f":"RAND()","v":0.44331052231006418}]
[null,null,{"$f":"IF(C4=0,\"\",CONCATENATE(C4,\" \",E4,\" \"))","v":""},null,null,null,{"$f":"CONCATENATE(\" \",K4,N4,\"\")","v":" 9.8²"}]
[null,null,null,null,null,null,null,null,"=",{"$f":"CONCATENATE(IF(ROUND(O4,8)<0,\"−\",\"\"),ABS(ROUND(O4,8)))","v":"0.12392258"},null,null,null,null,null,null,null,null,"=",{"$f":"CONCATENATE(IF(O4<0,\"−\",\"\"),AJ6)","v":"0.12 (2 d.p.)"},null,null,null,null,null,null,null,null,null,null,null,2,{"$f":"ABS(O4)","v":0.12392258064516132},{"$f":"AG6^1","v":0.12392258064516132},{"$f":"CONCATENATE(AG6)","v":"0.123922580645161"},{"$f":"IF(AG6=0,CONCATENATE(\"0\",AG8,\"\"),CONCATENATE(AM6,AL6))","v":"0.12 (2 d.p.)"},{"$f":"CONCATENATE(ROUND(AI7,9))","v":"0.123922581"},{"$f":"IF(AM7=0,CONCATENATE(AG8),CONCATENATE(AQ7,AG8,\" (\",AF6,\" d.p.)\"))","v":" (2 d.p.)"},{"$f":"IF(AM7=0,AH7,AG7)","v":0.12},{"$f":"ROUND(100*AG7,0)","v":12},{"$f":"AN6-AN7*100","v":12},{"$f":"IF(AM7=0,\"\",IF(AO7=0,\".0\",\"\"))","v":""},{"$f":"AN6-AN7*100-AO7*10","v":2}]
[null,null,null,null,null,null,{"$f":"CONCATENATE(\" \",J4,\" \")","v":" 775 "},null,null,null,null,null,null,null,null,null,null,null,null,null,null,null,null,null,null,null,null,null,null,null,null,{"$f":"ROUNDDOWN(AH6,0)","v":0},{"$f":"ROUND(AH6,AF6)","v":0.12},{"$f":"ROUND(AH6,6)","v":0.12392300000000001},{"$f":"ROUND(AH6,9)","v":0.123922581},{"$f":"ROUND(AI7-AF7,9)","v":0.123922581},{"$f":"ROUND(AH7-AF7,9)","v":0.12392300000000001},{"$f":"ROUND(AI7-AF7,9)","v":0.123922581},{"$f":"AL7-AK7","v":-4.190000000015015E-7},{"$f":"ROUNDDOWN(AN6/100,0)","v":0},{"$f":"ROUNDDOWN(AO6/10,0)","v":1},{"$f":"IF(AQ6=0,0,\"\")","v":""},{"$f":"IF(AF6=2,IF(AQ6=0,CONCATENATE(AP6,AP7),AP7),AP6)","v":""}]
[null,null,null,null,null,null,null,null,null,null,null,null,null,null,null,null,null,null,null,null,null,null,null,null,null,null,null,null,null,null,null,null,{"$f":"IF(AH8=\"cm\",\"\",\"\")","v":""},"NIL",null,{"$f":"ROUND(AH6,2)","v":0.12}]
[]
[null,{"$f":"INT(9*RAND())+1+0.1*(INT(9*RAND())+1)","v":4.5999999999999996},{"$f":"IF(RAND()>0.5,0,B10)","v":0},{"$f":"IF(C10=0,0,IF(RAND()>0.5,1,-1))","v":0},{"$f":"IF(D10=1,\"+\",IF(D10=0,\"\",\"−\"))","v":""},1,{"$f":"IF(F10=2,\"\",3)","v":3},{"$f":"IF(RAND()>0.5,100*(INT(9*RAND())+1)+10*(INT(9*RAND())+1)+INT(9*RAND())+1,10*(INT(9*RAND())+1)+INT(9*RAND())+1)","v":271},{"$f":"IF(RAND()>0.5,10,1)","v":10},{"$f":"H10/I10","v":27.1},{"$f":"0.1*(INT(9*RAND())+1)+1*(INT(9*RAND())+1)","v":6.6},{"$f":"RAND()","v":0.75780333376320563},{"$f":"IF(L10>0.5,2,3)","v":2},{"$f":"IF(M10=1,\"\",IF(M10=2,\"²\",\"³\"))","v":"²"},{"$f":"IF(D10=-1,C10-1*((J10/(K10^M10))^(1/F10)),C10+1*((J10/(K10^M10))^(1/F10)))","v":0.62213039485766763},{"$f":"RAND()","v":0.29684882135821433}]
[null,null,{"$f":"IF(C10=0,\"\",CONCATENATE(C10,\" \",E10,\" \"))","v":""},null,null,null,{"$f":"CONCATENATE(\" \",J10,\" \")","v":" 27.1 "}]
[null,null,null,null,null,null,null,null,"=",{"$f":"CONCATENATE(IF(ROUND(O10,8)<0,\"−\",\"\"),ABS(ROUND(O10,8)))","v":"0.62213039"},null,null,null,null,null,null,null,null,"=",{"$f":"CONCATENATE(IF(O10<0,\"−\",\"\"),AJ12)","v":"0.62 (2 d.p.)"},null,null,null,null,null,null,null,null,null,null,null,2,{"$f":"ABS(O10)","v":0.62213039485766763},{"$f":"AG12^1","v":0.62213039485766763},{"$f":"CONCATENATE(AG12)","v":"0.622130394857668"},{"$f":"IF(AG12=0,CONCATENATE(\"0\",AG14,\"\"),CONCATENATE(AM12,AL12))","v":"0.62 (2 d.p.)"},{"$f":"CONCATENATE(ROUND(AI13,9))","v":"0.622130395"},{"$f":"IF(AM13=0,CONCATENATE(AG14),CONCATENATE(AQ13,AG14,\" (\",AF12,\" d.p.)\"))","v":" (2 d.p.)"},{"$f":"IF(AM13=0,AH13,AG13)","v":0.62},{"$f":"ROUND(100*AG13,0)","v":62},{"$f":"AN12-AN13*100","v":62},{"$f":"IF(AM13=0,\"\",IF(AO13=0,\".0\",\"\"))","v":""},{"$f":"AN12-AN13*100-AO13*10","v":2}]
[null,null,null,null,null,null,{"$f":"CONCATENATE(K10,N10)","v":"6.6²"},null,null,null,null,null,null,null,null,null,null,null,null,null,null,null,null,null,null,null,null,null,null,null,null,{"$f":"ROUNDDOWN(AH12,0)","v":0},{"$f":"ROUND(AH12,AF12)","v":0.62},{"$f":"ROUND(AH12,6)","v":0.62212999999999996},{"$f":"ROUND(AH12,9)","v":0.622130395},{"$f":"ROUND(AI13-AF13,9)","v":0.622130395},{"$f":"ROUND(AH13-AF13,9)","v":0.62212999999999996},{"$f":"ROUND(AI13-AF13,9)","v":0.622130395},{"$f":"AL13-AK13","v":3.9500000004188962E-7},{"$f":"ROUNDDOWN(AN12/100,0)","v":0},{"$f":"ROUNDDOWN(AO12/10,0)","v":6},{"$f":"IF(AQ12=0,0,\"\")","v":""},{"$f":"IF(AF12=2,IF(AQ12=0,CONCATENATE(AP12,AP13),AP13),AP12)","v":""}]
[null,null,null,null,null,null,null,null,null,null,null,null,null,null,null,null,null,null,null,null,null,null,null,null,null,null,null,null,null,null,null,null,{"$f":"IF(AH14=\"cm\",\"\",\"\")","v":""},"NIL",null,{"$f":"ROUND(AH12,2)","v":0.62}]
[null,null,{"$f":"D44","v":2}]
[null,null,null,{"$f":"IF($C$15=1,D37,IF($C$15=2,D38,IF($C$15=3,D39,IF($C$15=4,D40,IF($C$15=5,D41,D42)))))","v":1},null,null,null,null,null,null,null,null,null,null,{"$f":"IF($C$15=1,O37,IF($C$15=2,O38,IF($C$15=3,O39,IF($C$15=4,O40,IF($C$15=5,O41,O42)))))","v":"  9.6³ − 9  "},{"$f":"IF($C$15=1,P37,IF($C$15=2,P38,IF($C$15=3,P39,IF($C$15=4,P40,IF($C$15=5,P41,P42)))))","v":875.73599999999999},{"$f":"IF($C$15=1,Q37,IF($C$15=2,Q38,IF($C$15=3,Q39,IF($C$15=4,Q40,IF($C$15=5,Q41,Q42)))))","v":2.5},{"$f":"IF($C$15=1,R37,IF($C$15=2,R38,IF($C$15=3,R39,IF($C$15=4,R40,IF($C$15=5,R41,R42)))))","v":3},null,null,null,null,null,null,null,null,{"$f":"IF($C$15=1,AA37,IF($C$15=2,AA38,IF($C$15=3,AA39,IF($C$15=4,AA40,IF($C$15=5,AA41,AA42)))))","v":"  6 + 2.5³  "},{"$f":"IF($C$15=1,AB37,IF($C$15=2,AB38,IF($C$15=3,AB39,IF($C$15=4,AB40,IF($C$15=5,AB41,AB42)))))","v":21.625},{"$f":"IF($C$15=1,AC37,IF($C$15=2,AC38,IF($C$15=3,AC39,IF($C$15=4,AC40,IF($C$15=5,AC41,AC42)))))","v":40.496462427745662}]
[null,null,null,null,{"$f":"O16","v":"  9.6³ − 9  "}]
[null,null,null,null,null,null,null,null,"=",{"$f":"CONCATENATE(ROUND(AC16,8))","v":"40.49646243"},null,null,null,null,null,null,null,null,"=",{"$f":"$AJ18","v":"40.50 (2 d.p.)"},null,null,null,null,null,null,null,null,null,null,null,2,{"$f":"AC16","v":40.496462427745662},{"$f":"AG18^1","v":40.496462427745662},{"$f":"CONCATENATE(AG18)","v":"40.4964624277457"},{"$f":"IF(AG18=0,CONCATENATE(\"0\",AG20,\"\"),CONCATENATE(AM18,AL18))","v":"40.50 (2 d.p.)"},{"$f":"CONCATENATE(ROUND(AI19,9))","v":"40.496462428"},{"$f":"IF(AM19=0,CONCATENATE(AG20),CONCATENATE(AQ19,AG20,\" (\",AF18,\" d.p.)\"))","v":"0 (2 d.p.)"},{"$f":"IF(AM19=0,AH19,AG19)","v":40.5},{"$f":"ROUND(100*AG19,0)","v":4050},{"$f":"AN18-AN19*100","v":50},{"$f":"IF(AM19=0,\"\",IF(AO19=0,\".0\",\"\"))","v":""},{"$f":"AN18-AN19*100-AO19*10","v":0}]
[null,null,null,null,{"$f":"AA16","v":"  6 + 2.5³  "},null,null,null,null,null,null,null,null,null,null,null,null,null,null,null,null,null,null,null,null,null,null,null,null,null,null,{"$f":"ROUNDDOWN(AH18,0)","v":40},{"$f":"ROUND(AH18,AF18)","v":40.5},{"$f":"ROUND(AH18,6)","v":40.496462000000001},{"$f":"ROUND(AH18,9)","v":40.496462428000001},{"$f":"ROUND(AI19-AF19,9)","v":0.49646242800000001},{"$f":"ROUND(AH19-AF19,9)","v":0.49646200000000001},{"$f":"ROUND(AI19-AF19,9)","v":0.49646242800000001},{"$f":"AL19-AK19","v":4.279999999967643E-7},{"$f":"ROUNDDOWN(AN18/100,0)","v":40},{"$f":"ROUNDDOWN(AO18/10,0)","v":5},{"$f":"IF(AQ18=0,0,\"\")","v":0},{"$f":"IF(AF18=2,IF(AQ18=0,CONCATENATE(AP18,AP19),AP19),AP18)","v":"0"}]
[null,null,null,null,null,null,null,null,null,null,null,null,null,null,null,null,null,null,null,null,null,null,null,null,null,null,null,null,null,null,null,null,{"$f":"IF(AH20=\"cm\",\"\",\"\")","v":""},"NIL",null,{"$f":"ROUND(AH18,2)","v":40.5}]
[null,null,{"$f":"G44","v":4}]
[null,null,null,{"$f":"IF(C21=1,$D$37,IF(C21=2,$D$38,IF(C21=3,$D$39,IF(C21=4,$D$40,IF(C21=5,$D$41,$D$42)))))","v":1},null,null,null,null,null,null,null,null,null,null,{"$f":"IF(C21=1,O37,IF(C21=2,O38,IF(C21=3,O39,IF(C21=4,O40,IF(C21=5,O41,O42)))))","v":"  5.7² × 2  "},{"$f":"IF(C21=1,P37,IF(C21=2,P38,IF(C21=3,P39,IF(C21=4,P40,IF(C21=5,P41,P42)))))","v":64.98},{"$f":"IF(C21=1,Q37,IF(C21=2,Q38,IF(C21=3,Q39,IF(C21=4,Q40,IF(C21=5,Q41,Q42)))))","v":8.3000000000000007},{"$f":"IF(C21=1,R37,IF(C21=2,R38,IF(C21=3,R39,IF(C21=4,R40,IF(C21=5,R41,R42)))))","v":2},null,null,null,null,null,null,null,null,{"$f":"IF(C21=1,AA37,IF(C21=2,AA38,IF(C21=3,AA39,IF(C21=4,AA40,IF(C21=5,AA41,AA42)))))","v":"  8.3² + 6  "},{"$f":"IF($C$21=1,AB37,IF($C$21=2,AB38,IF($C$21=3,AB39,IF($C$21=4,AB40,IF($C$21=5,AB41,AB42)))))","v":74.890000000000015},{"$f":"IF($C$21=1,AC37,IF($C$21=2,AC38,IF($C$21=3,AC39,IF($C$21=4,AC40,IF($C$21=5,AC41,AC42)))))","v":0.86767258646014145}]
[null,null,null,null,{"$f":"O22","v":"  5.7² × 2  "}]
[null,null,null,null,null,null,null,null,"=",{"$f":"CONCATENATE(ROUND(AC22,8))","v":"0.86767259"},null,null,null,null,null,null,null,null,"=",{"$f":"$AJ24","v":"0.87 (2 d.p.)"},null,null,null,null,null,null,null,null,null,null,null,2,{"$f":"AC22","v":0.86767258646014145},{"$f":"AG24^1","v":0.86767258646014145},{"$f":"CONCATENATE(AG24)","v":"0.867672586460141"},{"$f":"IF(AG24=0,CONCATENATE(\"0\",AG26,\"\"),CONCATENATE(AM24,AL24))","v":"0.87 (2 d.p.)"},{"$f":"CONCATENATE(ROUND(AI25,9))","v":"0.867672586"},{"$f":"IF(AM25=0,CONCATENATE(AG26),CONCATENATE(AQ25,AG26,\" (\",AF24,\" d.p.)\"))","v":" (2 d.p.)"},{"$f":"IF(AM25=0,AH25,AG25)","v":0.87},{"$f":"ROUND(100*AG25,0)","v":87},{"$f":"AN24-AN25*100","v":87},{"$f":"IF(AM25=0,\"\",IF(AO25=0,\".0\",\"\"))","v":""},{"$f":"AN24-AN25*100-AO25*10","v":7}]
[null,null,null,null,{"$f":"AA22","v":"  8.3² + 6  "},null,null,null,null,null,null,null,null,null,null,null,null,null,null,null,null,null,null,null,null,null,null,null,null,null,null,{"$f":"ROUNDDOWN(AH24,0)","v":0},{"$f":"ROUND(AH24,AF24)","v":0.87},{"$f":"ROUND(AH24,6)","v":0.86767300000000003},{"$f":"ROUND(AH24,9)","v":0.86767258599999997},{"$f":"ROUND(AI25-AF25,9)","v":0.86767258599999997},{"$f":"ROUND(AH25-AF25,9)","v":0.86767300000000003},{"$f":"ROUND(AI25-AF25,9)","v":0.86767258599999997},{"$f":"AL25-AK25","v":-4.1400000005964444E-7},{"$f":"ROUNDDOWN(AN24/100,0)","v":0},{"$f":"ROUNDDOWN(AO24/10,0)","v":8},{"$f":"IF(AQ24=0,0,\"\")","v":""},{"$f":"IF(AF24=2,IF(AQ24=0,CONCATENATE(AP24,AP25),AP25),AP24)","v":""}]
[null,null,null,null,null,null,null,null,null,null,null,null,null,null,null,null,null,null,null,null,null,null,null,null,null,null,null,null,null,null,null,null,{"$f":"IF(AH26=\"cm\",\"\",\"\")","v":""},"NIL",null,{"$f":"ROUND(AH24,2)","v":0.87}]
[]
[]
[]
[]
[null,null,1,1,{"$f":"IF(RAND()>0.5,INT(999*RAND())+1,INT(99*RAND())+1)","v":239},{"$f":"IF(E31>99,10,IF(RAND()>0.5,10,1))","v":10},{"$f":"E31/F31","v":23.9},{"$f":"IF(M31<1,1,IF(RAND()>0.5,1,-1))","v":-1},{"$f":"IF(H31=1,\" + \",\" − \")","v":" − "},{"$f":"IF(E31>99,INT(9*RAND())+1,INT(99*RAND())+1)","v":4},{"$f":"IF(E31>99,1,IF(RAND()>0.5,10,1))","v":1},{"$f":"J31/K31","v":4},{"$f":"ABS(L31-G31)","v":19.899999999999999},{"$f":"IF(L31>G31,0,1)","v":1},{"$f":"IF(N31=0,CONCATENATE(\"  \",L31,I31,G31,\"  \"),CONCATENATE(\"  \",G31,I31,L31,\"  \"))","v":"  23.9 − 4  "},{"$f":"IF(N31=0,L31+H31*G31,G31+H31*L31)","v":19.899999999999999},{"$f":"IF(RAND()>0.5,INT(999*RAND())+1,INT(99*RAND())+1)","v":599},{"$f":"IF(Q31>99,10,IF(RAND()>0.5,10,1))","v":10},{"$f":"Q31/R31","v":59.9},{"$f":"IF(Y31<1,1,IF(RAND()>0.5,1,-1))","v":-1},{"$f":"IF(T31=1,\" + \",\" − \")","v":" − "},{"$f":"IF(Q31>99,INT(9*RAND())+1,INT(99*RAND())+1)","v":7},{"$f":"IF(Q31>99,1,IF(RAND()>0.5,10,1))","v":1},{"$f":"V31/W31","v":7},{"$f":"ABS(X31-S31)","v":52.9},{"$f":"IF(X31>S31,0,1)","v":1},{"$f":"IF(Z31=0,CONCATENATE(X31,U31,S31),CONCATENATE(S31,U31,X31))","v":"59.9 − 7"},{"$f":"IF(Z31=0,X31+T31*S31,S31+T31*X31)","v":52.9},{"$f":"(P31/AB31)^(1/C31)","v":0.37618147448015121}]
[null,null,1,1,{"$f":"0.1*(INT(9*RAND())+1)+1*(INT(9*RAND())+1)","v":5.9},{"$f":"0.1*(INT(9*RAND())+1)+1*(INT(9*RAND())+1)","v":2.1},null,null,null,null,null,null,null,null,{"$f":"CONCATENATE(\" \",E32,\" × \",F32,\" \")","v":" 5.9 × 2.1 "},{"$f":"E32*F32","v":12.39},{"$f":"IF(RAND()>0.5,INT(999*RAND())+1,INT(99*RAND())+1)","v":98},{"$f":"IF(Q32>99,10,IF(RAND()>0.5,10,1))","v":10},{"$f":"Q32/R32","v":9.8000000000000007},{"$f":"IF(Y32<1,1,IF(RAND()>0.5,1,-1))","v":-1},{"$f":"IF(T32=1,\" + \",\" − \")","v":" − "},{"$f":"IF(Q32>99,INT(9*RAND())+1,INT(99*RAND())+1)","v":58},{"$f":"IF(Q32>99,1,IF(RAND()>0.5,10,1))","v":10},{"$f":"V32/W32","v":5.8},{"$f":"ABS(X32-S32)","v":4.0000000000000009},{"$f":"IF(X32>S32,0,1)","v":1},{"$f":"IF(Z32=0,CONCATENATE(X32,U32,S32),CONCATENATE(S32,U32,X32))","v":"9.8 − 5.8"},{"$f":"IF(Z32=0,X32+T32*S32,S32+T32*X32)","v":4.0000000000000009},{"$f":"(P32/AB32)^(1/C32)","v":3.0974999999999993}]
[null,null,1,1,{"$f":"0.1*(INT(9*RAND())+1)+1*(INT(9*RAND())+1)","v":4.5},{"$f":"0.1*(INT(9*RAND())+1)+1*(INT(9*RAND())+1)","v":1.7000000000000002},null,null,null,null,null,null,null,null,{"$f":"CONCATENATE(\" \",E33,\" × \",F33,\" \")","v":" 4.5 × 1.7 "},{"$f":"E33*F33","v":7.65},{"$f":"0.1*(INT(9*RAND())+1)+1*(INT(9*RAND())+1)","v":1.8},{"$f":"0.1*(INT(9*RAND())+1)+1*(INT(9*RAND())+1)","v":2.4},null,null,null,null,null,null,null,null,{"$f":"CONCATENATE(Q33,\" × \",R33)","v":"1.8 × 2.4"},{"$f":"Q33*R33","v":4.32},{"$f":"(P33/AB33)^(1/C33)","v":1.7708333333333333}]
[null,null,1,1,{"$f":"IF(RAND()>0.5,INT(999*RAND())+1,INT(99*RAND())+1)","v":54},{"$f":"IF(E34>99,10,IF(RAND()>0.5,10,1))","v":10},{"$f":"E34/F34","v":5.4},{"$f":"IF(M34<1,1,IF(RAND()>0.5,1,-1))","v":1},{"$f":"IF(H34=1,\" + \",\" − \")","v":" + "},{"$f":"IF(E34>99,INT(9*RAND())+1,INT(99*RAND())+1)","v":61},{"$f":"IF(E34>99,1,IF(RAND()>0.5,10,1))","v":10},{"$f":"J34/K34","v":6.1},{"$f":"ABS(L34-G34)","v":0.69999999999999929},{"$f":"IF(L34>G34,0,1)","v":0},{"$f":"IF(N34=0,CONCATENATE(\"  \",L34,I34,G34,\"  \"),CONCATENATE(\"  \",G34,I34,L34,\"  \"))","v":"  6.1 + 5.4  "},{"$f":"IF(N34=0,L34+H34*G34,G34+H34*L34)","v":11.5},{"$f":"0.1*(INT(9*RAND())+1)+1*(INT(9*RAND())+1)","v":8.6999999999999993},{"$f":"0.1*(INT(9*RAND())+1)+1*(INT(9*RAND())+1)","v":4.4000000000000004},null,null,null,null,null,null,null,null,{"$f":"CONCATENATE(Q34,\" × \",R34)","v":"8.7 × 4.4"},{"$f":"Q34*R34","v":38.28},{"$f":"(P34/AB34)^(1/C34)","v":0.30041797283176591}]
[]
[]
[null,null,1,1,{"$f":"0.1*(INT(9*RAND())+1)+1*(INT(8*RAND())+2)","v":8.3000000000000007},{"$f":"IF(RAND()>0.5,2,3)","v":3},{"$f":"IF(F37=2,\"²\",\"³\")","v":"³"},{"$f":"IF(RAND()>0.5,1,-1)","v":1},{"$f":"IF(H37=1,\" + \",\" − \")","v":" + "},{"$f":"E37^F37","v":571.78700000000015},{"$f":"IF(J37>11,9,ROUNDDOWN(J37,0)-1)","v":9},{"$f":"INT(K37*RAND())+1","v":9},null,{"$f":"IF(RAND()>0.5,1,-1)","v":1},{"$f":"IF(H37=-1,CONCATENATE(\"  \",E37,G37,I37,L37,\"  \"),IF(N37=1,CONCATENATE(\"  \",E37,G37,I37,L37,\"  \"),CONCATENATE(\"  \",L37,I37,E37,G37,\"  \")))","v":"  8.3³ + 9  "},{"$f":"E37^F37+H37*L37","v":580.78700000000015},{"$f":"IF(RAND()>0.5,INT(999*RAND())+1,INT(99*RAND())+1)","v":255},{"$f":"IF(Q37>99,10,IF(RAND()>0.5,10,1))","v":10},{"$f":"Q37/R37","v":25.5},{"$f":"IF(Y37<1,1,IF(RAND()>0.5,1,-1))","v":-1},{"$f":"IF(T37=1,\" + \",\" − \")","v":" − "},{"$f":"IF(Q37>99,INT(9*RAND())+1,INT(99*RAND())+1)","v":8},{"$f":"IF(Q37>99,1,IF(RAND()>0.5,10,1))","v":1},{"$f":"V37/W37","v":8},{"$f":"ABS(X37-S37)","v":17.5},{"$f":"IF(X37>S37,0,1)","v":1},{"$f":"IF(Z37=0,CONCATENATE(X37,U37,S37),CONCATENATE(S37,U37,X37))","v":"25.5 − 8"},{"$f":"IF(Z37=0,X37+T37*S37,S37+T37*X37)","v":17.5},{"$f":"(P37/AB37)^(1/C37)","v":33.187828571428582}]
[null,null,1,1,{"$f":"0.1*(INT(9*RAND())+1)+1*(INT(8*RAND())+2)","v":9.6},{"$f":"IF(RAND()>0.5,2,3)","v":3},{"$f":"IF(F38=2,\"²\",\"³\")","v":"³"},{"$f":"IF(RAND()>0.5,1,-1)","v":-1},{"$f":"IF(H38=1,\" + \",\" − \")","v":" − "},{"$f":"E38^F38","v":884.73599999999999},{"$f":"IF(J38>11,9,ROUNDDOWN(J38,0)-1)","v":9},{"$f":"INT(K38*RAND())+1","v":9},null,{"$f":"IF(RAND()>0.5,1,-1)","v":-1},{"$f":"IF(H38=-1,CONCATENATE(\"  \",E38,G38,I38,L38,\"  \"),IF(N38=1,CONCATENATE(\"  \",E38,G38,I38,L38,\"  \"),CONCATENATE(\"  \",L38,I38,E38,G38,\"  \")))","v":"  9.6³ − 9  "},{"$f":"E38^F38+H38*L38","v":875.73599999999999},{"$f":"0.1*(INT(9*RAND())+1)+1*(INT(8*RAND())+2)","v":2.5},{"$f":"IF(RAND()>0.5,2,3)","v":3},{"$f":"IF(R38=2,\"²\",\"³\")","v":"³"},{"$f":"IF(RAND()>0.5,1,-1)","v":1},{"$f":"IF(T38=1,\" + \",\" − \")","v":" + "},{"$f":"Q38^R38","v":15.625},{"$f":"IF(V38>11,9,ROUNDDOWN(V38,0)-1)","v":9},{"$f":"INT(W38*RAND())+1","v":6},null,{"$f":"IF(RAND()>0.5,1,-1)","v":-1},{"$f":"IF(T38=-1,CONCATENATE(\"  \",Q38,S38,U38,X38,\"  \"),IF(Z38=1,CONCATENATE(\"  \",Q38,S38,U38,X38,\"  \"),CONCATENATE(\"  \",X38,U38,Q38,S38,\"  \")))","v":"  6 + 2.5³  "},{"$f":"Q38^R38+T38*X38","v":21.625},40.496462427745662]
[null,null,1,1,{"$f":"IF(RAND()>0.5,INT(999*RAND())+1,INT(99*RAND())+1)","v":24},{"$f":"IF(E39>99,10,IF(RAND()>0.5,10,1))","v":10},{"$f":"E39/F39","v":2.4},{"$f":"IF(M39<1,1,IF(RAND()>0.5,1,-1))","v":-1},{"$f":"IF(H39=1,\" + \",\" − \")","v":" − "},{"$f":"IF(E39>99,INT(9*RAND())+1,INT(99*RAND())+1)","v":82},{"$f":"IF(E39>99,1,IF(RAND()>0.5,10,1))","v":1},{"$f":"J39/K39","v":82},{"$f":"ABS(L39-G39)","v":79.599999999999994},{"$f":"IF(L39>G39,0,1)","v":0},{"$f":"IF(N39=0,CONCATENATE(\"  \",L39,I39,G39,\"  \"),CONCATENATE(\"  \",G39,I39,L39,\"  \"))","v":"  82 − 2.4  "},{"$f":"IF(N39=0,L39+H39*G39,G39+H39*L39)","v":79.599999999999994},{"$f":"0.1*(INT(9*RAND())+1)+1*(INT(8*RAND())+2)","v":9.1999999999999993},{"$f":"IF(RAND()>0.5,2,3)","v":3},{"$f":"IF(R39=2,\"²\",\"³\")","v":"³"},{"$f":"IF(RAND()>0.5,1,-1)","v":1},{"$f":"IF(T39=1,\" + \",\" − \")","v":" + "},{"$f":"Q39^R39","v":778.68799999999976},{"$f":"IF(V39>11,9,ROUNDDOWN(V39,0)-1)","v":9},{"$f":"INT(W39*RAND())+1","v":2},null,{"$f":"IF(RAND()>0.5,1,-1)","v":-1},{"$f":"IF(T39=-1,CONCATENATE(\"  \",Q39,S39,U39,X39,\"  \"),IF(Z39=1,CONCATENATE(\"  \",Q39,S39,U39,X39,\"  \"),CONCATENATE(\"  \",X39,U39,Q39,S39,\"  \")))","v":"  2 + 9.2³  "},{"$f":"Q39^R39+T39*X39","v":780.68799999999976},0.10196134691451646]
[null,null,1,1,{"$f":"0.1*(INT(9*RAND())+1)+1*(INT(8*RAND())+2)","v":5.7},{"$f":"IF(RAND()>0.5,2,3)","v":2},{"$f":"IF(F40=2,\"²\",\"³\")","v":"²"},1," × ",{"$f":"E40^F40","v":32.49},{"$f":"IF(J40>11,9,ROUNDDOWN(J40,0)-1)","v":9},{"$f":"INT((K40-1)*RAND())+2","v":2},null,{"$f":"IF(RAND()>0.5,1,-1)","v":1},{"$f":"IF(H40=-1,CONCATENATE(\"  \",E40,G40,I40,L40,\"  \"),IF(N40=1,CONCATENATE(\"  \",E40,G40,I40,L40,\"  \"),CONCATENATE(\"  \",L40,I40,E40,G40,\"  \")))","v":"  5.7² × 2  "},{"$f":"E40^F40*H40*L40","v":64.98},{"$f":"0.1*(INT(9*RAND())+1)+1*(INT(8*RAND())+2)","v":8.3000000000000007},{"$f":"IF(RAND()>0.5,2,3)","v":2},{"$f":"IF(R40=2,\"²\",\"³\")","v":"²"},{"$f":"IF(RAND()>0.5,1,-1)","v":1},{"$f":"IF(T40=1,\" + \",\" − \")","v":" + "},{"$f":"Q40^R40","v":68.890000000000015},{"$f":"IF(V40>11,9,ROUNDDOWN(V40,0)-1)","v":9},{"$f":"INT(W40*RAND())+1","v":6},null,{"$f":"IF(RAND()>0.5,1,-1)","v":1},{"$f":"IF(T40=-1,CONCATENATE(\"  \",Q40,S40,U40,X40,\"  \"),IF(Z40=1,CONCATENATE(\"  \",Q40,S40,U40,X40,\"  \"),CONCATENATE(\"  \",X40,U40,Q40,S40,\"  \")))","v":"  8.3² + 6  "},{"$f":"Q40^R40+T40*X40","v":74.890000000000015},0.86767258646014145]
[null,null,1,1,{"$f":"0.1*(INT(9*RAND())+1)+1*(INT(8*RAND())+2)","v":9.5},{"$f":"IF(RAND()>0.5,2,3)","v":2},{"$f":"IF(F41=2,\"²\",\"³\")","v":"²"},1," × ",{"$f":"E41^F41","v":90.25},{"$f":"IF(J41>11,9,ROUNDDOWN(J41,0)-1)","v":9},{"$f":"INT((K41-1)*RAND())+2","v":6},null,{"$f":"IF(RAND()>0.5,1,-1)","v":-1},{"$f":"IF(H41=-1,CONCATENATE(\"  \",E41,G41,I41,L41,\"  \"),IF(N41=1,CONCATENATE(\"  \",E41,G41,I41,L41,\"  \"),CONCATENATE(\"  \",L41,I41,E41,G41,\"  \")))","v":"  6 × 9.5²  "},{"$f":"E41^F41*H41*L41","v":541.5},{"$f":"0.1*(INT(9*RAND())+1)+1*(INT(8*RAND())+2)","v":6.1},{"$f":"IF(RAND()>0.5,2,3)","v":2},{"$f":"IF(R41=2,\"²\",\"³\")","v":"²"},1," × ",{"$f":"Q41^R41","v":37.209999999999994},{"$f":"IF(V41>11,9,ROUNDDOWN(V41,0)-1)","v":9},{"$f":"INT((W41-1)*RAND())+2","v":4},null,{"$f":"IF(RAND()>0.5,1,-1)","v":-1},{"$f":"IF(T41=-1,CONCATENATE(\"  \",Q41,S41,U41,X41,\"  \"),IF(Z41=1,CONCATENATE(\"  \",Q41,S41,U41,X41,\"  \"),CONCATENATE(\"  \",X41,U41,Q41,S41,\"  \")))","v":"  4 × 6.1²  "},{"$f":"Q41^R41*T41*X41","v":148.83999999999997},3.6381349099704385]
[null,null,1,1,{"$f":"0.1*(INT(9*RAND())+1)+1*(INT(8*RAND())+2)","v":2.1},{"$f":"IF(RAND()>0.5,2,3)","v":3},{"$f":"IF(F42=2,\"²\",\"³\")","v":"³"},{"$f":"IF(RAND()>0.5,1,-1)","v":-1},{"$f":"IF(H42=1,\" + \",\" − \")","v":" − "},{"$f":"E42^F42","v":9.261000000000001},{"$f":"IF(J42>11,9,ROUNDDOWN(J42,0)-1)","v":8},{"$f":"INT(K42*RAND())+1","v":1},null,{"$f":"IF(RAND()>0.5,1,-1)","v":-1},{"$f":"IF(H42=-1,CONCATENATE(\"  \",E42,G42,I42,L42,\"  \"),IF(N42=1,CONCATENATE(\"  \",E42,G42,I42,L42,\"  \"),CONCATENATE(\"  \",L42,I42,E42,G42,\"  \")))","v":"  2.1³ − 1  "},{"$f":"E42^F42+H42*L42","v":8.261000000000001},{"$f":"0.1*(INT(9*RAND())+1)+1*(INT(8*RAND())+2)","v":2.4},{"$f":"IF(RAND()>0.5,2,3)","v":3},{"$f":"IF(R42=2,\"²\",\"³\")","v":"³"},1," × ",{"$f":"Q42^R42","v":13.824},{"$f":"IF(V42>11,9,ROUNDDOWN(V42,0)-1)","v":9},{"$f":"INT((W42-1)*RAND())+2","v":2},null,{"$f":"IF(RAND()>0.5,1,-1)","v":1},{"$f":"IF(T42=-1,CONCATENATE(\"  \",Q42,S42,U42,X42,\"  \"),IF(Z42=1,CONCATENATE(\"  \",Q42,S42,U42,X42,\"  \"),CONCATENATE(\"  \",X42,U42,Q42,S42,\"  \")))","v":"  2.4³ × 2  "},{"$f":"Q42^R42*T42*X42","v":27.648},0.29879195601851855]
[]
[null,null,6,{"$f":"1*(INT(C44*RAND())+1)","v":2},{"$f":"1*(INT((C44-1)*RAND())+1)","v":2},{"$f":"E44+D44","v":4},{"$f":"MOD(F44-1,C44)+1","v":4}]

{"sheet":"P&RDEC+VE","index":24,"n_rows":248,"n_cols":49,"rows_kept":248,"cut":false,"hidden":false,"merged":[]}
[]
[null,null,{"$f":"RFPDEPOSVE!C2","v":"Evaluate each expression using a calculator."},null,null,null,null,null,null,null,null,null,null,null,null,null,null,null,null,null,null,null,null,null,null,null,null,null,null,{"$f":"(AH11*1000+AI11*100+AJ11*10+AK11)/AL10","v":700},{"$f":"2*AK4","v":11},null,null,"x","x","x"]
[null,null,{"$f":"RFPDEPOSVE!C3","v":"Round to 2 d.p. when necessary."},null,null,null,null,null,null,null,null,null,null,null,null,null,null,null,null,null,null,null,null,null,null,null,null,null,null,{"$f":"ROUNDDOWN(AD2,0)","v":700},{"$f":"IF(AE2=3,1,IF(AE2=5,1,IF(AE2=7,1,IF(AE2=9,1,IF(AE2=11,1,IF(AE2=13,1,0))))))","v":1},null,null,{"$f":"IF(AK4>5,INT(5*RAND())+5,IF(AK4>4,INT(6*RAND())+4,IF(AK4>2.5,INT(7*RAND())+3,INT(8*RAND())+2)))","v":8},null,null,{"$f":"(INT(12*RAND())+3)/2","v":3}]
[null,null,{"$f":"IF(K4=3,1,9)","v":9},{"$f":"INT(C4*RAND())+0","v":0},{"$f":"INT(9*RAND())+1","v":9},{"$f":"IF(AND(G4=100,K4=3),0,INT(9*RAND())+1)","v":7},{"$f":"IF(RAND()>0.5,100,10)","v":10},{"$f":"D4*100+E4*10+F4","v":97},{"$f":"H4/G4","v":9.6999999999999993},{"$f":"RAND()","v":0.61871589582252873},{"$f":"IF(O4=0,IF(J4>0.5,3,2),IF(J4>0.67,3,IF(J4>0.33,2,1)))","v":2},{"$f":"IF(K4=3,\"³\",IF(K4=2,\"²\",\"\"))","v":"²"},{"$f":"RAND()","v":0.96853856748646716},{"$f":"IF(M4>0.67,\" + \",IF(M4>0.33,\" − \",\"\"))","v":" + "},{"$f":"IF(M4>0.67,1,IF(M4>0.33,-1,0))","v":1},{"$f":"IF(X4=3,1,9)","v":1},{"$f":"INT(P4*RAND())+0","v":0},{"$f":"INT(9*RAND())+1","v":1},{"$f":"IF(AND(T4=100,X4=3),0,INT(9*RAND())+1)","v":0},{"$f":"IF(RAND()>0.5,100,10)","v":100},{"$f":"Q4*100+R4*10+S4","v":10},{"$f":"U4/T4","v":0.1},{"$f":"RAND()","v":0.97259346556333426},{"$f":"IF(K4>1,IF(W4>0.67,3,IF(W4>0.33,2,1)),IF(W4>0.5,3,2))","v":3},{"$f":"IF(X4=3,\"³\",IF(X4=2,\"²\",\"\"))","v":"³"},{"$f":"ROUND(I4^K4+O4*V4^X4,9)","v":94.090999999999994},{"$f":"IF(Z4<0,-1,1)","v":1},null,null,{"$f":"IF(AD3>=10^6,7,IF(AD3>=10^5,6,IF(AD3>=10^4,5,IF(AD3>=10^3,4,IF(AD3>=10^2,3,IF(AD3>=10,2,1))))))","v":3},null,null,{"$f":"INT(10*RAND())+0","v":4},{"$f":"IF(AG4=0,AH3,INT(9*RAND())+1)","v":3},{"$f":"IF(AI5=1,INT(9*RAND())+1,0)","v":5},{"$f":"AG4+AH4/10+AI4/100","v":4.3499999999999996},{"$f":"(INT(12*RAND())+3)/2","v":5.5}]
[null,null,null,null,null,null,null,null,null,null,null,null,null,null,null,null,null,null,null,null,{"$f":"IF(O4=0,CONCATENATE(I4,L4,N4),IF(AA4=1,CONCATENATE(I4,L4,N4,V4,Y4),CONCATENATE(V4,Y4,N4,I4,L4)))","v":"9.7² + 0.1³"},"=",{"$f":"W6","v":"94.091"},null,null,null,null,null,null,{"$f":"IF(AD3=AD2,0,1)","v":0},null,null,null,null,{"$f":"IF(RAND()>0.5,1,0)","v":1},{"$f":"AJ4^AK4","v":3248.5601554115574},{"$f":"IF(AK9=0,0,1/300000000)","v":3.3333333333333334E-9}]
[null,null,null,null,null,null,null,null,null,null,null,null,null,null,null,null,null,null,null,null,null,"=",{"$f":"CONCATENATE(Z4*AA4)","v":"94.091"},null,null,null,null,null,null,{"$f":"IF(AD23>0,4,IF(AD19>0,3,IF(AD15>0,2,IF(AD11>0,1,0))))","v":0},null,null,null,null,2,{"$f":"AJ5+AK5","v":3248.5601554148907},{"$f":"AJ6^1","v":3248.5601554148907},{"$f":"CONCATENATE(AJ6)","v":"3248.56015541489"},{"$f":"IF(AJ6=0,CONCATENATE(\"0\",AJ8,\"\"),CONCATENATE(AP6,AO6))","v":"3248.56 (2 d.p.)"},{"$f":"CONCATENATE(ROUND(AL7,9))","v":"3248.560155415"},{"$f":"IF(AP7=0,CONCATENATE(AJ8),CONCATENATE(AT7,AJ8,\" (\",AI6,\" d.p.)\"))","v":" (2 d.p.)"},{"$f":"IF(AP7=0,AK7,AJ7)","v":3248.56},{"$f":"ROUND(100*AJ7,0)","v":324856},{"$f":"AQ6-AQ7*100","v":56},{"$f":"IF(AP7=0,\"\",IF(AR7=0,\".0\",\"\"))","v":""},{"$f":"AQ6-AQ7*100-AR7*10","v":6}]
[null,null,{"$f":"IF(K7=3,5,10)","v":5},{"$f":"INT(C7*RAND())+0","v":2},{"$f":"INT(9*RAND())+1","v":5},{"$f":"IF(AND(G7=100,K7=3),0,INT(9*RAND())+1)","v":7},{"$f":"IF(J4>0.67,100,IF(J4>0.33,10,1))","v":10},{"$f":"D7*100+E7*10+F7","v":257},{"$f":"H7/G7","v":25.7},{"$f":"RAND()","v":0.6100068981309853},{"$f":"IF(J7>0.5,3,2)","v":3},{"$f":"IF(K7=3,\"³\",IF(K7=2,\"\",\"\"))","v":"³"},{"$f":"RAND()","v":0.775309538070584},{"$f":"IF(M7>0.67,\" + \",IF(M7>0.33,\" − \",\"\"))","v":" + "},{"$f":"IF(M7>0.67,1,IF(M7>0.33,-1,0))","v":1},{"$f":"IF(X7=3,5,10)","v":5},{"$f":"INT(P7*RAND())+0","v":3},{"$f":"INT(9*RAND())+1","v":5},{"$f":"IF(AND(T7=100,X7=3),0,INT(9*RAND())+1)","v":0},{"$f":"IF(W4>0.67,100,IF(W4>0.33,10,1))","v":100},{"$f":"Q7*100+R7*10+S7","v":350},{"$f":"U7/T7","v":3.5},{"$f":"RAND()","v":0.50805708626362811},{"$f":"IF(W7>0.5,3,2)","v":3},{"$f":"IF(X7=3,\"³\",IF(X7=2,\"\",\"\"))","v":"³"},null,{"$f":"AH14","v":1},null,null,{"$f":"VLOOKUP((AD4*2+AD5+AD6*2),AD24:AE34,2)","v":"         "},null,null,null,null,{"$f":"ROUNDDOWN(AK6,0)","v":3248},{"$f":"ROUND(AK6,AI6)","v":3248.56},{"$f":"ROUND(AK6,6)","v":3248.5601550000001},{"$f":"ROUND(AK6,9)","v":3248.5601554149998},{"$f":"ROUND(AL7-AI7,9)","v":0.56015541499999999},{"$f":"ROUND(AK7-AI7,9)","v":0.56015499999999996},{"$f":"ROUND(AL7-AI7,9)","v":0.56015541499999999},{"$f":"AO7-AN7","v":4.150000000313625E-7},{"$f":"ROUNDDOWN(AQ6/100,0)","v":3248},{"$f":"ROUNDDOWN(AR6/10,0)","v":5},{"$f":"IF(AT6=0,0,\"\")","v":""},{"$f":"IF(AI6=2,IF(AT6=0,CONCATENATE(AS6,AS7),AS7),AS6)","v":""}]
[null,null,null,null,null,null,null,null,null,null,null,null,null,null,null,null,null,null,null,null,{"$f":"IF(O7=0,CONCATENATE(L7,\"√\",I7,N7),IF(AH14=1,CONCATENATE(L7,\"√\",I7,N7,Y7,\"√\",V7),CONCATENATE(Y7,\"√\",V7,N7,L7,\"√\",I7)))","v":"³√25.7 + ³√3.5"},"=",{"$f":"CONCATENATE(ROUND(AI15,8))","v":"4.46935223"},null,null,null,null,null,null,{"$f":"ROUND((AD2-AD3),4)","v":0},null,null,null,null,null,{"$f":"IF(AK8=\"cm\",\"\",\"\")","v":""},"NIL",null,{"$f":"ROUND(AK6,2)","v":3248.56},{"$f":"AM6","v":"3248.56 (2 d.p.)"}]
[null,null,null,null,null,null,null,null,null,null,null,null,null,null,null,null,null,null,null,null,null,"=",{"$f":"AL15","v":"4.47 (2 d.p.)"},null,null,null,null,null,null,{"$f":"ROUNDDOWN(AD8,1)","v":0},null,null,null,null,null,null,{"$f":"ROUND((AM9-AL9)*10000,7)","v":5541.1560087999997},{"$f":"ROUNDDOWN(AM9,0)","v":32485601},{"$f":"10000*AN9","v":32485601.554115601},{"$f":"CONCATENATE(AJ4^AK4)","v":"3248.56015541156"}]
[null,null,{"$f":"CONCATENATE(AD7,AM11)","v":"         9"},null,null,null,null,null,null,null,null,null,null,null,null,null,null,null,null,null,null,null,null,null,null,null,null,null,null,{"$f":"10*AD9","v":0},null,null,null,{"$f":"IF(RAND()>0.5,1,0)","v":0},{"$f":"IF(RAND()>0.5,1,0)","v":1},{"$f":"IF(RAND()>0.5,1,0)","v":1},{"$f":"IF(RAND()>0.5,1,0)","v":1},{"$f":"IF(AM10>0.75,1,IF(AM10>0.5,10,IF(AM10>0.25,100,1000)))","v":10},{"$f":"RAND()","v":0.72552547202679352}]
[null,null,null,null,null,null,null,null,null,null,null,null,null,null,null,null,null,null,null,null,{"$f":"IF(AE3=0,CONCATENATE(AJ4,AW125),CONCATENATE(AJ4,AW125))","v":"4.35⁵∙⁵"},"=",{"$f":"CONCATENATE(ROUND(AJ4^AK4,8))","v":"3248.56015541"},null,null,null,null,null,null,{"$f":"IF(AD10>0,1,0)","v":0},null,null,null,{"$f":"IF(AI10=0,INT(99*RAND())+1,INT(9*RAND())+1)","v":7},{"$f":"IF(AI10=0,INT(10*RAND())+0,0)","v":0},{"$f":"IF(AJ10=0,INT(10*RAND())+0,0)","v":0},{"$f":"IF(AK10=0,INT(10*RAND())+0,0)","v":0},{"$f":"(AH11*1000+AI11*100+AJ11*10+AK11)/AL10","v":700},{"$f":"INT(6*RAND())+4","v":9},{"$f":"IF(AM11=4,\"⁴\",IF(AM11=5,\"⁵\",IF(AM11=6,\"⁶\",IF(AM11=7,\"⁷\",IF(AM11=8,\"⁸\",\"⁹\")))))","v":"⁹"}]
[null,null,null,null,null,null,null,null,null,null,null,null,null,null,null,null,null,null,null,null,null,"=",{"$f":"AM6","v":"3248.56 (2 d.p.)"},null,null,null,null,null,null,{"$f":"ROUNDDOWN(AD13,2)","v":0},null,null,null,null,2,{"$f":"AL11^(1/AM11)","v":2.0707229862248591},{"$f":"AJ12^1","v":2.0707229862248591},{"$f":"CONCATENATE(AJ12)","v":"2.07072298622486"},{"$f":"IF(AJ12=0,CONCATENATE(\"0\",AJ14,\"\"),CONCATENATE(AP12,AO12))","v":"2.07 (2 d.p.)"},{"$f":"CONCATENATE(ROUND(AL13,9))","v":"2.070722986"},{"$f":"IF(AP13=0,CONCATENATE(AJ14),CONCATENATE(AT13,AJ14,\" (\",AI12,\" d.p.)\"))","v":" (2 d.p.)"},{"$f":"IF(AP13=0,AK13,AJ13)","v":2.0699999999999998},{"$f":"ROUND(100*AJ13,0)","v":207},{"$f":"AQ12-AQ13*100","v":7},{"$f":"IF(AP13=0,\"\",IF(AR13=0,\".0\",\"\"))","v":".0"},{"$f":"AQ12-AQ13*100-AR13*10","v":7}]
[null,null,{"$f":"$AK$4","v":5.5},{"$f":"$AK$4","v":5.5},null,null,null,null,null,null,null,null,null,null,null,null,null,null,null,null,null,null,null,null,null,null,null,null,null,{"$f":"ROUND((AD8-AD9),4)","v":0},null,null,null,null,{"$f":"ROUNDDOWN(AK12,0)","v":2},{"$f":"ROUND(AK12,AI12)","v":2.0699999999999998},{"$f":"ROUND(AK12,6)","v":2.0707230000000001},{"$f":"ROUND(AK12,9)","v":2.0707229859999998},{"$f":"ROUND(AL13-AI13,9)","v":7.0722986000000002E-2},{"$f":"ROUND(AK13-AI13,9)","v":7.0722999999999994E-2},{"$f":"ROUND(AL13-AI13,9)","v":7.0722986000000002E-2},{"$f":"AO13-AN13","v":-1.3999999992631018E-8},{"$f":"ROUNDDOWN(AQ12/100,0)","v":2},{"$f":"ROUNDDOWN(AR12/10,0)","v":0},{"$f":"IF(AT12=0,0,\"\")","v":""},{"$f":"IF(AI12=2,IF(AT12=0,CONCATENATE(AS12,AS13),AS13),AS12)","v":""}]
[null,null,null,null,null,null,null,null,null,null,null,null,null,null,null,null,null,null,null,null,{"$f":"CONCATENATE(AN11,\"√\",AL11)","v":"⁹√700"},"=",{"$f":"CONCATENATE(ROUND($AJ12,8))","v":"2.07072299"},null,null,null,null,null,null,{"$f":"100*AD12","v":0},null,null,null,{"$f":"IF(AI14<0,-1,1)","v":1},{"$f":"I7^(1/K7)+O7*V7^(1/X7)","v":4.4693522316892746},{"$f":"IF(AK14=\"cm\",\"\",\"\")","v":""},"litres",null,{"$f":"ROUND(AK12,2)","v":2.0699999999999998},{"$f":"AM12","v":"2.07 (2 d.p.)"}]
[null,null,null,null,null,null,null,null,null,null,null,null,null,null,null,null,null,null,null,null,null,"=",{"$f":"AM12","v":"2.07 (2 d.p.)"},null,null,null,null,null,null,{"$f":"IF(AD14>0,1,0)","v":0},null,null,null,2,{"$f":"ABS(AI14)","v":4.4693522316892746},{"$f":"AI15^1","v":4.4693522316892746},{"$f":"CONCATENATE(AI15)","v":"4.46935223168927"},{"$f":"IF(AI15=0,CONCATENATE(\"0\",AI17,\"\"),CONCATENATE(AO15,AN15))","v":"4.47 (2 d.p.)"},{"$f":"CONCATENATE(ROUND(AK16,9))","v":"4.469352232"},{"$f":"IF(AO16=0,CONCATENATE(AI17),CONCATENATE(AS16,AI17,\" (\",AH15,\" d.p.)\"))","v":" (2 d.p.)"},{"$f":"IF(AO16=0,AJ16,AI16)","v":4.47},{"$f":"ROUND(100*AI16,0)","v":447},{"$f":"AP15-AP16*100","v":47},{"$f":"IF(AO16=0,\"\",IF(AQ16=0,\".0\",\"\"))","v":""},{"$f":"AP15-AP16*100-AQ16*10","v":7}]
[null,null,null,null,null,null,null,null,null,null,null,null,null,null,null,null,null,null,null,null,null,null,null,null,null,null,null,null,null,{"$f":"ROUND((AD13-AD12),4)","v":0},null,null,null,{"$f":"ROUNDDOWN(AJ15,0)","v":4},{"$f":"ROUND(AJ15,AH15)","v":4.47},{"$f":"ROUND(AJ15,6)","v":4.4693519999999998},{"$f":"ROUND(AJ15,9)","v":4.4693522320000003},{"$f":"ROUND(AK16-AH16,9)","v":0.46935223199999998},{"$f":"ROUND(AJ16-AH16,9)","v":0.46935199999999999},{"$f":"ROUND(AK16-AH16,9)","v":0.46935223199999998},{"$f":"AN16-AM16","v":2.3199999998890775E-7},{"$f":"ROUNDDOWN(AP15/100,0)","v":4},{"$f":"ROUNDDOWN(AQ15/10,0)","v":4},{"$f":"IF(AS15=0,0,\"\")","v":""},{"$f":"IF(AH15=2,IF(AS15=0,CONCATENATE(AR15,AR16),AR16),AR15)","v":""}]
[null,null,null,null,null,null,null,null,null,null,null,null,null,null,null,null,null,null,null,null,null,null,null,null,null,null,null,null,null,{"$f":"ROUNDDOWN(AD16,3)","v":0},null,null,null,null,{"$f":"IF(AJ17=\"cm\",\"\",\"\")","v":""},"NIL",null,{"$f":"ROUND(AJ15,2)","v":4.47}]
[null,null,null,null,null,null,null,null,null,null,null,null,null,null,null,null,null,null,null,null,null,null,null,null,null,null,null,null,null,{"$f":"1000*AD17","v":0}]
[null,null,null,null,null,null,null,null,null,null,null,null,null,null,null,null,null,null,null,null,null,null,null,null,null,null,null,null,null,{"$f":"IF(AD18>0,1,0)","v":0}]
[null,null,null,null,null,null,null,null,null,null,null,null,null,null,null,null,null,null,null,null,null,null,null,null,null,null,null,null,null,{"$f":"ROUND((AD16-AD17),4)","v":0},null,null,"(15.1² ± 3.2 × 15.123)³"]
[null,null,null,null,null,null,null,null,null,null,null,null,null,null,null,null,null,null,null,null,null,null,null,null,null,null,null,null,null,{"$f":"ROUNDDOWN(AD20,4)","v":0},null,null,"5 × √(3.2² ± 6.78³)"]
[null,null,null,null,null,null,null,null,null,null,null,null,null,null,null,null,null,null,null,null,null,null,null,null,null,null,null,null,null,{"$f":"10000*AD21","v":0},null,null,"⅔ × √(3.2² + 6.78³)"]
[null,null,null,null,null,null,null,null,null,null,null,null,null,null,null,null,null,null,null,null,null,null,null,null,null,null,null,null,null,{"$f":"IF(AD22>0,1,0)","v":0},null,null,"³√(3.2² + 6.78³)"]
[null,null,null,null,null,null,null,null,null,null,null,null,null,null,null,null,null,null,null,null,null,null,null,null,null,null,null,null,null,1,{"$f":"CONCATENATE(\"          \")","v":"          "},null,"√(3.2 + 6.78)"]
[null,null,null,null,null,null,null,null,null,null,null,null,null,null,null,null,null,null,null,null,null,null,null,null,null,null,null,null,null,2,{"$f":"CONCATENATE(\"               \")","v":"               "},null,"³√(8.7 × 10¹º)"]
[null,null,null,null,null,null,null,null,null,null,null,null,null,null,null,null,null,null,null,null,null,null,null,null,null,null,null,null,null,3,{"$f":"CONCATENATE(\"             \")","v":"             "},null,"³√(3.2 − 6.78)"]
[null,null,null,null,null,null,null,null,null,null,null,null,null,null,null,null,null,null,null,null,null,null,null,null,null,null,null,null,null,4,{"$f":"CONCATENATE(\"            \")","v":"            "},null,"√6.78 × ³√5.6"]
[null,null,null,null,null,null,null,null,null,null,null,null,null,null,null,null,null,null,null,null,null,null,null,null,null,null,null,null,null,5,{"$f":"CONCATENATE(\"           \")","v":"           "},null,"√(15.1² ± 3.2³)"]
[null,null,null,null,null,null,null,null,null,null,null,null,null,null,null,null,null,null,null,null,null,null,null,null,null,null,null,null,null,6,{"$f":"CONCATENATE(\"         \")","v":"         "},null,"³√(15.1² ± 3.2 × 15.123)"]
[null,null,null,null,null,null,null,null,null,null,null,null,null,null,null,null,null,null,null,null,null,null,null,null,null,null,null,null,null,7,{"$f":"CONCATENATE(\"       \")","v":"       "},null,"(43.6 ± 13.92)³ + √4.68"]
[null,null,null,null,null,null,null,null,null,null,null,null,null,null,null,null,null,null,null,null,null,null,null,null,null,null,null,null,null,8,{"$f":"CONCATENATE(\"     \")","v":"     "},null,"(43.6 ± 13.92)² ± ³√4.68"]
[null,null,null,null,null,null,null,null,null,null,null,null,null,null,null,null,null,null,null,null,null,null,null,null,null,null,null,null,null,9,{"$f":"CONCATENATE(\"    \")","v":"    "}]
[null,null,null,null,null,null,null,null,null,null,null,null,null,null,null,null,null,null,null,null,null,null,null,null,null,null,null,null,null,10,{"$f":"CONCATENATE(\"  \")","v":"  "},null,"3.7² ± 6.7³"]
[null,null,null,null,null,null,null,null,null,null,null,null,null,null,null,null,null,null,null,null,null,null,null,null,null,null,null,null,null,11,{"$f":"CONCATENATE(\"\")","v":""},null,"3.7² × 6.7³"]
[null,null,null,null,null,null,null,null,null,null,null,null,null,null,null,null,null,null,null,null,null,null,null,null,null,null,null,null,null,null,null,null,"5 × 6.78³"]
[null,null,null,null,null,null,null,null,null,null,null,null,null,null,null,null,null,null,null,null,null,null,null,null,null,null,null,null,null,{"$f":"'PRBDEC+VE'!AD2","v":700},null,null,"1⅔ × 6.78³"]
[null,null,null,null,null,null,null,null,null,null,null,null,null,null,null,null,null,null,null,null,null,null,null,null,null,null,null,null,null,{"$f":"ROUNDDOWN(AD36,0)","v":700},null,null,"√4.68 ± ³√4.68"]
[null,null,null,null,null,null,null,null,null,null,null,null,null,null,null,null,null,null,null,null,null,null,null,null,null,null,null,null,null,{"$f":"IF(AD37>=10^6,7,IF(AD37>=10^5,6,IF(AD37>=10^4,5,IF(AD37>=10^3,4,IF(AD37>=10^2,3,IF(AD37>=10,2,1))))))","v":3},null,null,"√4.68 × ³√4.68"]
[null,null,null,null,null,null,null,null,null,null,null,null,null,null,null,null,null,null,null,null,null,null,null,null,null,null,null,null,null,{"$f":"IF(AD37=AD36,0,1)","v":0},null,null,"√4.68 ÷ ³√4.68"]
[null,null,null,null,null,null,null,null,null,null,null,null,null,null,null,null,null,null,null,null,null,null,null,null,null,null,null,null,null,{"$f":"IF(AD57>0,4,IF(AD53>0,3,IF(AD49>0,2,IF(AD45>0,1,0))))","v":0},null,null,"6.7³ ± ³√4.68"]
[null,null,null,null,null,null,null,null,null,null,null,null,null,null,null,null,null,null,null,null,null,null,null,null,null,null,null,null,null,{"$f":"(AD38*2+AD39+AD40*2)","v":6},null,null,"6.7³ × ³√4.68"]
[null,null,null,null,null,null,null,null,null,null,null,null,null,null,null,null,null,null,null,null,null,null,null,null,null,null,null,null,null,{"$f":"ROUND((AD36-AD37),4)","v":0},null,null,"6.7³ ÷ ³√4.68"]
[null,null,null,null,null,null,null,null,null,null,null,null,null,null,null,null,null,null,null,null,null,null,null,null,null,null,null,null,null,{"$f":"ROUNDDOWN(AD42,1)","v":0},null,null,"6.78³³ × 5.6³³"]
[null,null,null,null,null,null,null,null,null,null,null,null,null,null,null,null,null,null,null,null,null,null,null,null,null,null,null,null,null,{"$f":"10*AD43","v":0},null,null,"6.78³³ ÷ 5.6³³"]
[null,null,null,null,null,null,null,null,null,null,null,null,null,null,null,null,null,null,null,null,null,null,null,null,null,null,null,null,null,{"$f":"IF(AD44>0,1,0)","v":0},null,null,"2⅝³"]
[null,null,null,null,null,null,null,null,null,null,null,null,null,null,null,null,null,null,null,null,null,null,null,null,null,null,null,null,null,{"$f":"ROUNDDOWN(AD47,2)","v":0}]
[null,null,null,null,null,null,null,null,null,null,null,null,null,null,null,null,null,null,null,null,null,null,null,null,null,null,null,null,null,{"$f":"ROUND((AD42-AD43),4)","v":0}]
[null,null,null,null,null,null,null,null,null,null,null,null,null,null,null,null,null,null,null,null,null,null,null,null,null,null,null,null,null,{"$f":"100*AD46","v":0}]
[null,null,null,null,null,null,null,null,null,null,null,null,null,null,null,null,null,null,null,null,null,null,null,null,null,null,null,null,null,{"$f":"IF(AD48>0,1,0)","v":0}]
[null,null,null,null,null,null,null,null,null,null,null,null,null,null,null,null,null,null,null,null,null,null,null,null,null,null,null,null,null,{"$f":"ROUND((AD47-AD46),4)","v":0}]
[null,null,null,null,null,null,null,null,null,null,null,null,null,null,null,null,null,null,null,null,null,null,null,null,null,null,null,null,null,{"$f":"ROUNDDOWN(AD50,3)","v":0}]
[null,null,null,null,null,null,null,null,null,null,null,null,null,null,null,null,null,null,null,null,null,null,null,null,null,null,null,null,null,{"$f":"1000*AD51","v":0}]
[null,null,null,null,null,null,null,null,null,null,null,null,null,null,null,null,null,null,null,null,null,null,null,null,null,null,null,null,null,{"$f":"IF(AD52>0,1,0)","v":0}]
[null,null,null,null,null,null,null,null,null,null,null,null,null,null,null,null,null,null,null,null,null,null,null,null,null,null,null,null,null,{"$f":"ROUND((AD50-AD51),4)","v":0}]
[null,null,null,null,null,null,null,null,null,null,null,null,null,null,null,null,null,null,null,null,null,null,null,null,null,null,null,null,null,{"$f":"ROUNDDOWN(AD54,4)","v":0}]
[null,null,null,null,null,null,null,null,null,null,null,null,null,null,null,null,null,null,null,null,null,null,null,null,null,null,null,null,null,{"$f":"10000*AD55","v":0}]
[null,null,null,null,null,null,null,null,null,null,null,null,null,null,null,null,null,null,null,null,null,null,null,null,null,null,null,null,null,{"$f":"IF(AD56>0,1,0)","v":0}]
[null,null,null,null,null,null,null,null,null,null,null,null,null,null,null,null,null,null,null,null,null,null,null,null,null,null,null,null,null,1,{"$f":"CONCATENATE(\"          \")","v":"          "}]
[null,null,null,null,null,null,null,null,null,null,null,null,null,null,null,null,null,null,null,null,null,null,null,null,null,null,null,null,null,2,{"$f":"CONCATENATE(\"               \")","v":"               "}]
[null,null,null,null,null,null,null,null,null,null,null,null,null,null,null,null,null,null,null,null,null,null,null,null,null,null,null,null,null,3,{"$f":"CONCATENATE(\"             \")","v":"             "}]
[null,null,null,null,null,null,null,null,null,null,null,null,null,null,null,null,null,null,null,null,null,null,null,null,null,null,null,null,null,4,{"$f":"CONCATENATE(\"            \")","v":"            "}]
[null,null,null,null,null,null,null,null,null,null,null,null,null,null,null,null,null,null,null,null,null,null,null,null,null,null,null,null,null,5,{"$f":"CONCATENATE(\"           \")","v":"           "}]
[null,null,null,null,null,null,null,null,null,null,null,null,null,null,null,null,null,null,null,null,null,null,null,null,null,null,null,null,null,6,{"$f":"CONCATENATE(\"         \")","v":"         "}]
[null,null,null,null,null,null,null,null,null,null,null,null,null,null,null,null,null,null,null,null,null,null,null,null,null,null,null,null,null,7,{"$f":"CONCATENATE(\"       \")","v":"       "}]
[null,null,null,null,null,null,null,null,null,null,null,null,null,null,null,null,null,null,null,null,null,null,null,null,null,null,null,null,null,8,{"$f":"CONCATENATE(\"     \")","v":"     "}]
[null,null,null,null,null,null,null,null,null,null,null,null,null,null,null,null,null,null,null,null,null,null,null,null,null,null,null,null,null,9,{"$f":"CONCATENATE(\"    \")","v":"    "}]
[null,null,null,null,null,null,null,null,null,null,null,null,null,null,null,null,null,null,null,null,null,null,null,null,null,null,null,null,null,10,{"$f":"CONCATENATE(\"  \")","v":"  "}]
[null,null,null,null,null,null,null,null,null,null,null,null,null,null,null,null,null,null,null,null,null,null,null,null,null,null,null,null,null,11,{"$f":"CONCATENATE(\"\")","v":""}]
[]
[null,null,null,null,null,null,null,null,null,null,null,null,null,null,null,null,null,null,null,null,null,null,null,null,null,null,null,null,null,{"$f":"'PRBDEC+VE'!AF2","v":8.2669999999999995}]
[null,null,null,null,null,null,null,null,null,null,null,null,null,null,null,null,null,null,null,null,null,null,null,null,null,null,null,null,null,{"$f":"ROUNDDOWN(AD70,0)","v":8}]
[null,null,null,null,null,null,null,null,null,null,null,null,null,null,null,null,null,null,null,null,null,null,null,null,null,null,null,null,null,{"$f":"IF(AD71>=10^6,7,IF(AD71>=10^5,6,IF(AD71>=10^4,5,IF(AD71>=10^3,4,IF(AD71>=10^2,3,IF(AD71>=10,2,1))))))","v":1}]
[null,null,null,null,null,null,null,null,null,null,null,null,null,null,null,null,null,null,null,null,null,null,null,null,null,null,null,null,null,{"$f":"IF(AD71=AD70,0,1)","v":1}]
[null,null,null,null,null,null,null,null,null,null,null,null,null,null,null,null,null,null,null,null,null,null,null,null,null,null,null,null,null,{"$f":"IF(AD91>0,4,IF(AD87>0,3,IF(AD83>0,2,IF(AD79>0,1,0))))","v":3}]
[null,null,null,null,null,null,null,null,null,null,null,null,null,null,null,null,null,null,null,null,null,null,null,null,null,null,null,null,null,{"$f":"(AD72*2+AD73+AD74*2)","v":9}]
[null,null,null,null,null,null,null,null,null,null,null,null,null,null,null,null,null,null,null,null,null,null,null,null,null,null,null,null,null,{"$f":"ROUND((AD70-AD71),4)","v":0.26700000000000002}]
[null,null,null,null,null,null,null,null,null,null,null,null,null,null,null,null,null,null,null,null,null,null,null,null,null,null,null,null,null,{"$f":"ROUNDDOWN(AD76,1)","v":0.2}]
[null,null,null,null,null,null,null,null,null,null,null,null,null,null,null,null,null,null,null,null,null,null,null,null,null,null,null,null,null,{"$f":"10*AD77","v":2}]
[null,null,null,null,null,null,null,null,null,null,null,null,null,null,null,null,null,null,null,null,null,null,null,null,null,null,null,null,null,{"$f":"IF(AD78>0,1,0)","v":1}]
[null,null,null,null,null,null,null,null,null,null,null,null,null,null,null,null,null,null,null,null,null,null,null,null,null,null,null,null,null,{"$f":"ROUNDDOWN(AD81,2)","v":0.06}]
[null,null,null,null,null,null,null,null,null,null,null,null,null,null,null,null,null,null,null,null,null,null,null,null,null,null,null,null,null,{"$f":"ROUND((AD76-AD77),4)","v":6.7000000000000004E-2}]
[null,null,null,null,null,null,null,null,null,null,null,null,null,null,null,null,null,null,null,null,null,null,null,null,null,null,null,null,null,{"$f":"100*AD80","v":6}]
[null,null,null,null,null,null,null,null,null,null,null,null,null,null,null,null,null,null,null,null,null,null,null,null,null,null,null,null,null,{"$f":"IF(AD82>0,1,0)","v":1}]
[null,null,null,null,null,null,null,null,null,null,null,null,null,null,null,null,null,null,null,null,null,null,null,null,null,null,null,null,null,{"$f":"ROUND((AD81-AD80),4)","v":7.0000000000000001E-3}]
[null,null,null,null,null,null,null,null,null,null,null,null,null,null,null,null,null,null,null,null,null,null,null,null,null,null,null,null,null,{"$f":"ROUNDDOWN(AD84,3)","v":7.0000000000000001E-3}]
[null,null,null,null,null,null,null,null,null,null,null,null,null,null,null,null,null,null,null,null,null,null,null,null,null,null,null,null,null,{"$f":"1000*AD85","v":7}]
[null,null,null,null,null,null,null,null,null,null,null,null,null,null,null,null,null,null,null,null,null,null,null,null,null,null,null,null,null,{"$f":"IF(AD86>0,1,0)","v":1}]
[null,null,null,null,null,null,null,null,null,null,null,null,null,null,null,null,null,null,null,null,null,null,null,null,null,null,null,null,null,{"$f":"ROUND((AD84-AD85),4)","v":0}]
[null,null,null,null,null,null,null,null,null,null,null,null,null,null,null,null,null,null,null,null,null,null,null,null,null,null,null,null,null,{"$f":"ROUNDDOWN(AD88,4)","v":0}]
[null,null,null,null,null,null,null,null,null,null,null,null,null,null,null,null,null,null,null,null,null,null,null,null,null,null,null,null,null,{"$f":"10000*AD89","v":0}]
[null,null,null,null,null,null,null,null,null,null,null,null,null,null,null,null,null,null,null,null,null,null,null,null,null,null,null,null,null,{"$f":"IF(AD90>0,1,0)","v":0}]
[null,null,null,null,null,null,null,null,null,null,null,null,null,null,null,null,null,null,null,null,null,null,null,null,null,null,null,null,null,1,{"$f":"CONCATENATE(\"          \")","v":"          "}]
[null,null,null,null,null,null,null,null,null,null,null,null,null,null,null,null,null,null,null,null,null,null,null,null,null,null,null,null,null,2,{"$f":"CONCATENATE(\"               \")","v":"               "}]
[null,null,null,null,null,null,null,null,null,null,null,null,null,null,null,null,null,null,null,null,null,null,null,null,null,null,null,null,null,3,{"$f":"CONCATENATE(\"             \")","v":"             "}]
[null,null,null,null,null,null,null,null,null,null,null,null,null,null,null,null,null,null,null,null,null,null,null,null,null,null,null,null,null,4,{"$f":"CONCATENATE(\"            \")","v":"            "}]
[null,null,null,null,null,null,null,null,null,null,null,null,null,null,null,null,null,null,null,null,null,null,null,null,null,null,null,null,null,5,{"$f":"CONCATENATE(\"           \")","v":"           "}]
[null,null,null,null,null,null,null,null,null,null,null,null,null,null,null,null,null,null,null,null,null,null,null,null,null,null,null,null,null,6,{"$f":"CONCATENATE(\"         \")","v":"         "}]
[null,null,null,null,null,null,null,null,null,null,null,null,null,null,null,null,null,null,null,null,null,null,null,null,null,null,null,null,null,7,{"$f":"CONCATENATE(\"       \")","v":"       "}]
[null,null,null,null,null,null,null,null,null,null,null,null,null,null,null,null,null,null,null,null,null,null,null,null,null,null,null,null,null,8,{"$f":"CONCATENATE(\"     \")","v":"     "}]
[null,null,null,null,null,null,null,null,null,null,null,null,null,null,null,null,null,null,null,null,null,null,null,null,null,null,null,null,null,9,{"$f":"CONCATENATE(\"    \")","v":"    "}]
[null,null,null,null,null,null,null,null,null,null,null,null,null,null,null,null,null,null,null,null,null,null,null,null,null,null,null,null,null,10,{"$f":"CONCATENATE(\"  \")","v":"  "}]
[null,null,null,null,null,null,null,null,null,null,null,null,null,null,null,null,null,null,null,null,null,null,null,null,null,null,null,null,null,11,{"$f":"CONCATENATE(\"\")","v":""}]
[]
[null,null,null,null,null,null,null,null,null,null,null,null,null,null,null,null,null,null,null,null,null,null,null,null,null,null,null,null,null,1]
[null,null,null,null,null,null,null,null,null,null,null,null,null,null,null,null,null,null,null,null,null,null,null,null,null,null,null,null,null,1]
[null,null,null,null,null,null,null,null,null,null,null,null,null,null,null,null,null,null,null,null,null,null,null,null,null,null,null,null,null,1]
[null,null,null,null,null,null,null,null,null,null,null,null,null,null,null,null,null,null,null,null,null,null,null,null,null,null,null,null,null,1]
[null,null,null,null,null,null,null,null,null,null,null,null,null,null,null,null,null,null,null,null,null,null,null,null,null,null,null,null,null,1]
[null,null,null,null,null,null,null,null,null,null,null,null,null,null,null,null,null,null,null,null,null,null,null,null,null,null,null,null,{"$f":"'PRBDEC+VE'!AC2+'P&RDEC+VE'!AD41+'P&RDEC+VE'!AD75","v":24},{"$f":"VLOOKUP(AC109,AD126:AE176,2)","v":"           "}]
[null,null,null,null,null,null,null,null,null,null,null,null,null,null,null,null,null,null,null,null,null,null,null,null,null,null,null,null,null,{"$f":"ROUND((AD104-AD105),4)","v":0}]
[null,null,null,null,null,null,null,null,null,null,null,null,null,null,null,null,null,null,null,null,null,null,null,null,null,null,null,null,null,{"$f":"ROUNDDOWN(AD110,1)","v":0}]
[null,null,null,null,null,null,null,null,null,null,null,null,null,null,null,null,null,null,null,null,null,null,null,null,null,null,null,null,null,{"$f":"10*AD111","v":0}]
[null,null,null,null,null,null,null,null,null,null,null,null,null,null,null,null,null,null,null,null,null,null,null,null,null,null,null,null,null,{"$f":"IF(AD112>0,1,0)","v":0}]
[null,null,null,null,null,null,null,null,null,null,null,null,null,null,null,null,null,null,null,null,null,null,null,null,null,null,null,null,null,{"$f":"ROUNDDOWN(AD115,2)","v":0}]
[null,null,null,null,null,null,null,null,null,null,null,null,null,null,null,null,null,null,null,null,null,null,null,null,null,null,null,null,null,{"$f":"ROUND((AD110-AD111),4)","v":0}]
[null,null,null,null,null,null,null,null,null,null,null,null,null,null,null,null,null,null,null,null,null,null,null,null,null,null,null,null,null,{"$f":"100*AD114","v":0}]
[null,null,null,null,null,null,null,null,null,null,null,null,null,null,null,null,null,null,null,null,null,null,null,null,null,null,null,null,null,{"$f":"IF(AD116>0,1,0)","v":0}]
[null,null,null,null,null,null,null,null,null,null,null,null,null,null,null,null,null,null,null,null,null,null,null,null,null,null,null,null,null,{"$f":"ROUND((AD115-AD114),4)","v":0}]
[null,null,null,null,null,null,null,null,null,null,null,null,null,null,null,null,null,null,null,null,null,null,null,null,null,null,null,null,null,{"$f":"ROUNDDOWN(AD118,3)","v":0}]
[null,null,null,null,null,null,null,null,null,null,null,null,null,null,null,null,null,null,null,null,null,null,null,null,null,null,null,null,null,{"$f":"1000*AD119","v":0}]
[null,null,null,null,null,null,null,null,null,null,null,null,null,null,null,null,null,null,null,null,null,null,null,null,null,null,null,null,null,{"$f":"IF(AD120>0,1,0)","v":0}]
[null,null,null,null,null,null,null,null,null,null,null,null,null,null,null,null,null,null,null,null,null,null,null,null,null,null,null,null,null,{"$f":"ROUND((AD118-AD119),4)","v":0}]
[null,null,null,null,null,null,null,null,null,null,null,null,null,null,null,null,null,null,null,null,null,null,null,null,null,null,null,null,null,{"$f":"ROUNDDOWN(AD122,4)","v":0}]
[null,null,null,null,null,null,null,null,null,null,null,null,null,null,null,null,null,null,null,null,null,null,null,null,null,null,null,null,null,{"$f":"10000*AD123","v":0}]
[null,null,null,null,null,null,null,null,null,null,null,null,null,null,null,null,null,null,null,null,null,null,null,null,null,null,null,null,null,{"$f":"IF(AD124>0,1,0)","v":0},null,null,null,null,null,null,null,null,null,null,null,null,null,null,null,null,{"$f":"C13","v":5.5},{"$f":"ROUND(2*AU125,1)","v":11},{"$f":"VLOOKUP(AV125,$AU$126:$AV$149,2)","v":"⁵∙⁵"}]
[null,null,null,null,null,null,null,null,null,null,null,null,null,null,null,null,null,null,null,null,null,null,null,null,null,null,null,null,null,1,{"$f":"CONCATENATE(\"          \")","v":"          "},null,null,null,null,null,null,null,null,null,null,null,null,null,null,null,1,"⁰∙⁵"]
[null,null,null,null,null,null,null,null,null,null,null,null,null,null,null,null,null,null,null,null,null,null,null,null,null,null,null,null,null,2,{"$f":"CONCATENATE(\"               \")","v":"               "},null,null,null,null,null,null,null,null,null,null,null,null,null,null,null,{"$f":"AU126+1","v":2},"¹"]
[null,null,null,null,null,null,null,null,null,null,null,null,null,null,null,null,null,null,null,null,null,null,null,null,null,null,null,null,null,3,{"$f":"CONCATENATE(\"             \")","v":"             "},null,null,null,null,null,null,null,null,null,null,null,null,null,null,null,{"$f":"AU127+1","v":3},"¹∙⁵"]
[null,null,null,null,null,null,null,null,null,null,null,null,null,null,null,null,null,null,null,null,null,null,null,null,null,null,null,null,null,4,{"$f":"CONCATENATE(\"            \")","v":"            "},null,null,null,null,null,null,null,null,null,null,null,null,null,null,null,4,"²"]
[null,null,null,null,null,null,null,null,null,null,null,null,null,null,null,null,null,null,null,null,null,null,null,null,null,null,null,null,null,5,{"$f":"CONCATENATE(\"           \")","v":"           "},null,null,null,null,null,null,null,null,null,null,null,null,null,null,null,5,"²∙⁵"]
[null,null,null,null,null,null,null,null,null,null,null,null,null,null,null,null,null,null,null,null,null,null,null,null,null,null,null,null,null,6,{"$f":"CONCATENATE(\"         \")","v":"         "},null,null,null,null,null,null,null,null,null,null,null,null,null,null,null,6,"³"]
[null,null,null,null,null,null,null,null,null,null,null,null,null,null,null,null,null,null,null,null,null,null,null,null,null,null,null,null,null,7,{"$f":"CONCATENATE(\"       \")","v":"       "},null,null,null,null,null,null,null,null,null,null,null,null,null,null,null,7,"³∙⁵"]
[null,null,null,null,null,null,null,null,null,null,null,null,null,null,null,null,null,null,null,null,null,null,null,null,null,null,null,null,null,8,{"$f":"CONCATENATE(\"     \")","v":"     "},null,null,null,null,null,null,null,null,null,null,null,null,null,null,null,8,"⁴"]
[null,null,null,null,null,null,null,null,null,null,null,null,null,null,null,null,null,null,null,null,null,null,null,null,null,null,null,null,null,9,{"$f":"CONCATENATE(\"    \")","v":"    "},null,null,null,null,null,null,null,null,null,null,null,null,null,null,null,9,"⁴∙⁵"]
[null,null,null,null,null,null,null,null,null,null,null,null,null,null,null,null,null,null,null,null,null,null,null,null,null,null,null,null,null,10,{"$f":"CONCATENATE(\"  \")","v":"  "},null,null,null,null,null,null,null,null,null,null,null,null,null,null,null,10,"⁵"]
[null,null,null,null,null,null,null,null,null,null,null,null,null,null,null,null,null,null,null,null,null,null,null,null,null,null,null,null,null,11,{"$f":"CONCATENATE(\"\")","v":""},null,null,null,null,null,null,null,null,null,null,null,null,null,null,null,11,"⁵∙⁵"]
[null,null,null,null,null,null,null,null,null,null,null,null,null,null,null,null,null,null,null,null,null,null,null,null,null,null,null,null,null,12,{"$f":"CONCATENATE(\"    \")","v":"    "},null,null,null,null,null,null,null,null,null,null,null,null,null,null,null,12,"⁶"]
[null,null,null,null,null,null,null,null,null,null,null,null,null,null,null,null,null,null,null,null,null,null,null,null,null,null,null,null,null,13,"    ",null,null,null,null,null,null,null,null,null,null,null,null,null,null,null,13,"⁶∙⁵"]
[null,null,null,null,null,null,null,null,null,null,null,null,null,null,null,null,null,null,null,null,null,null,null,null,null,null,null,null,null,14,"    ",null,null,null,null,null,null,null,null,null,null,null,null,null,null,null,14,"⁷"]
[null,null,null,null,null,null,null,null,null,null,null,null,null,null,null,null,null,null,null,null,null,null,null,null,null,null,null,null,null,15,"    ",null,null,null,null,null,null,null,null,null,null,null,null,null,null,null,15,"⁷∙⁵"]
[null,null,null,null,null,null,null,null,null,null,null,null,null,null,null,null,null,null,null,null,null,null,null,null,null,null,null,null,null,16,"    ",null,null,null,null,null,null,null,null,null,null,null,null,null,null,null,16,"⁸"]
[null,null,null,null,null,null,null,null,null,null,null,null,null,null,null,null,null,null,null,null,null,null,null,null,null,null,null,null,null,17,"    ",null,null,null,null,null,null,null,null,null,null,null,null,null,null,null,17,"⁸∙⁵"]
[null,null,null,null,null,null,null,null,null,null,null,null,null,null,null,null,null,null,null,null,null,null,null,null,null,null,null,null,null,18,"    ",null,null,null,null,null,null,null,null,null,null,null,null,null,null,null,18,"⁹"]
[null,null,null,null,null,null,null,null,null,null,null,null,null,null,null,null,null,null,null,null,null,null,null,null,null,null,null,null,null,19,"    ",null,null,null,null,null,null,null,null,null,null,null,null,null,null,null,19,"⁹∙⁵"]
[null,null,null,null,null,null,null,null,null,null,null,null,null,null,null,null,null,null,null,null,null,null,null,null,null,null,null,null,null,20,"    ",null,null,null,null,null,null,null,null,null,null,null,null,null,null,null,20,"¹º"]
[null,null,null,null,null,null,null,null,null,null,null,null,null,null,null,null,null,null,null,null,null,null,null,null,null,null,null,null,null,21,"    ",null,null,null,null,null,null,null,null,null,null,null,null,null,null,null,21,"¹º∙⁵"]
[null,null,null,null,null,null,null,null,null,null,null,null,null,null,null,null,null,null,null,null,null,null,null,null,null,null,null,null,null,22,"    ",null,null,null,null,null,null,null,null,null,null,null,null,null,null,null,22,"¹¹"]
[null,null,null,null,null,null,null,null,null,null,null,null,null,null,null,null,null,null,null,null,null,null,null,null,null,null,null,null,null,23,"    ",null,null,null,null,null,null,null,null,null,null,null,null,null,null,null,23,"¹¹∙⁵"]
[null,null,null,null,null,null,null,null,null,null,null,null,null,null,null,null,null,null,null,null,null,null,null,null,null,null,null,null,null,24,{"$f":"CONCATENATE(\"           \")","v":"           "},null,null,null,null,null,null,null,null,null,null,null,null,null,null,null,24,"¹²"]
[null,null,null,null,null,null,null,null,null,null,null,null,null,null,null,null,null,null,null,null,null,null,null,null,null,null,null,null,null,25,"    ",null,null,null,null,null,null,null,null,null,null,null,null,null,null,null,25]
[null,null,null,null,null,null,null,null,null,null,null,null,null,null,null,null,null,null,null,null,null,null,null,null,null,null,null,null,null,26,{"$f":"CONCATENATE(\"       \")","v":"       "},null,null,null,null,null,null,null,null,null,null,null,null,null,null,null,26]
[null,null,null,null,null,null,null,null,null,null,null,null,null,null,null,null,null,null,null,null,null,null,null,null,null,null,null,null,null,27,{"$f":"CONCATENATE(\"    \")","v":"    "},null,null,null,null,null,null,null,null,null,null,null,null,null,null,null,27]
[null,null,null,null,null,null,null,null,null,null,null,null,null,null,null,null,null,null,null,null,null,null,null,null,null,null,null,null,null,28,{"$f":"CONCATENATE(\"   \")","v":"   "},null,null,null,null,null,null,null,null,null,null,null,null,null,null,null,28]
[null,null,null,null,null,null,null,null,null,null,null,null,null,null,null,null,null,null,null,null,null,null,null,null,null,null,null,null,null,29,"    ",null,null,null,null,null,null,null,null,null,null,null,null,null,null,null,29]
[null,null,null,null,null,null,null,null,null,null,null,null,null,null,null,null,null,null,null,null,null,null,null,null,null,null,null,null,null,30,{"$f":"CONCATENATE(\"\")","v":""},null,null,null,null,null,null,null,null,null,null,null,null,null,null,null,30]
[null,null,null,null,null,null,null,null,null,null,null,null,null,null,null,null,null,null,null,null,null,null,null,null,null,null,null,null,null,31,"    ",null,null,null,null,null,null,null,null,null,null,null,null,null,null,null,31]
[null,null,null,null,null,null,null,null,null,null,null,null,null,null,null,null,null,null,null,null,null,null,null,null,null,null,null,null,null,32,{"$f":"CONCATENATE(\"\")","v":""},null,null,null,null,null,null,null,null,null,null,null,null,null,null,null,32]
[null,null,null,null,null,null,null,null,null,null,null,null,null,null,null,null,null,null,null,null,null,null,null,null,null,null,null,null,null,33,"    ",null,null,null,null,null,null,null,null,null,null,null,null,null,null,null,33]
[null,null,null,null,null,null,null,null,null,null,null,null,null,null,null,null,null,null,null,null,null,null,null,null,null,null,null,null,null,34,{"$f":"CONCATENATE(\"\")","v":""},null,null,null,null,null,null,null,null,null,null,null,null,null,null,null,34]
[null,null,null,null,null,null,null,null,null,null,null,null,null,null,null,null,null,null,null,null,null,null,null,null,null,null,null,null,null,35,"    ",null,null,null,null,null,null,null,null,null,null,null,null,null,null,null,35]
[null,null,null,null,null,null,null,null,null,null,null,null,null,null,null,null,null,null,null,null,null,null,null,null,null,null,null,null,null,36,{"$f":"CONCATENATE(\"\")","v":""},null,null,null,null,null,null,null,null,null,null,null,null,null,null,null,36]
[null,null,null,null,null,null,null,null,null,null,null,null,null,null,null,null,null,null,null,null,null,null,null,null,null,null,null,null,null,37,"    ",null,null,null,null,null,null,null,null,null,null,null,null,null,null,null,37]
[null,null,null,null,null,null,null,null,null,null,null,null,null,null,null,null,null,null,null,null,null,null,null,null,null,null,null,null,null,38,{"$f":"CONCATENATE(\"\")","v":""},null,null,null,null,null,null,null,null,null,null,null,null,null,null,null,38]
[null,null,null,null,null,null,null,null,null,null,null,null,null,null,null,null,null,null,null,null,null,null,null,null,null,null,null,null,null,39,"    ",null,null,null,null,null,null,null,null,null,null,null,null,null,null,null,39]
[null,null,null,null,null,null,null,null,null,null,null,null,null,null,null,null,null,null,null,null,null,null,null,null,null,null,null,null,null,40,{"$f":"CONCATENATE(\"\")","v":""},null,null,null,null,null,null,null,null,null,null,null,null,null,null,null,40]
[null,null,null,null,null,null,null,null,null,null,null,null,null,null,null,null,null,null,null,null,null,null,null,null,null,null,null,null,null,41,"    ",null,null,null,null,null,null,null,null,null,null,null,null,null,null,null,41]
[null,null,null,null,null,null,null,null,null,null,null,null,null,null,null,null,null,null,null,null,null,null,null,null,null,null,null,null,null,42,{"$f":"CONCATENATE(\"\")","v":""},null,null,null,null,null,null,null,null,null,null,null,null,null,null,null,42]
[null,null,null,null,null,null,null,null,null,null,null,null,null,null,null,null,null,null,null,null,null,null,null,null,null,null,null,null,null,43,"    ",null,null,null,null,null,null,null,null,null,null,null,null,null,null,null,43]
[null,null,null,null,null,null,null,null,null,null,null,null,null,null,null,null,null,null,null,null,null,null,null,null,null,null,null,null,null,44,{"$f":"CONCATENATE(\"\")","v":""},null,null,null,null,null,null,null,null,null,null,null,null,null,null,null,44]
[null,null,null,null,null,null,null,null,null,null,null,null,null,null,null,null,null,null,null,null,null,null,null,null,null,null,null,null,null,45,"    ",null,null,null,null,null,null,null,null,null,null,null,null,null,null,null,45]
[null,null,null,null,null,null,null,null,null,null,null,null,null,null,null,null,null,null,null,null,null,null,null,null,null,null,null,null,null,46,{"$f":"CONCATENATE(\"\")","v":""},null,null,null,null,null,null,null,null,null,null,null,null,null,null,null,46]
[null,null,null,null,null,null,null,null,null,null,null,null,null,null,null,null,null,null,null,null,null,null,null,null,null,null,null,null,null,47,"    ",null,null,null,null,null,null,null,null,null,null,null,null,null,null,null,47]
[null,null,null,null,null,null,null,null,null,null,null,null,null,null,null,null,null,null,null,null,null,null,null,null,null,null,null,null,null,48,{"$f":"CONCATENATE(\"\")","v":""},null,null,null,null,null,null,null,null,null,null,null,null,null,null,null,48]
[null,null,null,null,null,null,null,null,null,null,null,null,null,null,null,null,null,null,null,null,null,null,null,null,null,null,null,null,null,49,"    ",null,null,null,null,null,null,null,null,null,null,null,null,null,null,null,49]
[null,null,null,null,null,null,null,null,null,null,null,null,null,null,null,null,null,null,null,null,null,null,null,null,null,null,null,null,null,50,{"$f":"CONCATENATE(\"\")","v":""},null,null,null,null,null,null,null,null,null,null,null,null,null,null,null,50]
[null,null,null,null,null,null,null,null,null,null,null,null,null,null,null,null,null,null,null,null,null,null,null,null,null,null,null,null,null,51,"    ",null,null,null,null,null,null,null,null,null,null,null,null,null,null,null,51]
[null,null,null,null,null,null,null,null,null,null,null,null,null,null,null,null,null,null,null,null,null,null,null,null,null,null,null,null,null,null,null,null,null,null,null,null,null,null,null,null,null,null,null,null,null,null,52]
[null,null,null,null,null,null,null,null,null,null,null,null,null,null,null,null,null,null,null,null,null,null,null,null,null,null,null,null,null,null,null,null,null,null,null,null,null,null,null,null,null,null,null,null,null,null,53]
[null,null,null,null,null,null,null,null,null,null,null,null,null,null,null,null,null,null,null,null,null,null,null,null,null,null,null,null,null,null,null,null,null,null,null,null,null,null,null,null,null,null,null,null,null,null,54]
[null,null,null,null,null,null,null,null,null,null,null,null,null,null,null,null,null,null,null,null,null,null,null,null,null,null,null,null,null,null,null,null,null,null,null,null,null,null,null,null,null,null,null,null,null,null,55]
[null,null,null,null,null,null,null,null,null,null,null,null,null,null,null,null,null,null,null,null,null,null,null,null,null,null,null,null,null,null,null,null,null,null,null,null,null,null,null,null,null,null,null,null,null,null,56]
[null,null,null,null,null,null,null,null,null,null,null,null,null,null,null,null,null,null,null,null,null,null,null,null,null,null,null,null,null,null,null,null,null,null,null,null,null,null,null,null,null,null,null,null,null,null,57]
[null,null,null,null,null,null,null,null,null,null,null,null,null,null,null,null,null,null,null,null,null,null,null,null,null,null,null,null,null,null,null,null,null,null,null,null,null,null,null,null,null,null,null,null,null,null,58]
[null,null,null,null,null,null,null,null,null,null,null,null,null,null,null,null,null,null,null,null,null,null,null,null,null,null,null,null,null,null,null,null,null,null,null,null,null,null,null,null,null,null,null,null,null,null,59]
[null,null,null,null,null,null,null,null,null,null,null,null,null,null,null,null,null,null,null,null,null,null,null,null,null,null,null,null,null,null,null,null,null,null,null,null,null,null,null,null,null,null,null,null,null,null,60]
[null,null,null,null,null,null,null,null,null,null,null,null,null,null,null,null,null,null,null,null,null,null,null,null,null,null,null,null,null,null,null,null,null,null,null,null,null,null,null,null,null,null,null,null,null,null,61]
[null,null,null,null,null,null,null,null,null,null,null,null,null,null,null,null,null,null,null,null,null,null,null,null,null,null,null,null,null,null,null,null,null,null,null,null,null,null,null,null,null,null,null,null,null,null,62]
[null,null,null,null,null,null,null,null,null,null,null,null,null,null,null,null,null,null,null,null,null,null,null,null,null,null,null,null,null,null,null,null,null,null,null,null,null,null,null,null,null,null,null,null,null,null,63]
[null,null,null,null,null,null,null,null,null,null,null,null,null,null,null,null,null,null,null,null,null,null,null,null,null,null,null,null,null,null,null,null,null,null,null,null,null,null,null,null,null,null,null,null,null,null,64]
[null,null,null,null,null,null,null,null,null,null,null,null,null,null,null,null,null,null,null,null,null,null,null,null,null,null,null,null,null,null,null,null,null,null,null,null,null,null,null,null,null,null,null,null,null,null,65]
[null,null,null,null,null,null,null,null,null,null,null,null,null,null,null,null,null,null,null,null,null,null,null,null,null,null,null,null,null,null,null,null,null,null,null,null,null,null,null,null,null,null,null,null,null,null,66]
[null,null,null,null,null,null,null,null,null,null,null,null,null,null,null,null,null,null,null,null,null,null,null,null,null,null,null,null,null,null,null,null,null,null,null,null,null,null,null,null,null,null,null,null,null,null,{"$f":"AU191+1","v":67}]
[null,null,null,null,null,null,null,null,null,null,null,null,null,null,null,null,null,null,null,null,null,null,null,null,null,null,null,null,null,null,null,null,null,null,null,null,null,null,null,null,null,null,null,null,null,null,68]
[null,null,null,null,null,null,null,null,null,null,null,null,null,null,null,null,null,null,null,null,null,null,null,null,null,null,null,null,null,null,null,null,null,null,null,null,null,null,null,null,null,null,null,null,null,null,69]
[null,null,null,null,null,null,null,null,null,null,null,null,null,null,null,null,null,null,null,null,null,null,null,null,null,null,null,null,null,null,null,null,null,null,null,null,null,null,null,null,null,null,null,null,null,null,70]
[null,null,null,null,null,null,null,null,null,null,null,null,null,null,null,null,null,null,null,null,null,null,null,null,null,null,null,null,null,null,null,null,null,null,null,null,null,null,null,null,null,null,null,null,null,null,71]
[null,null,null,null,null,null,null,null,null,null,null,null,null,null,null,null,null,null,null,null,null,null,null,null,null,null,null,null,null,null,null,null,null,null,null,null,null,null,null,null,null,null,null,null,null,null,72]
[null,null,null,null,null,null,null,null,null,null,null,null,null,null,null,null,null,null,null,null,null,null,null,null,null,null,null,null,null,null,null,null,null,null,null,null,null,null,null,null,null,null,null,null,null,null,73]
[null,null,null,null,null,null,null,null,null,null,null,null,null,null,null,null,null,null,null,null,null,null,null,null,null,null,null,null,null,null,null,null,null,null,null,null,null,null,null,null,null,null,null,null,null,null,74]
[null,null,null,null,null,null,null,null,null,null,null,null,null,null,null,null,null,null,null,null,null,null,null,null,null,null,null,null,null,null,null,null,null,null,null,null,null,null,null,null,null,null,null,null,null,null,75]
[null,null,null,null,null,null,null,null,null,null,null,null,null,null,null,null,null,null,null,null,null,null,null,null,null,null,null,null,null,null,null,null,null,null,null,null,null,null,null,null,null,null,null,null,null,null,76]
[null,null,null,null,null,null,null,null,null,null,null,null,null,null,null,null,null,null,null,null,null,null,null,null,null,null,null,null,null,null,null,null,null,null,null,null,null,null,null,null,null,null,null,null,null,null,77]
[null,null,null,null,null,null,null,null,null,null,null,null,null,null,null,null,null,null,null,null,null,null,null,null,null,null,null,null,null,null,null,null,null,null,null,null,null,null,null,null,null,null,null,null,null,null,78]
[null,null,null,null,null,null,null,null,null,null,null,null,null,null,null,null,null,null,null,null,null,null,null,null,null,null,null,null,null,null,null,null,null,null,null,null,null,null,null,null,null,null,null,null,null,null,79]
[null,null,null,null,null,null,null,null,null,null,null,null,null,null,null,null,null,null,null,null,null,null,null,null,null,null,null,null,null,null,null,null,null,null,null,null,null,null,null,null,null,null,null,null,null,null,80]
[null,null,null,null,null,null,null,null,null,null,null,null,null,null,null,null,null,null,null,null,null,null,null,null,null,null,null,null,null,null,null,null,null,null,null,null,null,null,null,null,null,null,null,null,null,null,81]
[null,null,null,null,null,null,null,null,null,null,null,null,null,null,null,null,null,null,null,null,null,null,null,null,null,null,null,null,null,null,null,null,null,null,null,null,null,null,null,null,null,null,null,null,null,null,82]
[null,null,null,null,null,null,null,null,null,null,null,null,null,null,null,null,null,null,null,null,null,null,null,null,null,null,null,null,null,null,null,null,null,null,null,null,null,null,null,null,null,null,null,null,null,null,83]
[null,null,null,null,null,null,null,null,null,null,null,null,null,null,null,null,null,null,null,null,null,null,null,null,null,null,null,null,null,null,null,null,null,null,null,null,null,null,null,null,null,null,null,null,null,null,84]
[null,null,null,null,null,null,null,null,null,null,null,null,null,null,null,null,null,null,null,null,null,null,null,null,null,null,null,null,null,null,null,null,null,null,null,null,null,null,null,null,null,null,null,null,null,null,85]
[null,null,null,null,null,null,null,null,null,null,null,null,null,null,null,null,null,null,null,null,null,null,null,null,null,null,null,null,null,null,null,null,null,null,null,null,null,null,null,null,null,null,null,null,null,null,86]
[null,null,null,null,null,null,null,null,null,null,null,null,null,null,null,null,null,null,null,null,null,null,null,null,null,null,null,null,null,null,null,null,null,null,null,null,null,null,null,null,null,null,null,null,null,null,87]
[null,null,null,null,null,null,null,null,null,null,null,null,null,null,null,null,null,null,null,null,null,null,null,null,null,null,null,null,null,null,null,null,null,null,null,null,null,null,null,null,null,null,null,null,null,null,88]
[null,null,null,null,null,null,null,null,null,null,null,null,null,null,null,null,null,null,null,null,null,null,null,null,null,null,null,null,null,null,null,null,null,null,null,null,null,null,null,null,null,null,null,null,null,null,89]
[null,null,null,null,null,null,null,null,null,null,null,null,null,null,null,null,null,null,null,null,null,null,null,null,null,null,null,null,null,null,null,null,null,null,null,null,null,null,null,null,null,null,null,null,null,null,90]
[null,null,null,null,null,null,null,null,null,null,null,null,null,null,null,null,null,null,null,null,null,null,null,null,null,null,null,null,null,null,null,null,null,null,null,null,null,null,null,null,null,null,null,null,null,null,91]
[null,null,null,null,null,null,null,null,null,null,null,null,null,null,null,null,null,null,null,null,null,null,null,null,null,null,null,null,null,null,null,null,null,null,null,null,null,null,null,null,null,null,null,null,null,null,92]
[null,null,null,null,null,null,null,null,null,null,null,null,null,null,null,null,null,null,null,null,null,null,null,null,null,null,null,null,null,null,null,null,null,null,null,null,null,null,null,null,null,null,null,null,null,null,93]
[null,null,null,null,null,null,null,null,null,null,null,null,null,null,null,null,null,null,null,null,null,null,null,null,null,null,null,null,null,null,null,null,null,null,null,null,null,null,null,null,null,null,null,null,null,null,94]
[null,null,null,null,null,null,null,null,null,null,null,null,null,null,null,null,null,null,null,null,null,null,null,null,null,null,null,null,null,null,null,null,null,null,null,null,null,null,null,null,null,null,null,null,null,null,95]
[null,null,null,null,null,null,null,null,null,null,null,null,null,null,null,null,null,null,null,null,null,null,null,null,null,null,null,null,null,null,null,null,null,null,null,null,null,null,null,null,null,null,null,null,null,null,96]
[null,null,null,null,null,null,null,null,null,null,null,null,null,null,null,null,null,null,null,null,null,null,null,null,null,null,null,null,null,null,null,null,null,null,null,null,null,null,null,null,null,null,null,null,null,null,97]
[null,null,null,null,null,null,null,null,null,null,null,null,null,null,null,null,null,null,null,null,null,null,null,null,null,null,null,null,null,null,null,null,null,null,null,null,null,null,null,null,null,null,null,null,null,null,98]
[null,null,null,null,null,null,null,null,null,null,null,null,null,null,null,null,null,null,null,null,null,null,null,null,null,null,null,null,null,null,null,null,null,null,null,null,null,null,null,null,null,null,null,null,null,null,99]
[null,null,null,null,null,null,null,null,null,null,null,null,null,null,null,null,null,null,null,null,null,null,null,null,null,null,null,null,null,null,null,null,null,null,null,null,null,null,null,null,null,null,null,null,null,null,100]
[null,null,null,null,null,null,null,null,null,null,null,null,null,null,null,null,null,null,null,null,null,null,null,null,null,null,null,null,null,null,null,null,null,null,null,null,null,null,null,null,null,null,null,null,null,null,101]
[null,null,null,null,null,null,null,null,null,null,null,null,null,null,null,null,null,null,null,null,null,null,null,null,null,null,null,null,null,null,null,null,null,null,null,null,null,null,null,null,null,null,null,null,null,null,102]
[null,null,null,null,null,null,null,null,null,null,null,null,null,null,null,null,null,null,null,null,null,null,null,null,null,null,null,null,null,null,null,null,null,null,null,null,null,null,null,null,null,null,null,null,null,null,103]
[null,null,null,null,null,null,null,null,null,null,null,null,null,null,null,null,null,null,null,null,null,null,null,null,null,null,null,null,null,null,null,null,null,null,null,null,null,null,null,null,null,null,null,null,null,null,104]
[null,null,null,null,null,null,null,null,null,null,null,null,null,null,null,null,null,null,null,null,null,null,null,null,null,null,null,null,null,null,null,null,null,null,null,null,null,null,null,null,null,null,null,null,null,null,105]
[null,null,null,null,null,null,null,null,null,null,null,null,null,null,null,null,null,null,null,null,null,null,null,null,null,null,null,null,null,null,null,null,null,null,null,null,null,null,null,null,null,null,null,null,null,null,106]
[null,null,null,null,null,null,null,null,null,null,null,null,null,null,null,null,null,null,null,null,null,null,null,null,null,null,null,null,null,null,null,null,null,null,null,null,null,null,null,null,null,null,null,null,null,null,107]
[null,null,null,null,null,null,null,null,null,null,null,null,null,null,null,null,null,null,null,null,null,null,null,null,null,null,null,null,null,null,null,null,null,null,null,null,null,null,null,null,null,null,null,null,null,null,108]
[null,null,null,null,null,null,null,null,null,null,null,null,null,null,null,null,null,null,null,null,null,null,null,null,null,null,null,null,null,null,null,null,null,null,null,null,null,null,null,null,null,null,null,null,null,null,109]
[null,null,null,null,null,null,null,null,null,null,null,null,null,null,null,null,null,null,null,null,null,null,null,null,null,null,null,null,null,null,null,null,null,null,null,null,null,null,null,null,null,null,null,null,null,null,110]
[null,null,null,null,null,null,null,null,null,null,null,null,null,null,null,null,null,null,null,null,null,null,null,null,null,null,null,null,null,null,null,null,null,null,null,null,null,null,null,null,null,null,null,null,null,null,111]
[null,null,null,null,null,null,null,null,null,null,null,null,null,null,null,null,null,null,null,null,null,null,null,null,null,null,null,null,null,null,null,null,null,null,null,null,null,null,null,null,null,null,null,null,null,null,112]
[null,null,null,null,null,null,null,null,null,null,null,null,null,null,null,null,null,null,null,null,null,null,null,null,null,null,null,null,null,null,null,null,null,null,null,null,null,null,null,null,null,null,null,null,null,null,113]
[null,null,null,null,null,null,null,null,null,null,null,null,null,null,null,null,null,null,null,null,null,null,null,null,null,null,null,null,null,null,null,null,null,null,null,null,null,null,null,null,null,null,null,null,null,null,114]
[null,null,null,null,null,null,null,null,null,null,null,null,null,null,null,null,null,null,null,null,null,null,null,null,null,null,null,null,null,null,null,null,null,null,null,null,null,null,null,null,null,null,null,null,null,null,115]
[null,null,null,null,null,null,null,null,null,null,null,null,null,null,null,null,null,null,null,null,null,null,null,null,null,null,null,null,null,null,null,null,null,null,null,null,null,null,null,null,null,null,null,null,null,null,116]
[null,null,null,null,null,null,null,null,null,null,null,null,null,null,null,null,null,null,null,null,null,null,null,null,null,null,null,null,null,null,null,null,null,null,null,null,null,null,null,null,null,null,null,null,null,null,117]
[null,null,null,null,null,null,null,null,null,null,null,null,null,null,null,null,null,null,null,null,null,null,null,null,null,null,null,null,null,null,null,null,null,null,null,null,null,null,null,null,null,null,null,null,null,null,118]
[null,null,null,null,null,null,null,null,null,null,null,null,null,null,null,null,null,null,null,null,null,null,null,null,null,null,null,null,null,null,null,null,null,null,null,null,null,null,null,null,null,null,null,null,null,null,119]
[null,null,null,null,null,null,null,null,null,null,null,null,null,null,null,null,null,null,null,null,null,null,null,null,null,null,null,null,null,null,null,null,null,null,null,null,null,null,null,null,null,null,null,null,null,null,120]
[null,null,null,null,null,null,null,null,null,null,null,null,null,null,null,null,null,null,null,null,null,null,null,null,null,null,null,null,null,null,null,null,null,null,null,null,null,null,null,null,null,null,null,null,null,null,121]
[null,null,null,null,null,null,null,null,null,null,null,null,null,null,null,null,null,null,null,null,null,null,null,null,null,null,null,null,null,null,null,null,null,null,null,null,null,null,null,null,null,null,null,null,null,null,122]
[null,null,null,null,null,null,null,null,null,null,null,null,null,null,null,null,null,null,null,null,null,null,null,null,null,null,null,null,null,null,null,null,null,null,null,null,null,null,null,null,null,null,null,null,null,null,123]

{"sheet":"PRBDEC+VE","index":25,"n_rows":149,"n_cols":56,"rows_kept":149,"cut":false,"hidden":false,"merged":[]}
[]
[null,null,{"$f":"RFPDEPOSVE!C2","v":"Evaluate each expression using a calculator."},null,null,null,null,null,null,null,null,null,null,null,null,null,null,null,null,null,null,null,null,null,null,null,null,null,{"$f":"IF(C14=1,8,IF(C14=2,8,IF(C14=3,10,9)))","v":9},{"$f":"IF($C$14=1,AD3,IF($C$14=2,AD4,IF($C$14=3,AD5,AD6)))","v":700},null,{"$f":"IF($C$14=1,AF3,IF($C$14=2,AF4,IF($C$14=3,AF5,AF6)))","v":8.2669999999999995},null,"x","x","x"]
[null,null,{"$f":"RFPDEPOSVE!C3","v":"Round to 2 d.p. when necessary."},null,null,null,null,null,null,null,null,null,null,null,null,null,null,null,null,null,null,null,null,null,null,null,null,null,{"$f":"'P&RDEC+VE'!AD109","v":"           "},{"$f":"IF(K20>T20,K20,T20)","v":64.92},{"$f":"IF(AE5=3,1,IF(AE5=5,1,IF(AE5=7,1,IF(AE5=9,1,IF(AE5=11,1,IF(AE5=13,1,0))))))","v":0},{"$f":"IF(K20>T20,T20,K20)","v":24.59},null,{"$f":"IF(AK4>5,INT(5*RAND())+5,IF(AK4>4,INT(6*RAND())+4,IF(AK4>2.5,INT(7*RAND())+3,INT(8*RAND())+2)))","v":6},null,null,{"$f":"(INT(12*RAND())+3)/2","v":7}]
[null,null,{"$f":"INT(8*RAND())+2","v":7},{"$f":"IF(RAND()>0.5,2,3)","v":2},{"$f":"IF(D4=3,\"³\",IF(D4=2,\"²\",\"\"))","v":"²"},{"$f":"INT(10*RAND())+0","v":5},{"$f":"INT(9*RAND())+1","v":3},{"$f":"IF(D4=3,0,INT(9*RAND())+1)","v":5},{"$f":"F4+G4/10+H4/100","v":5.35},{"$f":"IF(RAND()>0.5,CONCATENATE(C4,\"\",\"(\",AA4*I4,\" + \",(1-AA4)*I4,\")\",E4),CONCATENATE(C4,\"\",\"(\",Y4*I4,\" − \",(Y4-1)*I4,\")\",E4))","v":"7(1.605 + 3.745)²"},{"$f":"CONCATENATE(C4*I4^D4)","v":"200.3575"},{"$f":"INT(3*RAND())+1","v":2},{"$f":"IF(L4=1,2,IF(L4=2,4,8))","v":4},{"$f":"IF(M4=2,1,IF(M4=4,IF(RAND()>0.5,1,3),IF(RAND()>0.75,1,IF(RAND()>0.5,3,IF(RAND()>0.25,5,7)))))","v":1},{"$f":"N4/M4","v":0.25},{"$f":"IF(O4=0.125,\"⅛\",IF(O4=0.25,\"¼\",IF(O4=0.375,\"⅜\",IF(O4=0.5,\"½\",IF(O4=0.625,\"⅝\",IF(O4=0.75,\"¾\",\"⅞\"))))))","v":"¼"},{"$f":"IF(M4=2,3,2)","v":2},{"$f":"IF(Q4=3,\"³\",IF(Q4=2,\"²\",\"\"))","v":"²"},{"$f":"INT(10*RAND())+0","v":9},{"$f":"INT(9*RAND())+1","v":3},0,{"$f":"S4+T4/10+U4/100","v":9.3000000000000007},{"$f":"IF(RAND()>0.5,CONCATENATE(P4,\"\",\"(\",AA4*V4,\" + \",(1-AA4)*V4,\")\",R4),CONCATENATE(P4,\"\",\"(\",Y4*V4,\" − \",(Y4-1)*V4,,\")\",R4))","v":"¼(13.95 − 4.65)²"},{"$f":"CONCATENATE(O4*V4^Q4)","v":"21.6225"},{"$f":"0.5*(INT(10*RAND())+3)","v":1.5},{"$f":"RAND()","v":0.60090842393053712},{"$f":"IF(Z4>0.8,0.2,IF(Z4>0.6,0.3,IF(Z4>0.4,0.4,IF(Z4>0.6,0.7,0.9))))","v":0.3},null,null,{"$f":"K21","v":223.8},"x",{"$f":"T21","v":9.69},{"$f":"INT(10*RAND())+0","v":6},{"$f":"IF(AG4=0,AH3,INT(9*RAND())+1)","v":2},{"$f":"IF(AI5=1,INT(9*RAND())+1,0)","v":2},{"$f":"T27","v":2.5259999999999998},{"$f":"(INT(9*RAND())+3)/2","v":5}]
[null,null,2,null,null,null,null,null,null,null,null,null,null,null,null,null,null,null,null,null,{"$f":"IF(C5=1,J4,IF(C5=2,W4,IF(C5=3,AP19,BA19)))","v":"¼(13.95 − 4.65)²"},"=",{"$f":"CONCATENATE(IF(C5=1,K4,IF(C5=2,X4,IF(C5=3,AS19,BD19))))","v":"21.6225"},null,null,null,null,null,5,{"$f":"IF(Z22<N22,K22,W22)","v":6.8289999999999997},{"$f":"2*AK4","v":10},{"$f":"IF(Z22<N22,W22,K22)","v":7.5919999999999996},null,null,{"$f":"IF(RAND()>0.5,1,0)","v":1},{"$f":"AJ4^AK4","v":102.84110422408135},{"$f":"IF(AK9=0,0,1/300000000)","v":3.3333333333333334E-9}]
[null,null,null,null,null,null,null,null,null,null,null,null,null,null,null,null,null,null,null,null,null,"=",{"$f":"W5","v":"21.6225"},null,null,null,null,null,null,{"$f":"Q23","v":700},"x",{"$f":"K23","v":8.2669999999999995},null,null,2,{"$f":"AJ5+AK5","v":102.84110422741468},{"$f":"AJ6^1","v":102.84110422741468},{"$f":"CONCATENATE(AJ6)","v":"102.841104227415"},{"$f":"IF(AJ6=0,CONCATENATE(\"0\",AJ8,\"\"),CONCATENATE(AP6,AO6))","v":"102.84 (2 d.p.)"},{"$f":"CONCATENATE(ROUND(AL7,9))","v":"102.841104227"},{"$f":"IF(AP7=0,CONCATENATE(AJ8),CONCATENATE(AT7,AJ8,\" (\",AI6,\" d.p.)\"))","v":" (2 d.p.)"},{"$f":"IF(AP7=0,AK7,AJ7)","v":102.84},{"$f":"ROUND(100*AJ7,0)","v":10284},{"$f":"AQ6-AQ7*100","v":84},{"$f":"IF(AP7=0,\"\",IF(AR7=0,\".0\",\"\"))","v":""},{"$f":"AQ6-AQ7*100-AR7*10","v":4}]
[null,null,{"$f":"INT(9*RAND())+1","v":3},{"$f":"INT(9*RAND())+1","v":7},{"$f":"IF(AC5=1,INT(9*RAND())+1,0)","v":0},{"$f":"C7+D7/10+E7/100","v":3.7},{"$f":"IF(RAND()>0.5,1,-1)","v":-1},{"$f":"IF(G7=1,\" + \",\" − \")","v":" − "},{"$f":"INT(9*RAND())+1","v":2},{"$f":"INT(9*RAND())+1","v":8},{"$f":"IF(AC5=2,INT(9*RAND())+1,0)","v":0},{"$f":"I7+J7/10+K7/100","v":2.8},{"$f":"IF(AND(G7=-1,L7>F7),CONCATENATE(L7,H7,F7),CONCATENATE(F7,H7,L7))","v":"3.7 − 2.8"},{"$f":"IF(RAND()>0.5,2,3)","v":3},{"$f":"IF(N7=2,\"√\",\"³√\")","v":"³√"},{"$f":"IF(RAND()>0.5,1,-1)","v":1},{"$f":"IF(P7=1,\" + \",\" − \")","v":" + "},{"$f":"INT(9*RAND())+1","v":2},{"$f":"INT(9*RAND())+1","v":7},{"$f":"IF(AC5=3,INT(9*RAND())+1,0)","v":0},{"$f":"R7+S7/10+T7/100","v":2.7},{"$f":"IF(RAND()>0.5,1,-1)","v":-1},{"$f":"IF(V7=1,\" × \",\" ÷ \")","v":" ÷ "},{"$f":"INT(9*RAND())+1","v":3},{"$f":"INT(9*RAND())+1","v":8},{"$f":"IF(AC5=4,INT(9*RAND())+1,0)","v":0},{"$f":"X7+Y7/10+Z7/100","v":3.8},{"$f":"CONCATENATE(U7,W7,AA7)","v":"2.7 ÷ 3.8"},{"$f":"IF(N7=3,2,3)","v":2},{"$f":"IF(AC7=2,\"√\",\"³√\")","v":"√"},null,8,null,null,{"$f":"ROUNDDOWN(AK6,0)","v":102},{"$f":"ROUND(AK6,AI6)","v":102.84},{"$f":"ROUND(AK6,6)","v":102.841104},{"$f":"ROUND(AK6,9)","v":102.841104227},{"$f":"ROUND(AL7-AI7,9)","v":0.84110422699999998},{"$f":"ROUND(AK7-AI7,9)","v":0.84110399999999996},{"$f":"ROUND(AL7-AI7,9)","v":0.84110422699999998},{"$f":"AO7-AN7","v":2.270000000192951E-7},{"$f":"ROUNDDOWN(AQ6/100,0)","v":102},{"$f":"ROUNDDOWN(AR6/10,0)","v":8},{"$f":"IF(AT6=0,0,\"\")","v":""},{"$f":"IF(AI6=2,IF(AT6=0,CONCATENATE(AS6,AS7),AS7),AS6)","v":""}]
[null,null,null,null,null,null,null,null,null,null,null,null,null,null,null,null,null,null,null,null,{"$f":"IF(AF8=1,CONCATENATE(O7,\"(\",M7,\")\",Q7,AD7,\"(\",AB7,\")\"),CONCATENATE(AD7,\"(\",AB7,\")\",Q7,O7,\"(\",M7,\")\",))","v":"³√(3.7 − 2.8) + √(2.7 ÷ 3.8)"},"=",{"$f":"CONCATENATE(ROUND(AI20,8))","v":"1.80841662"},null,null,null,null,null,null,{"$f":"(ABS(F7+G7*L7))^(1/N7)","v":0.96548938460562994},{"$f":"(ABS(U7*(AA7^V7)))^(1/AC7)","v":0.84292723042352458},{"$f":"IF(AE8>AD8,-1,1)","v":1},null,null,null,{"$f":"IF(AK8=\"cm\",\"\",\"\")","v":""},"NIL",null,{"$f":"ROUND(AK6,2)","v":102.84},{"$f":"AM6","v":"102.84 (2 d.p.)"}]
[null,null,null,null,null,null,null,null,null,null,null,null,null,null,null,null,null,null,null,null,null,"=",{"$f":"AL20","v":"1.81 (2 d.p.)"},null,null,null,null,null,null,null,null,null,null,null,null,null,{"$f":"ROUND((AM9-AL9)*10000,7)","v":422.4080988},{"$f":"ROUNDDOWN(AM9,0)","v":1028411},{"$f":"10000*AN9","v":1028411.0422408099},{"$f":"CONCATENATE(AJ4^AK4)","v":"102.841104224081"}]
[null,null,{"$f":"CONCATENATE(AC3,AM11)","v":"           7"},{"$f":"INT(4*RAND())+6","v":7},{"$f":"INT(9*RAND())+1","v":8},{"$f":"INT(9*RAND())+1","v":5},{"$f":"IF(RAND()>0.5,0,INT(9*RAND())+1)","v":0},{"$f":"D10*1000+E10*100+F10*10+G10","v":7850},{"$f":"H10/1000","v":7.85}," ÷ ",{"$f":"INT(3*RAND())+2","v":3},{"$f":"INT(9*RAND())+1","v":2},{"$f":"INT(9*RAND())+1","v":8},{"$f":"INT(9*RAND())+1","v":9},{"$f":"K10*1000+L10*100+M10*10+N10","v":3289},{"$f":"O10/1000","v":3.2890000000000001},{"$f":"CONCATENATE(\"(\",I10,J10,P10,\")\")","v":"(7.85 ÷ 3.289)"},null,null,null,null,null,null,null,null,null,null,null,null,{"$f":"ABS(I10+K10*S10)","v":7.85},null,null,null,{"$f":"IF(RAND()>0.5,1,0)","v":0},{"$f":"IF(RAND()>0.5,1,0)","v":0},{"$f":"IF(RAND()>0.5,1,0)","v":1},{"$f":"IF(RAND()>0.5,1,0)","v":1},{"$f":"IF(AM10>0.75,1,IF(AM10>0.5,10,IF(AM10>0.25,100,1000)))","v":100},{"$f":"RAND()","v":0.28468876330624737}]
[null,null,null,null,null,null,null,null,null,null,null,null,null,null,null,null,null,null,null,null,{"$f":"IF(AE3=0,CONCATENATE(Q27,AW125),CONCATENATE(Q27,AW125))","v":"(6.294 − 3.768)⁵"},"=",{"$f":"CONCATENATE(ROUND(AJ4^AK4,8))","v":"102.84110422"},null,null,null,null,null,null,null,null,null,null,{"$f":"IF(AI10=0,INT(99*RAND())+1,INT(9*RAND())+1)","v":48},{"$f":"IF(AI10=0,INT(10*RAND())+0,0)","v":3},{"$f":"IF(AJ10=0,INT(10*RAND())+0,0)","v":0},{"$f":"IF(AK10=0,INT(10*RAND())+0,0)","v":0},{"$f":"I13","v":631.65671099999997},{"$f":"INT(6*RAND())+4","v":7},{"$f":"IF(AM11=4,\"⁴\",IF(AM11=5,\"⁵\",IF(AM11=6,\"⁶\",IF(AM11=7,\"⁷\",IF(AM11=8,\"⁸\",\"⁹\")))))","v":"⁷"}]
[null,null,null,null,null,null,null,null,null,null,null,null,null,null,null,null,null,null,null,null,null,"=",{"$f":"AM6","v":"102.84 (2 d.p.)"},null,null,null,null,null,null,null,null,null,null,null,2,{"$f":"AL11^(1/AM11)","v":2.5122839895891946},{"$f":"AJ12^1","v":2.5122839895891946},{"$f":"CONCATENATE(AJ12)","v":"2.51228398958919"},{"$f":"IF(AJ12=0,CONCATENATE(\"0\",AJ14,\"\"),CONCATENATE(AP12,AO12))","v":"2.51 (2 d.p.)"},{"$f":"CONCATENATE(ROUND(AL13,9))","v":"2.51228399"},{"$f":"IF(AP13=0,CONCATENATE(AJ14),CONCATENATE(AT13,AJ14,\" (\",AI12,\" d.p.)\"))","v":" (2 d.p.)"},{"$f":"IF(AP13=0,AK13,AJ13)","v":2.5099999999999998},{"$f":"ROUND(100*AJ13,0)","v":251},{"$f":"AQ12-AQ13*100","v":51},{"$f":"IF(AP13=0,\"\",IF(AR13=0,\".0\",\"\"))","v":""},{"$f":"AQ12-AQ13*100-AR13*10","v":1}]
[null,null,{"$f":"$AK$4","v":5},{"$f":"$AK$4","v":5},null,null,null,null,{"$f":"IF(C14=1,AE20,IF(C14=2,AE21,IF(C14=3,AE22,AE23)))","v":631.65671099999997},{"$f":"I13^(1/AM11)","v":2.5122839895891946},null,null,null,null,null,null,null,null,null,null,null,null,null,null,null,null,null,null,null,null,null,null,null,null,{"$f":"ROUNDDOWN(AK12,0)","v":2},{"$f":"ROUND(AK12,AI12)","v":2.5099999999999998},{"$f":"ROUND(AK12,6)","v":2.5122840000000002},{"$f":"ROUND(AK12,9)","v":2.5122839899999998},{"$f":"ROUND(AL13-AI13,9)","v":0.51228399000000002},{"$f":"ROUND(AK13-AI13,9)","v":0.51228399999999996},{"$f":"ROUND(AL13-AI13,9)","v":0.51228399000000002},{"$f":"AO13-AN13","v":-9.9999999392252903E-9},{"$f":"ROUNDDOWN(AQ12/100,0)","v":2},{"$f":"ROUNDDOWN(AR12/10,0)","v":5},{"$f":"IF(AT12=0,0,\"\")","v":""},{"$f":"IF(AI12=2,IF(AT12=0,CONCATENATE(AS12,AS13),AS13),AS12)","v":""}]
[null,{"$f":"INT(4*RAND())+1","v":4},{"$f":"INT(4*RAND())+1","v":4},null,null,null,null,null,null,null,null,null,null,null,null,null,null,null,null,null,{"$f":"CONCATENATE(\"\",AN11,IF(C14=1,AA20,IF(C14=2,AA21,IF(C14=3,AA22,AA23))),\"\")","v":"⁷√(700 − 8.267²)"},"=",{"$f":"CONCATENATE(ROUND(J13,8))","v":"2.51228399"},null,null,null,null,null,null,null,null,null,null,{"$f":"IF(AI14<0,-1,1)","v":{"$error":"#DIV/0!"}},{"$f":"I7^(1/K7)+P7*S7^(1/V7)","v":{"$error":"#DIV/0!"}},{"$f":"IF(AK14=\"cm\",\"\",\"\")","v":""},"litres",null,{"$f":"ROUND(AK12,2)","v":2.5099999999999998},{"$f":"AM12","v":"2.51 (2 d.p.)"}]
[null,null,null,null,null,null,null,null,null,null,null,null,null,null,null,null,null,null,null,null,null,"=",{"$f":"AM12","v":"2.51 (2 d.p.)"},null,null,null,null,null,null,null,null,null,null,2,{"$f":"ABS(AI14)","v":{"$error":"#DIV/0!"}},{"$f":"AI15^1","v":{"$error":"#DIV/0!"}},{"$f":"CONCATENATE(AI15)","v":{"$error":"#DIV/0!"}},{"$f":"IF(AI15=0,CONCATENATE(\"0\",AI17,\"\"),CONCATENATE(AO15,AN15))","v":{"$error":"#DIV/0!"}},{"$f":"CONCATENATE(ROUND(AK16,9))","v":{"$error":"#DIV/0!"}},{"$f":"IF(AO16=0,CONCATENATE(AI17),CONCATENATE(AS16,AI17,\" (\",AH15,\" d.p.)\"))","v":{"$error":"#DIV/0!"}},{"$f":"IF(AO16=0,AJ16,AI16)","v":{"$error":"#DIV/0!"}},{"$f":"ROUND(100*AI16,0)","v":{"$error":"#DIV/0!"}},{"$f":"AP15-AP16*100","v":{"$error":"#DIV/0!"}},{"$f":"IF(AO16=0,\"\",IF(AQ16=0,\".0\",\"\"))","v":{"$error":"#DIV/0!"}},{"$f":"AP15-AP16*100-AQ16*10","v":{"$error":"#DIV/0!"}}]
[null,null,null,null,null,null,null,null,null,null,null,null,null,null,null,null,null,null,null,null,null,null,null,null,null,null,null,null,null,null,null,null,null,{"$f":"ROUNDDOWN(AJ15,0)","v":{"$error":"#DIV/0!"}},{"$f":"ROUND(AJ15,AH15)","v":{"$error":"#DIV/0!"}},{"$f":"ROUND(AJ15,6)","v":{"$error":"#DIV/0!"}},{"$f":"ROUND(AJ15,9)","v":{"$error":"#DIV/0!"}},{"$f":"ROUND(AK16-AH16,9)","v":{"$error":"#DIV/0!"}},{"$f":"ROUND(AJ16-AH16,9)","v":{"$error":"#DIV/0!"}},{"$f":"ROUND(AK16-AH16,9)","v":{"$error":"#DIV/0!"}},{"$f":"AN16-AM16","v":{"$error":"#DIV/0!"}},{"$f":"ROUNDDOWN(AP15/100,0)","v":{"$error":"#DIV/0!"}},{"$f":"ROUNDDOWN(AQ15/10,0)","v":{"$error":"#DIV/0!"}},{"$f":"IF(AS15=0,0,\"\")","v":{"$error":"#DIV/0!"}},{"$f":"IF(AH15=2,IF(AS15=0,CONCATENATE(AR15,AR16),AR16),AR15)","v":{"$error":"#DIV/0!"}}]
[null,null,null,null,null,null,null,null,null,null,null,null,null,null,null,null,null,null,null,null,null,null,null,null,null,null,null,null,null,null,null,null,null,null,{"$f":"IF(AJ17=\"cm\",\"\",\"\")","v":""},"NIL",null,{"$f":"ROUND(AJ15,2)","v":{"$error":"#DIV/0!"}}]
[]
[null,null,null,null,null,null,null,null,null,null,null,null,null,null,null,null,null,null,null,null,null,null,null,null,null,null,null,null,null,null,null,null,null,{"$f":"INT(5*RAND())+2","v":5},{"$f":"INT(9*RAND())+1","v":2},{"$f":"IF(RAND()>0.5,1,-1)","v":-1},{"$f":"IF(AJ19=1,\" + \",\" − \")","v":" − "},{"$f":"INT(8*RAND())+2","v":8},{"$f":"INT(9*RAND())+1","v":3},{"$f":"INT(3*RAND())+2","v":2},{"$f":"INT(9*RAND())+1","v":4},{"$f":"IF(RAND()>0.5,CONCATENATE(\"(\",AH19+AI19/10,\"²\",AK19,AL19+AM19/10,\" × \",AN19+AO19/10,\")²\"),CONCATENATE(\"(\",AL19+AM19/10,\" × \",AN19+AO19/10,AK19,AH19+AI19/10,\"²)²\"))","v":"(8.3 × 2.4 − 5.2²)²"},null,null,{"$f":"ROUND(((AH19+AI19/10)^2+AJ19*(AL19+AM19/10)*(AN19+AO19/10))^2,6)","v":50.694400000000002},{"$f":"INT(6*RAND())+2","v":2},{"$f":"IF(RAND()>0.5,1,-1)","v":1},{"$f":"IF(AU19=1,\" + \",\" − \")","v":" + "},{"$f":"INT(3*RAND())+2","v":3},{"$f":"INT(9*RAND())+1","v":8},{"$f":"INT(9*RAND())+2","v":4},{"$f":"AT19^2+AU19*((AW19+AX19/10)*AY19)","v":19.2},{"$f":"IF(AZ19<0,CONCATENATE(\"(\",AW19+AX19/10,\" × \",AY19,AV19,AT19,\"²)³\"),CONCATENATE(\"(\",AT19,\"²\",AV19,AW19+AX19/10,\" × \",AY19,\")³\"))","v":"(2² + 3.8 × 4)³"},null,null,{"$f":"ROUND(ABS(AZ19^3),6)","v":7077.8879999999999}]
[null,null,null,null,{"$f":"INT(9*RAND())+1","v":2},{"$f":"INT(9*RAND())+1","v":4},5,9,{"$f":"INT(2*RAND())+1","v":2},{"$f":"E20*1000+F20*100+G20*10+H20","v":2459},{"$f":"J20/10^I20","v":24.59},{"$f":"IF(RAND()>0.5,1,-1)","v":1},{"$f":"IF(L20=1,\" + \",\" − \")","v":" + "},{"$f":"INT(9*RAND())+1","v":6},{"$f":"INT(9*RAND())+1","v":4},9,2,{"$f":"INT(2*RAND())+1","v":2},{"$f":"N20*1000+O20*100+P20*10+Q20","v":6492},{"$f":"S20/10^R20","v":64.92},null,null,null,null,null,null,{"$f":"IF(K20>T20,CONCATENATE(\"√(\",K20,M20,T20,\")\"),CONCATENATE(\"√(\",T20,M20,K20,\")\"))","v":"√(64.92 + 24.59)"},null,null,null,{"$f":"ABS(K20+L20*T20)","v":89.51},null,null,2,{"$f":"ABS(AD8+P7*AE8)","v":1.8084166150291545},{"$f":"AI20^1","v":1.8084166150291545},{"$f":"CONCATENATE(AI20)","v":"1.80841661502915"},{"$f":"IF(AI20=0,CONCATENATE(\"0\",AI22,\"\"),CONCATENATE(AO20,AN20))","v":"1.81 (2 d.p.)"},{"$f":"CONCATENATE(ROUND(AK21,9))","v":"1.808416615"},{"$f":"IF(AO21=0,CONCATENATE(AI22),CONCATENATE(AS21,AI22,\" (\",AH20,\" d.p.)\"))","v":" (2 d.p.)"},{"$f":"IF(AO21=0,AJ21,AI21)","v":1.81},{"$f":"ROUND(100*AI21,0)","v":181},{"$f":"AP20-AP21*100","v":81},{"$f":"IF(AO21=0,\"\",IF(AQ21=0,\".0\",\"\"))","v":""},{"$f":"AP20-AP21*100-AQ21*10","v":1}]
[null,null,null,null,{"$f":"INT(9*RAND())+1","v":2},2,3,8,{"$f":"INT(2*RAND())+1","v":1},{"$f":"E21*1000+F21*100+G21*10+H21","v":2238},{"$f":"J21/10^I21","v":223.8},{"$f":"IF(RAND()>0.5,1,-1)","v":-1},{"$f":"IF(L21=1,\" × \",\" ÷ \")","v":" ÷ "},{"$f":"INT(9*RAND())+1","v":9},6,9,null,{"$f":"INT(2*RAND())+3","v":3},{"$f":"N21*1000+O21*100+P21*10","v":9690},{"$f":"S21/10^R21","v":9.69},null,null,null,null,null,null,{"$f":"CONCATENATE(\"√(\",K21,M21,T21,\")\")","v":"√(223.8 ÷ 9.69)"},null,null,null,{"$f":"ABS(K21*T21^L21)","v":23.095975232198146},null,null,{"$f":"ROUNDDOWN(AJ20,0)","v":1},{"$f":"ROUND(AJ20,AH20)","v":1.81},{"$f":"ROUND(AJ20,6)","v":1.8084169999999999},{"$f":"ROUND(AJ20,9)","v":1.8084166150000001},{"$f":"ROUND(AK21-AH21,9)","v":0.80841661499999995},{"$f":"ROUND(AJ21-AH21,9)","v":0.80841700000000005},{"$f":"ROUND(AK21-AH21,9)","v":0.80841661499999995},{"$f":"AN21-AM21","v":-3.8500000010266433E-7},{"$f":"ROUNDDOWN(AP20/100,0)","v":1},{"$f":"ROUNDDOWN(AQ20/10,0)","v":8},{"$f":"IF(AS20=0,0,\"\")","v":""},{"$f":"IF(AH20=2,IF(AS20=0,CONCATENATE(AR20,AR21),AR21),AR20)","v":""}]
[null,null,null,null,{"$f":"INT(9*RAND())+1","v":7},{"$f":"INT(9*RAND())+1","v":5},9,2,{"$f":"INT(2*RAND())+2","v":3},{"$f":"E22*1000+F22*100+G22*10+H22","v":7592},{"$f":"J22/10^I22","v":7.5919999999999996},{"$f":"IF(RAND()>0.5,2,3)","v":2},{"$f":"IF(L22=2,\"²\",\"³\")","v":"²"},{"$f":"K22^L22","v":57.638463999999992},{"$f":"IF(RAND()>0.5,1,-1)","v":1},{"$f":"IF(O22=1,\" + \",\" − \")","v":" + "},{"$f":"INT(9*RAND())+1","v":6},{"$f":"INT(9*RAND())+1","v":8},{"$f":"INT(9*RAND())+1","v":2},{"$f":"INT(9*RAND())+1","v":9},{"$f":"INT(2*RAND())+2","v":3},{"$f":"Q22*1000+R22*100+S22*10+T22","v":6829},{"$f":"V22/10^U22","v":6.8289999999999997},{"$f":"IF(RAND()>0.5,2,3)","v":3},{"$f":"IF(X22=2,\"²\",\"³\")","v":"³"},{"$f":"W22^X22","v":318.47206078899995},{"$f":"IF(Z22<N22,CONCATENATE(\"√(\",K22,M22,P22,W22,Y22,\")\",),CONCATENATE(\"√(\",W22,Y22,P22,K22,M22,\")\",))","v":"√(6.829³ + 7.592²)"},null,null,null,{"$f":"ABS(K22^L22+O22*W22^X22)","v":376.11052478899995},null,null,null,{"$f":"IF(AJ22=\"cm\",\"\",\"\")","v":""},"NIL",null,{"$f":"ROUND(AJ20,2)","v":1.81}]
[null,null,null,null,{"$f":"INT(9*RAND())+1","v":8},2,6,7,{"$f":"INT(2*RAND())+2","v":3},{"$f":"E23*1000+F23*100+G23*10+H23","v":8267},{"$f":"J23/10^I23","v":8.2669999999999995},{"$f":"IF(RAND()>0.5,2,3)","v":2},{"$f":"IF(L23=2,\"²\",\"³\")","v":"²"},{"$f":"K23^L23","v":68.343288999999984},{"$f":"ROUNDUP(N23,-2)","v":100},{"$f":"100*(INT(9*RAND())+1)","v":600},{"$f":"P23+O23","v":700},null,null,null,null,null,null,null,null,null,{"$f":"CONCATENATE(\"√(\",Q23,\" − \",K23,M23,\")\")","v":"√(700 − 8.267²)"},null,null,null,{"$f":"Q23-K23^L23","v":631.65671099999997}]
[]
[]
[]
[null,null,null,{"$f":"INT(4*RAND())+1","v":2},null,null,{"$f":"IF($D$27=1,G28,IF($D$27=2,G29,IF($D$27=3,G30,G31)))","v":4},{"$f":"IF(G27>0,1,0)","v":1},null,null,null,null,null,null,null,null,{"$f":"IF($D$27=1,Q28,IF($D$27=2,Q29,IF($D$27=3,Q30,Q31)))","v":"(6.294 − 3.768)"},null,null,{"$f":"IF($D$27=1,T28,IF($D$27=2,T29,IF($D$27=3,T30,T31)))","v":2.5259999999999998}]
[null,null,null,{"$f":"INT(4*RAND())+1","v":2},{"$f":"INT(9*RAND())+1","v":3},3,{"$f":"IF(RAND()>0.5,0,INT(9*RAND())+1)","v":5},{"$f":"D28*1000+E28*100+F28*10+G28","v":2335},{"$f":"H28/1000","v":2.335}," + ",{"$f":"INT(2*RAND())+1","v":2},{"$f":"INT(9*RAND())+1","v":8},4,4,{"$f":"K28*1000+L28*100+M28*10+N28","v":2844},{"$f":"O28/1000","v":2.8439999999999999},{"$f":"IF(RAND()>0.5,CONCATENATE(\"(\",I28,J28,P28,\")\"),CONCATENATE(\"(\",P28,J28,I28,\")\"))","v":"(2.335 + 2.844)"},null,null,{"$f":"I28+P28","v":5.1790000000000003}]
[null,null,null,{"$f":"INT(3*RAND())+5","v":6},2,9,{"$f":"IF(RAND()>0.5,0,INT(9*RAND())+1)","v":4},{"$f":"D29*1000+E29*100+F29*10+G29","v":6294},{"$f":"H29/1000","v":6.2939999999999996}," − ",{"$f":"INT(2*RAND())+3","v":3},7,6,8,{"$f":"K29*1000+L29*100+M29*10+N29","v":3768},{"$f":"O29/1000","v":3.7679999999999998},{"$f":"CONCATENATE(\"(\",I29,J29,P29,\")\")","v":"(6.294 − 3.768)"},null,null,{"$f":"I29-P29","v":2.5259999999999998}]
[null,null,null,{"$f":"INT(2*RAND())+1","v":2},9,3,{"$f":"IF(RAND()>0.5,0,INT(9*RAND())+1)","v":1},{"$f":"D30*1000+E30*100+F30*10+G30","v":2931},{"$f":"H30/1000","v":2.931}," × ",1,3,5,7,{"$f":"K30*1000+L30*100+M30*10+N30","v":1357},{"$f":"O30/1000","v":1.357},{"$f":"IF(RAND()>0.5,CONCATENATE(\"(\",I30,J30,P30,\")\"),CONCATENATE(\"(\",P30,J30,I30,\")\"))","v":"(2.931 × 1.357)"},null,null,{"$f":"I30*P30","v":3.9773670000000001}]
[null,null,null,{"$f":"INT(4*RAND())+6","v":8},9,3,{"$f":"IF(RAND()>0.5,0,INT(9*RAND())+1)","v":8},{"$f":"D31*1000+E31*100+F31*10+G31","v":8938},{"$f":"H31/1000","v":8.9380000000000006}," ÷ ",{"$f":"INT(3*RAND())+2","v":2},5,4,2,{"$f":"K31*1000+L31*100+M31*10+N31","v":2542},{"$f":"O31/1000","v":2.5419999999999998},{"$f":"CONCATENATE(\"(\",I31,J31,P31,\")\")","v":"(8.938 ÷ 2.542)"},null,null,{"$f":"I31/P31","v":3.5161290322580649}]
[]
[]
[]
[]
[]
[]
[]
[]
[null,null,null,null,null,null,null,null,null,null,null,null,null,null,null,null,null,null,null,null,null,null,null,null,null,null,null,null,null,null,null,null,"(15.1² ± 3.2 × 15.123)³"]
[null,null,null,null,null,null,null,null,null,null,null,null,null,null,null,null,null,null,null,null,null,null,null,null,null,null,null,null,null,null,null,null,"5 × √(3.2² ± 6.78³)"]
[null,null,null,null,null,null,null,null,null,null,null,null,null,null,null,null,null,null,null,null,null,null,null,null,null,null,null,null,null,null,null,null,"⅔ × √(3.2² + 6.78³)"]
[null,null,null,null,null,null,null,null,null,null,null,null,null,null,null,null,null,null,null,null,null,null,null,null,null,null,null,null,null,null,null,null,"³√(3.2² + 6.78³)"]
[null,null,null,null,null,null,null,null,null,null,null,null,null,null,null,null,null,null,null,null,null,null,null,null,null,null,null,null,null,null,null,null,"√(3.2 + 6.78)"]
[null,null,null,null,null,null,null,null,null,null,null,null,null,null,null,null,null,null,null,null,null,null,null,null,null,null,null,null,null,null,null,null,"³√(8.7 × 10¹º)"]
[null,null,null,null,null,null,null,null,null,null,null,null,null,null,null,null,null,null,null,null,null,null,null,null,null,null,null,null,null,null,null,null,"³√(3.2 − 6.78)"]
[null,null,null,null,null,null,null,null,null,null,null,null,null,null,null,null,null,null,null,null,null,null,null,null,null,null,null,null,null,null,null,null,"√6.78 × ³√5.6"]
[null,null,null,null,null,null,null,null,null,null,null,null,null,null,null,null,null,null,null,null,null,null,null,null,null,null,null,null,null,null,null,null,"√(15.1² ± 3.2³)"]
[null,null,null,null,null,null,null,null,null,null,null,null,null,null,null,null,null,null,null,null,null,null,null,null,null,null,null,null,null,null,null,null,"³√(15.1² ± 3.2 × 15.123)"]
[null,null,null,null,null,null,null,null,null,null,null,null,null,null,null,null,null,null,null,null,null,null,null,null,null,null,null,null,null,null,null,null,"(43.6 ± 13.92)³ + √4.68"]
[null,null,null,null,null,null,null,null,null,null,null,null,null,null,null,null,null,null,null,null,null,null,null,null,null,null,null,null,null,null,null,null,"(43.6 ± 13.92)² ± ³√4.68"]
[]
[null,null,null,null,null,null,null,null,null,null,null,null,null,null,null,null,null,null,null,null,null,null,null,null,null,null,null,null,null,null,null,null,"3.7² ± 6.7³"]
[null,null,null,null,null,null,null,null,null,null,null,null,null,null,null,null,null,null,null,null,null,null,null,null,null,null,null,null,null,null,null,null,"3.7² × 6.7³"]
[null,null,null,null,null,null,null,null,null,null,null,null,null,null,null,null,null,null,null,null,null,null,null,null,null,null,null,null,null,null,null,null,"5 × 6.78³"]
[null,null,null,null,null,null,null,null,null,null,null,null,null,null,null,null,null,null,null,null,null,null,null,null,null,null,null,null,null,null,null,null,"1⅔ × 6.78³"]
[null,null,null,null,null,null,null,null,null,null,null,null,null,null,null,null,null,null,null,null,null,null,null,null,null,null,null,null,null,null,null,null,"√4.68 ± ³√4.68"]
[null,null,null,null,null,null,null,null,null,null,null,null,null,null,null,null,null,null,null,null,null,null,null,null,null,null,null,null,null,null,null,null,"√4.68 × ³√4.68"]
[null,null,null,null,null,null,null,null,null,null,null,null,null,null,null,null,null,null,null,null,null,null,null,null,null,null,null,null,null,null,null,null,"√4.68 ÷ ³√4.68"]
[null,null,null,null,null,null,null,null,null,null,null,null,null,null,null,null,null,null,null,null,null,null,null,null,null,null,null,null,null,null,null,null,"6.7³ ± ³√4.68"]
[null,null,null,null,null,null,null,null,null,null,null,null,null,null,null,null,null,null,null,null,null,null,null,null,null,null,null,null,null,null,null,null,"6.7³ × ³√4.68"]
[null,null,null,null,null,null,null,null,null,null,null,null,null,null,null,null,null,null,null,null,null,null,null,null,null,null,null,null,null,null,null,null,"6.7³ ÷ ³√4.68"]
[null,null,null,null,null,null,null,null,null,null,null,null,null,null,null,null,null,null,null,null,null,null,null,null,null,null,null,null,null,null,null,null,"6.78³³ × 5.6³³"]
[null,null,null,null,null,null,null,null,null,null,null,null,null,null,null,null,null,null,null,null,null,null,null,null,null,null,null,null,null,null,null,null,"6.78³³ ÷ 5.6³³"]
[]
[]
[]
[]
[]
[]
[]
[]
[]
[]
[]
[]
[]
[]
[]
[]
[]
[]
[]
[]
[]
[]
[]
[]
[]
[]
[]
[]
[]
[]
[]
[]
[]
[]
[]
[]
[]
[]
[]
[]
[]
[]
[]
[]
[]
[]
[]
[]
[]
[]
[]
[]
[]
[]
[]
[]
[]
[]
[]
[]
[null,null,null,null,null,null,null,null,null,null,null,null,null,null,null,null,null,null,null,null,null,null,null,null,null,null,null,null,null,null,null,null,null,null,null,null,null,null,null,null,null,null,null,null,null,null,{"$f":"D13","v":5},{"$f":"ROUND(2*AU125,1)","v":10},{"$f":"VLOOKUP(AV125,$AU$126:$AV$149,2)","v":"⁵"}]
[null,null,null,null,null,null,null,null,null,null,null,null,null,null,null,null,null,null,null,null,null,null,null,null,null,null,null,null,null,null,null,null,null,null,null,null,null,null,null,null,null,null,null,null,null,null,1,"⁰∙⁵"]
[null,null,null,null,null,null,null,null,null,null,null,null,null,null,null,null,null,null,null,null,null,null,null,null,null,null,null,null,null,null,null,null,null,null,null,null,null,null,null,null,null,null,null,null,null,null,{"$f":"AU126+1","v":2},"¹"]
[null,null,null,null,null,null,null,null,null,null,null,null,null,null,null,null,null,null,null,null,null,null,null,null,null,null,null,null,null,null,null,null,null,null,null,null,null,null,null,null,null,null,null,null,null,null,{"$f":"AU127+1","v":3},"¹∙⁵"]
[null,null,null,null,null,null,null,null,null,null,null,null,null,null,null,null,null,null,null,null,null,null,null,null,null,null,null,null,null,null,null,null,null,null,null,null,null,null,null,null,null,null,null,null,null,null,4,"²"]
[null,null,null,null,null,null,null,null,null,null,null,null,null,null,null,null,null,null,null,null,null,null,null,null,null,null,null,null,null,null,null,null,null,null,null,null,null,null,null,null,null,null,null,null,null,null,5,"²∙⁵"]
[null,null,null,null,null,null,null,null,null,null,null,null,null,null,null,null,null,null,null,null,null,null,null,null,null,null,null,null,null,null,null,null,null,null,null,null,null,null,null,null,null,null,null,null,null,null,6,"³"]
[null,null,null,null,null,null,null,null,null,null,null,null,null,null,null,null,null,null,null,null,null,null,null,null,null,null,null,null,null,null,null,null,null,null,null,null,null,null,null,null,null,null,null,null,null,null,7,"³∙⁵"]
[null,null,null,null,null,null,null,null,null,null,null,null,null,null,null,null,null,null,null,null,null,null,null,null,null,null,null,null,null,null,null,null,null,null,null,null,null,null,null,null,null,null,null,null,null,null,8,"⁴"]
[null,null,null,null,null,null,null,null,null,null,null,null,null,null,null,null,null,null,null,null,null,null,null,null,null,null,null,null,null,null,null,null,null,null,null,null,null,null,null,null,null,null,null,null,null,null,9,"⁴∙⁵"]
[null,null,null,null,null,null,null,null,null,null,null,null,null,null,null,null,null,null,null,null,null,null,null,null,null,null,null,null,null,null,null,null,null,null,null,null,null,null,null,null,null,null,null,null,null,null,10,"⁵"]
[null,null,null,null,null,null,null,null,null,null,null,null,null,null,null,null,null,null,null,null,null,null,null,null,null,null,null,null,null,null,null,null,null,null,null,null,null,null,null,null,null,null,null,null,null,null,11,"⁵∙⁵"]
[null,null,null,null,null,null,null,null,null,null,null,null,null,null,null,null,null,null,null,null,null,null,null,null,null,null,null,null,null,null,null,null,null,null,null,null,null,null,null,null,null,null,null,null,null,null,12,"⁶"]
[null,null,null,null,null,null,null,null,null,null,null,null,null,null,null,null,null,null,null,null,null,null,null,null,null,null,null,null,null,null,null,null,null,null,null,null,null,null,null,null,null,null,null,null,null,null,13,"⁶∙⁵"]
[null,null,null,null,null,null,null,null,null,null,null,null,null,null,null,null,null,null,null,null,null,null,null,null,null,null,null,null,null,null,null,null,null,null,null,null,null,null,null,null,null,null,null,null,null,null,14,"⁷"]
[null,null,null,null,null,null,null,null,null,null,null,null,null,null,null,null,null,null,null,null,null,null,null,null,null,null,null,null,null,null,null,null,null,null,null,null,null,null,null,null,null,null,null,null,null,null,15,"⁷∙⁵"]
[null,null,null,null,null,null,null,null,null,null,null,null,null,null,null,null,null,null,null,null,null,null,null,null,null,null,null,null,null,null,null,null,null,null,null,null,null,null,null,null,null,null,null,null,null,null,16,"⁸"]
[null,null,null,null,null,null,null,null,null,null,null,null,null,null,null,null,null,null,null,null,null,null,null,null,null,null,null,null,null,null,null,null,null,null,null,null,null,null,null,null,null,null,null,null,null,null,17,"⁸∙⁵"]
[null,null,null,null,null,null,null,null,null,null,null,null,null,null,null,null,null,null,null,null,null,null,null,null,null,null,null,null,null,null,null,null,null,null,null,null,null,null,null,null,null,null,null,null,null,null,18,"⁹"]
[null,null,null,null,null,null,null,null,null,null,null,null,null,null,null,null,null,null,null,null,null,null,null,null,null,null,null,null,null,null,null,null,null,null,null,null,null,null,null,null,null,null,null,null,null,null,19,"⁹∙⁵"]
[null,null,null,null,null,null,null,null,null,null,null,null,null,null,null,null,null,null,null,null,null,null,null,null,null,null,null,null,null,null,null,null,null,null,null,null,null,null,null,null,null,null,null,null,null,null,20,"¹º"]
[null,null,null,null,null,null,null,null,null,null,null,null,null,null,null,null,null,null,null,null,null,null,null,null,null,null,null,null,null,null,null,null,null,null,null,null,null,null,null,null,null,null,null,null,null,null,21,"¹º∙⁵"]
[null,null,null,null,null,null,null,null,null,null,null,null,null,null,null,null,null,null,null,null,null,null,null,null,null,null,null,null,null,null,null,null,null,null,null,null,null,null,null,null,null,null,null,null,null,null,22,"¹¹"]
[null,null,null,null,null,null,null,null,null,null,null,null,null,null,null,null,null,null,null,null,null,null,null,null,null,null,null,null,null,null,null,null,null,null,null,null,null,null,null,null,null,null,null,null,null,null,23,"¹¹∙⁵"]
[null,null,null,null,null,null,null,null,null,null,null,null,null,null,null,null,null,null,null,null,null,null,null,null,null,null,null,null,null,null,null,null,null,null,null,null,null,null,null,null,null,null,null,null,null,null,24,"¹²"]

{"sheet":"RFPDEPOSVE","index":26,"n_rows":42,"n_cols":43,"rows_kept":42,"cut":false,"hidden":false,"merged":[[17,18,18,18],[22,4,23,7],[17,8,18,8],[23,8,24,8],[23,9,24,17],[17,9,18,17],[18,4,19,7],[16,4,17,7],[17,19,18,27],[23,18,24,18],[23,19,24,27],[4,3,7,3],[10,3,13,3],[5,9,6,17],[22,2,25,3],[24,4,25,7],[12,6,13,7],[11,18,12,18],[16,2,19,3],[4,2,7,2],[11,8,12,8],[10,2,13,2],[10,6,11,7],[11,9,12,17],[11,19,12,27],[5,19,6,27],[4,4,7,5],[6,6,7,7],[4,6,5,7],[5,18,6,18],[5,8,6,8],[10,4,13,5]]}
[]
[null,null,"Evaluate each expression using a calculator.",null,null,null,null,null,null,null,null,null,null,null,null,null,null,null,null,null,null,null,null,null,null,null,null,null,null,null,null,null,null,"x","x","x"]
[null,null,"Round to 2 d.p. when necessary."]
[null,null,{"$f":"IF(RAND()>0.5,0,INT(9*RAND())+1)","v":0},{"$f":"IF(C4=0,0,IF(RAND()>0.5,1,-1))","v":0},{"$f":"IF(D4=1,\"+\",IF(D4=0,\"\",\"−\"))","v":""},{"$f":"IF(RAND()>0.5,2,3)","v":2},{"$f":"IF(F4=2,\"\",3)","v":""},{"$f":"IF(RAND()>0.5,100*(INT(9*RAND())+1)+10*(INT(9*RAND())+1)+INT(9*RAND())+1,10*(INT(9*RAND())+1)+INT(9*RAND())+1)","v":349},{"$f":"IF(RAND()>0.5,10,1)","v":10},{"$f":"H4/I4","v":34.9},{"$f":"0.1*(INT(9*RAND())+1)+1*(INT(9*RAND())+1)","v":3.3},{"$f":"RAND()","v":0.8611597684691481},{"$f":"IF(L4>0.67,1,IF(L4>0.33,2,3))","v":1},{"$f":"IF(M4=1,\"\",IF(M4=2,\"²\",\"³\"))","v":""},{"$f":"IF(D4=-1,C4-1*((J4/(K4^M4))^(1/F4)),C4+1*((J4/(K4^M4))^(1/F4)))","v":3.2520389874288984},{"$f":"RAND()","v":0.36623381567251423}]
[null,null,{"$f":"IF(C4=0,\"\",CONCATENATE(C4))","v":""},{"$f":"E4","v":""},"√",null,{"$f":"CONCATENATE(\" \",J4,\" \")","v":" 34.9 "}]
[null,null,null,null,null,null,null,null,"=",{"$f":"CONCATENATE(IF(ROUND(O4,8)<0,\"−\",\"\"),ABS(ROUND(O4,8)))","v":"3.25203899"},null,null,null,null,null,null,null,null,"=",{"$f":"CONCATENATE(IF(O4<0,\"−\",\"\"),AJ6)","v":"3.25 (2 d.p.)"},null,null,null,null,null,null,null,null,null,null,null,2,{"$f":"ABS(O4)","v":3.2520389874288984},{"$f":"AG6^1","v":3.2520389874288984},{"$f":"CONCATENATE(AG6)","v":"3.2520389874289"},{"$f":"IF(AG6=0,CONCATENATE(\"0\",AG8,\"\"),CONCATENATE(AM6,AL6))","v":"3.25 (2 d.p.)"},{"$f":"CONCATENATE(ROUND(AI7,9))","v":"3.252038987"},{"$f":"IF(AM7=0,CONCATENATE(AG8),CONCATENATE(AQ7,AG8,\" (\",AF6,\" d.p.)\"))","v":" (2 d.p.)"},{"$f":"IF(AM7=0,AH7,AG7)","v":3.25},{"$f":"ROUND(100*AG7,0)","v":325},{"$f":"AN6-AN7*100","v":25},{"$f":"IF(AM7=0,\"\",IF(AO7=0,\".0\",\"\"))","v":""},{"$f":"AN6-AN7*100-AO7*10","v":5}]
[null,null,null,null,null,null,{"$f":"CONCATENATE(K4,N4)","v":"3.3"},null,null,null,null,null,null,null,null,null,null,null,null,null,null,null,null,null,null,null,null,null,null,null,null,{"$f":"ROUNDDOWN(AH6,0)","v":3},{"$f":"ROUND(AH6,AF6)","v":3.25},{"$f":"ROUND(AH6,6)","v":3.2520389999999999},{"$f":"ROUND(AH6,9)","v":3.2520389870000002},{"$f":"ROUND(AI7-AF7,9)","v":0.25203898699999999},{"$f":"ROUND(AH7-AF7,9)","v":0.25203900000000001},{"$f":"ROUND(AI7-AF7,9)","v":0.25203898699999999},{"$f":"AL7-AK7","v":-1.300000002091295E-8},{"$f":"ROUNDDOWN(AN6/100,0)","v":3},{"$f":"ROUNDDOWN(AO6/10,0)","v":2},{"$f":"IF(AQ6=0,0,\"\")","v":""},{"$f":"IF(AF6=2,IF(AQ6=0,CONCATENATE(AP6,AP7),AP7),AP6)","v":""}]
[null,null,null,null,null,null,null,null,null,null,null,null,null,null,null,null,null,null,null,null,null,null,null,null,null,null,null,null,null,null,null,null,{"$f":"IF(AH8=\"cm\",\"\",\"\")","v":""},"NIL",null,{"$f":"ROUND(AH6,2)","v":3.25}]
[]
[null,null,{"$f":"IF(RAND()>0.5,0,INT(9*RAND())+1)","v":0},{"$f":"IF(C10=0,0,IF(RAND()>0.5,1,-1))","v":0},{"$f":"IF(D10=1,\"+\",IF(D10=0,\"\",\"−\"))","v":""},{"$f":"IF(RAND()>0.5,2,3)","v":3},{"$f":"IF(F10=2,\"\",3)","v":3},{"$f":"IF(RAND()>0.5,100*(INT(9*RAND())+1)+10*(INT(9*RAND())+1)+INT(9*RAND())+1,10*(INT(9*RAND())+1)+INT(9*RAND())+1)","v":27},{"$f":"IF(RAND()>0.5,10,1)","v":1},{"$f":"H10/I10","v":27},{"$f":"0.1*(INT(9*RAND())+1)+1*(INT(9*RAND())+1)","v":8.6},{"$f":"RAND()","v":0.70716571332897948},{"$f":"IF(L10>0.67,1,IF(L10>0.33,2,3))","v":1},{"$f":"IF(M10=1,\"\",IF(M10=2,\"²\",\"³\"))","v":""},{"$f":"IF(D10=-1,C10-1*((J10/(K10^M10))^(1/F10)),C10+1*((J10/(K10^M10))^(1/F10)))","v":1.4642720443430917},{"$f":"RAND()","v":0.37744757297115761}]
[null,null,{"$f":"IF(C10=0,\"\",CONCATENATE(C10))","v":""},{"$f":"E10","v":""},"√",null,{"$f":"CONCATENATE(\" \",J10,\" \")","v":" 27 "}]
[null,null,null,null,null,null,null,null,"=",{"$f":"CONCATENATE(IF(ROUND(O10,8)<0,\"−\",\"\"),ABS(ROUND(O10,8)))","v":"1.46427204"},null,null,null,null,null,null,null,null,"=",{"$f":"CONCATENATE(IF(O10<0,\"−\",\"\"),AJ12)","v":"1.46 (2 d.p.)"},null,null,null,null,null,null,null,null,null,null,null,2,{"$f":"ABS(O10)","v":1.4642720443430917},{"$f":"AG12^1","v":1.4642720443430917},{"$f":"CONCATENATE(AG12)","v":"1.46427204434309"},{"$f":"IF(AG12=0,CONCATENATE(\"0\",AG14,\"\"),CONCATENATE(AM12,AL12))","v":"1.46 (2 d.p.)"},{"$f":"CONCATENATE(ROUND(AI13,9))","v":"1.464272044"},{"$f":"IF(AM13=0,CONCATENATE(AG14),CONCATENATE(AQ13,AG14,\" (\",AF12,\" d.p.)\"))","v":" (2 d.p.)"},{"$f":"IF(AM13=0,AH13,AG13)","v":1.46},{"$f":"ROUND(100*AG13,0)","v":146},{"$f":"AN12-AN13*100","v":46},{"$f":"IF(AM13=0,\"\",IF(AO13=0,\".0\",\"\"))","v":""},{"$f":"AN12-AN13*100-AO13*10","v":6}]
[null,null,null,null,null,null,{"$f":"CONCATENATE(K10,N10)","v":"8.6"},null,null,null,null,null,null,null,null,null,null,null,null,null,null,null,null,null,null,null,null,null,null,null,null,{"$f":"ROUNDDOWN(AH12,0)","v":1},{"$f":"ROUND(AH12,AF12)","v":1.46},{"$f":"ROUND(AH12,6)","v":1.464272},{"$f":"ROUND(AH12,9)","v":1.4642720440000001},{"$f":"ROUND(AI13-AF13,9)","v":0.46427204399999999},{"$f":"ROUND(AH13-AF13,9)","v":0.46427200000000002},{"$f":"ROUND(AI13-AF13,9)","v":0.46427204399999999},{"$f":"AL13-AK13","v":4.3999999976840343E-8},{"$f":"ROUNDDOWN(AN12/100,0)","v":1},{"$f":"ROUNDDOWN(AO12/10,0)","v":4},{"$f":"IF(AQ12=0,0,\"\")","v":""},{"$f":"IF(AF12=2,IF(AQ12=0,CONCATENATE(AP12,AP13),AP13),AP12)","v":""}]
[null,null,null,null,null,null,null,null,null,null,null,null,null,null,null,null,null,null,null,null,null,null,null,null,null,null,null,null,null,null,null,null,{"$f":"IF(AH14=\"cm\",\"\",\"\")","v":""},"NIL",null,{"$f":"ROUND(AH12,2)","v":1.46}]
[null,null,{"$f":"INT(4*RAND())+1","v":2}]
[null,null,null,{"$f":"IF($C$15=1,D31,IF($C$15=2,D32,IF($C$15=3,D33,IF($C$15=4,D34))))","v":3},null,null,null,null,null,null,null,null,null,null,{"$f":"IF($C$15=1,O31,IF($C$15=2,O32,IF($C$15=3,O33,IF($C$15=4,O34))))","v":" 2.4 × 9.2 "},{"$f":"IF($C$15=1,P31,IF($C$15=2,P32,IF($C$15=3,P33,IF($C$15=4,P34))))","v":22.08},{"$f":"IF($C$15=1,Q31,IF($C$15=2,Q32,IF($C$15=3,Q33,IF($C$15=4,Q34))))","v":80},{"$f":"IF($C$15=1,R31,IF($C$15=2,R32,IF($C$15=3,R33,IF($C$15=4,R34))))","v":10},null,null,null,null,null,null,null,null,{"$f":"IF($C$15=1,AA31,IF($C$15=2,AA32,IF($C$15=3,AA33,IF($C$15=4,AA34))))","v":"8 + 5.5"},{"$f":"IF($C$15=1,AB31,IF($C$15=2,AB32,IF($C$15=3,AB33,IF($C$15=4,AB34))))","v":13.5},{"$f":"IF($C$15=1,AC31,IF($C$15=2,AC32,IF($C$15=3,AC33,IF($C$15=4,AC34))))","v":1.1782074563204816}]
[null,null,"√",null,{"$f":"O16","v":" 2.4 × 9.2 "}]
[null,null,null,null,null,null,null,null,"=",{"$f":"CONCATENATE(ROUND(AC16,8))","v":"1.17820746"},null,null,null,null,null,null,null,null,"=",{"$f":"$AJ18","v":"1.18 (2 d.p.)"},null,null,null,null,null,null,null,null,null,null,null,2,{"$f":"AC16","v":1.1782074563204816},{"$f":"AG18^1","v":1.1782074563204816},{"$f":"CONCATENATE(AG18)","v":"1.17820745632048"},{"$f":"IF(AG18=0,CONCATENATE(\"0\",AG20,\"\"),CONCATENATE(AM18,AL18))","v":"1.18 (2 d.p.)"},{"$f":"CONCATENATE(ROUND(AI19,9))","v":"1.178207456"},{"$f":"IF(AM19=0,CONCATENATE(AG20),CONCATENATE(AQ19,AG20,\" (\",AF18,\" d.p.)\"))","v":" (2 d.p.)"},{"$f":"IF(AM19=0,AH19,AG19)","v":1.18},{"$f":"ROUND(100*AG19,0)","v":118},{"$f":"AN18-AN19*100","v":18},{"$f":"IF(AM19=0,\"\",IF(AO19=0,\".0\",\"\"))","v":""},{"$f":"AN18-AN19*100-AO19*10","v":8}]
[null,null,null,null,{"$f":"AA16","v":"8 + 5.5"},null,null,null,null,null,null,null,null,null,null,null,null,null,null,null,null,null,null,null,null,null,null,null,null,null,null,{"$f":"ROUNDDOWN(AH18,0)","v":1},{"$f":"ROUND(AH18,AF18)","v":1.18},{"$f":"ROUND(AH18,6)","v":1.178207},{"$f":"ROUND(AH18,9)","v":1.178207456},{"$f":"ROUND(AI19-AF19,9)","v":0.17820745599999999},{"$f":"ROUND(AH19-AF19,9)","v":0.178207},{"$f":"ROUND(AI19-AF19,9)","v":0.17820745599999999},{"$f":"AL19-AK19","v":4.5599999998202634E-7},{"$f":"ROUNDDOWN(AN18/100,0)","v":1},{"$f":"ROUNDDOWN(AO18/10,0)","v":1},{"$f":"IF(AQ18=0,0,\"\")","v":""},{"$f":"IF(AF18=2,IF(AQ18=0,CONCATENATE(AP18,AP19),AP19),AP18)","v":""}]
[null,null,null,null,null,null,null,null,null,null,null,null,null,null,null,null,null,null,null,null,null,null,null,null,null,null,null,null,null,null,null,null,{"$f":"IF(AH20=\"cm\",\"\",\"\")","v":""},"NIL",null,{"$f":"ROUND(AH18,2)","v":1.18}]
[null,null,{"$f":"INT(6*RAND())+1","v":1}]
[null,null,null,{"$f":"IF($C$21=1,D37,IF($C$21=2,D38,IF($C$21=3,D39,IF($C$21=4,D40,IF($C$21=5,D41,D42)))))","v":""},null,null,null,null,null,null,null,null,null,null,{"$f":"IF($C$21=1,O37,IF($C$21=2,O38,IF($C$21=3,O39,IF($C$21=4,O40,IF($C$21=5,O41,O42)))))","v":"  7.6² − 3  "},{"$f":"IF($C$21=1,P37,IF($C$21=2,P38,IF($C$21=3,P39,IF($C$21=4,P40,IF($C$21=5,P41,P42)))))","v":54.76},{"$f":"IF($C$21=1,Q37,IF($C$21=2,Q38,IF($C$21=3,Q39,IF($C$21=4,Q40,IF($C$21=5,Q41,Q42)))))","v":15},{"$f":"IF($C$21=1,R37,IF($C$21=2,R38,IF($C$21=3,R39,IF($C$21=4,R40,IF($C$21=5,R41,R42)))))","v":1},null,null,null,null,null,null,null,null,{"$f":"IF($C$21=1,AA37,IF($C$21=2,AA38,IF($C$21=3,AA39,IF($C$21=4,AA40,IF($C$21=5,AA41,AA42)))))","v":"79 − 15"},{"$f":"IF($C$21=1,AB37,IF($C$21=2,AB38,IF($C$21=3,AB39,IF($C$21=4,AB40,IF($C$21=5,AB41,AB42)))))","v":64},{"$f":"IF($C$21=1,AC37,IF($C$21=2,AC38,IF($C$21=3,AC39,IF($C$21=4,AC40,IF($C$21=5,AC41,AC42)))))","v":0.92499999999999993}]
[null,null,"√",null,{"$f":"O22","v":"  7.6² − 3  "}]
[null,null,null,null,null,null,null,null,"=",{"$f":"CONCATENATE(ROUND(AC22,8))","v":"0.925"},null,null,null,null,null,null,null,null,"=",{"$f":"$AJ24","v":"0.925"},null,null,null,null,null,null,null,null,null,null,null,2,{"$f":"AC22","v":0.92499999999999993},{"$f":"AG24^1","v":0.92499999999999993},{"$f":"CONCATENATE(AG24)","v":"0.925"},{"$f":"IF(AG24=0,CONCATENATE(\"0\",AG26,\"\"),CONCATENATE(AM24,AL24))","v":"0.925"},{"$f":"CONCATENATE(ROUND(AI25,9))","v":"0.925"},{"$f":"IF(AM25=0,CONCATENATE(AG26),CONCATENATE(AQ25,AG26,\" (\",AF24,\" d.p.)\"))","v":""},{"$f":"IF(AM25=0,AH25,AG25)","v":0.92500000000000004},{"$f":"ROUND(100*AG25,0)","v":93},{"$f":"AN24-AN25*100","v":93},{"$f":"IF(AM25=0,\"\",IF(AO25=0,\".0\",\"\"))","v":""},{"$f":"AN24-AN25*100-AO25*10","v":3}]
[null,null,null,null,{"$f":"AA22","v":"79 − 15"},null,null,null,null,null,null,null,null,null,null,null,null,null,null,null,null,null,null,null,null,null,null,null,null,null,null,{"$f":"ROUNDDOWN(AH24,0)","v":0},{"$f":"ROUND(AH24,AF24)","v":0.93},{"$f":"ROUND(AH24,6)","v":0.92500000000000004},{"$f":"ROUND(AH24,9)","v":0.92500000000000004},{"$f":"ROUND(AI25-AF25,9)","v":0.92500000000000004},{"$f":"ROUND(AH25-AF25,9)","v":0.92500000000000004},{"$f":"ROUND(AI25-AF25,9)","v":0.92500000000000004},{"$f":"AL25-AK25","v":0},{"$f":"ROUNDDOWN(AN24/100,0)","v":0},{"$f":"ROUNDDOWN(AO24/10,0)","v":9},{"$f":"IF(AQ24=0,0,\"\")","v":""},{"$f":"IF(AF24=2,IF(AQ24=0,CONCATENATE(AP24,AP25),AP25),AP24)","v":""}]
[null,null,null,null,null,null,null,null,null,null,null,null,null,null,null,null,null,null,null,null,null,null,null,null,null,null,null,null,null,null,null,null,{"$f":"IF(AH26=\"cm\",\"\",\"\")","v":""},"NIL",null,{"$f":"ROUND(AH24,2)","v":0.93}]
[]
[]
[]
[]
[null,null,{"$f":"IF(RAND()>0.5,2,3)","v":3},{"$f":"IF(C31=2,\"\",3)","v":3},{"$f":"IF(RAND()>0.5,INT(999*RAND())+1,INT(99*RAND())+1)","v":94},{"$f":"IF(E31>99,10,IF(RAND()>0.5,10,1))","v":10},{"$f":"E31/F31","v":9.4},{"$f":"IF(M31<1,1,IF(RAND()>0.5,1,-1))","v":-1},{"$f":"IF(H31=1,\" + \",\" − \")","v":" − "},{"$f":"IF(E31>99,INT(9*RAND())+1,INT(99*RAND())+1)","v":72},{"$f":"IF(E31>99,1,IF(RAND()>0.5,10,1))","v":1},{"$f":"J31/K31","v":72},{"$f":"ABS(L31-G31)","v":62.6},{"$f":"IF(L31>G31,0,1)","v":0},{"$f":"IF(N31=0,CONCATENATE(\"  \",L31,I31,G31,\"  \"),CONCATENATE(\"  \",G31,I31,L31,\"  \"))","v":"  72 − 9.4  "},{"$f":"IF(N31=0,L31+H31*G31,G31+H31*L31)","v":62.6},{"$f":"IF(RAND()>0.5,INT(999*RAND())+1,INT(99*RAND())+1)","v":1},{"$f":"IF(Q31>99,10,IF(RAND()>0.5,10,1))","v":1},{"$f":"Q31/R31","v":1},{"$f":"IF(Y31<1,1,IF(RAND()>0.5,1,-1))","v":1},{"$f":"IF(T31=1,\" + \",\" − \")","v":" + "},{"$f":"IF(Q31>99,INT(9*RAND())+1,INT(99*RAND())+1)","v":47},{"$f":"IF(Q31>99,1,IF(RAND()>0.5,10,1))","v":10},{"$f":"V31/W31","v":4.7},{"$f":"ABS(X31-S31)","v":3.7},{"$f":"IF(X31>S31,0,1)","v":0},{"$f":"IF(Z31=0,CONCATENATE(X31,U31,S31),CONCATENATE(S31,U31,X31))","v":"4.7 + 1"},{"$f":"IF(Z31=0,X31+T31*S31,S31+T31*X31)","v":5.7},{"$f":"(P31/AB31)^(1/C31)","v":2.2227971222128406}]
[null,null,{"$f":"IF(RAND()>0.5,2,3)","v":3},{"$f":"IF(C32=2,\"\",3)","v":3},{"$f":"0.1*(INT(9*RAND())+1)+1*(INT(9*RAND())+1)","v":2.4},{"$f":"0.1*(INT(9*RAND())+1)+1*(INT(9*RAND())+1)","v":9.1999999999999993},null,null,null,null,null,null,null,null,{"$f":"CONCATENATE(\" \",E32,\" × \",F32,\" \")","v":" 2.4 × 9.2 "},{"$f":"E32*F32","v":22.08},{"$f":"IF(RAND()>0.5,INT(999*RAND())+1,INT(99*RAND())+1)","v":80},{"$f":"IF(Q32>99,10,IF(RAND()>0.5,10,1))","v":10},{"$f":"Q32/R32","v":8},{"$f":"IF(Y32<1,1,IF(RAND()>0.5,1,-1))","v":1},{"$f":"IF(T32=1,\" + \",\" − \")","v":" + "},{"$f":"IF(Q32>99,INT(9*RAND())+1,INT(99*RAND())+1)","v":55},{"$f":"IF(Q32>99,1,IF(RAND()>0.5,10,1))","v":10},{"$f":"V32/W32","v":5.5},{"$f":"ABS(X32-S32)","v":2.5},{"$f":"IF(X32>S32,0,1)","v":1},{"$f":"IF(Z32=0,CONCATENATE(X32,U32,S32),CONCATENATE(S32,U32,X32))","v":"8 + 5.5"},{"$f":"IF(Z32=0,X32+T32*S32,S32+T32*X32)","v":13.5},{"$f":"(P32/AB32)^(1/C32)","v":1.1782074563204816}]
[null,null,{"$f":"IF(RAND()>0.5,2,3)","v":2},{"$f":"IF(C33=2,\"\",3)","v":""},{"$f":"0.1*(INT(9*RAND())+1)+1*(INT(9*RAND())+1)","v":5.2},{"$f":"0.1*(INT(9*RAND())+1)+1*(INT(9*RAND())+1)","v":1.8},null,null,null,null,null,null,null,null,{"$f":"CONCATENATE(\" \",E33,\" × \",F33,\" \")","v":" 5.2 × 1.8 "},{"$f":"E33*F33","v":9.3600000000000012},{"$f":"0.1*(INT(9*RAND())+1)+1*(INT(9*RAND())+1)","v":8.5},{"$f":"0.1*(INT(9*RAND())+1)+1*(INT(9*RAND())+1)","v":7.9},null,null,null,null,null,null,null,null,{"$f":"CONCATENATE(Q33,\" × \",R33)","v":"8.5 × 7.9"},{"$f":"Q33*R33","v":67.150000000000006},{"$f":"(P33/AB33)^(1/C33)","v":0.37334893418454895}]
[null,null,{"$f":"IF(RAND()>0.5,2,3)","v":2},{"$f":"IF(C34=2,\"\",3)","v":""},{"$f":"IF(RAND()>0.5,INT(999*RAND())+1,INT(99*RAND())+1)","v":975},{"$f":"IF(E34>99,10,IF(RAND()>0.5,10,1))","v":10},{"$f":"E34/F34","v":97.5},{"$f":"IF(M34<1,1,IF(RAND()>0.5,1,-1))","v":1},{"$f":"IF(H34=1,\" + \",\" − \")","v":" + "},{"$f":"IF(E34>99,INT(9*RAND())+1,INT(99*RAND())+1)","v":9},{"$f":"IF(E34>99,1,IF(RAND()>0.5,10,1))","v":1},{"$f":"J34/K34","v":9},{"$f":"ABS(L34-G34)","v":88.5},{"$f":"IF(L34>G34,0,1)","v":1},{"$f":"IF(N34=0,CONCATENATE(\"  \",L34,I34,G34,\"  \"),CONCATENATE(\"  \",G34,I34,L34,\"  \"))","v":"  97.5 + 9  "},{"$f":"IF(N34=0,L34+H34*G34,G34+H34*L34)","v":106.5},{"$f":"0.1*(INT(9*RAND())+1)+1*(INT(9*RAND())+1)","v":4.2},{"$f":"0.1*(INT(9*RAND())+1)+1*(INT(9*RAND())+1)","v":5.7},null,null,null,null,null,null,null,null,{"$f":"CONCATENATE(Q34,\" × \",R34)","v":"4.2 × 5.7"},{"$f":"Q34*R34","v":23.94},{"$f":"(P34/AB34)^(1/C34)","v":2.1091755626037183}]
[]
[]
[null,null,{"$f":"IF(RAND()>0.5,2,3)","v":2},{"$f":"IF(C37=2,\"\",3)","v":""},{"$f":"0.1*(INT(9*RAND())+1)+1*(INT(8*RAND())+2)","v":7.6},{"$f":"IF(RAND()>0.5,2,3)","v":2},{"$f":"IF(F37=2,\"²\",\"³\")","v":"²"},{"$f":"IF(RAND()>0.5,1,-1)","v":-1},{"$f":"IF(H37=1,\" + \",\" − \")","v":" − "},{"$f":"E37^F37","v":57.76},{"$f":"IF(J37>11,9,ROUNDDOWN(J37,0)-1)","v":9},{"$f":"INT(K37*RAND())+1","v":3},null,{"$f":"IF(RAND()>0.5,1,-1)","v":-1},{"$f":"IF(H37=-1,CONCATENATE(\"  \",E37,G37,I37,L37,\"  \"),IF(N37=1,CONCATENATE(\"  \",E37,G37,I37,L37,\"  \"),CONCATENATE(\"  \",L37,I37,E37,G37,\"  \")))","v":"  7.6² − 3  "},{"$f":"E37^F37+H37*L37","v":54.76},{"$f":"IF(RAND()>0.5,INT(999*RAND())+1,INT(99*RAND())+1)","v":15},{"$f":"IF(Q37>99,10,IF(RAND()>0.5,10,1))","v":1},{"$f":"Q37/R37","v":15},{"$f":"IF(Y37<1,1,IF(RAND()>0.5,1,-1))","v":-1},{"$f":"IF(T37=1,\" + \",\" − \")","v":" − "},{"$f":"IF(Q37>99,INT(9*RAND())+1,INT(99*RAND())+1)","v":79},{"$f":"IF(Q37>99,1,IF(RAND()>0.5,10,1))","v":1},{"$f":"V37/W37","v":79},{"$f":"ABS(X37-S37)","v":64},{"$f":"IF(X37>S37,0,1)","v":0},{"$f":"IF(Z37=0,CONCATENATE(X37,U37,S37),CONCATENATE(S37,U37,X37))","v":"79 − 15"},{"$f":"IF(Z37=0,X37+T37*S37,S37+T37*X37)","v":64},{"$f":"(P37/AB37)^(1/C37)","v":0.92499999999999993}]
[null,null,2,"",{"$f":"0.1*(INT(9*RAND())+1)+1*(INT(8*RAND())+2)","v":6.4},{"$f":"IF(RAND()>0.5,2,3)","v":3},{"$f":"IF(F38=2,\"²\",\"³\")","v":"³"},{"$f":"IF(RAND()>0.5,1,-1)","v":1},{"$f":"IF(H38=1,\" + \",\" − \")","v":" + "},{"$f":"E38^F38","v":262.14400000000006},{"$f":"IF(J38>11,9,ROUNDDOWN(J38,0)-1)","v":9},{"$f":"INT(K38*RAND())+1","v":5},null,{"$f":"IF(RAND()>0.5,1,-1)","v":-1},{"$f":"IF(H38=-1,CONCATENATE(\"  \",E38,G38,I38,L38,\"  \"),IF(N38=1,CONCATENATE(\"  \",E38,G38,I38,L38,\"  \"),CONCATENATE(\"  \",L38,I38,E38,G38,\"  \")))","v":"  5 + 6.4³  "},{"$f":"E38^F38+H38*L38","v":267.14400000000006},{"$f":"0.1*(INT(9*RAND())+1)+1*(INT(8*RAND())+2)","v":7.5},{"$f":"IF(RAND()>0.5,2,3)","v":3},{"$f":"IF(R38=2,\"²\",\"³\")","v":"³"},{"$f":"IF(RAND()>0.5,1,-1)","v":1},{"$f":"IF(T38=1,\" + \",\" − \")","v":" + "},{"$f":"Q38^R38","v":421.875},{"$f":"IF(V38>11,9,ROUNDDOWN(V38,0)-1)","v":9},{"$f":"INT(W38*RAND())+1","v":2},null,{"$f":"IF(RAND()>0.5,1,-1)","v":-1},{"$f":"IF(T38=-1,CONCATENATE(\"  \",Q38,S38,U38,X38,\"  \"),IF(Z38=1,CONCATENATE(\"  \",Q38,S38,U38,X38,\"  \"),CONCATENATE(\"  \",X38,U38,Q38,S38,\"  \")))","v":"  2 + 7.5³  "},{"$f":"Q38^R38+T38*X38","v":423.875},0.79387808029306528]
[null,null,2,"",{"$f":"IF(RAND()>0.5,INT(999*RAND())+1,INT(99*RAND())+1)","v":292},{"$f":"IF(E39>99,10,IF(RAND()>0.5,10,1))","v":10},{"$f":"E39/F39","v":29.2},{"$f":"IF(M39<1,1,IF(RAND()>0.5,1,-1))","v":1},{"$f":"IF(H39=1,\" + \",\" − \")","v":" + "},{"$f":"IF(E39>99,INT(9*RAND())+1,INT(99*RAND())+1)","v":3},{"$f":"IF(E39>99,1,IF(RAND()>0.5,10,1))","v":1},{"$f":"J39/K39","v":3},{"$f":"ABS(L39-G39)","v":26.2},{"$f":"IF(L39>G39,0,1)","v":1},{"$f":"IF(N39=0,CONCATENATE(\"  \",L39,I39,G39,\"  \"),CONCATENATE(\"  \",G39,I39,L39,\"  \"))","v":"  29.2 + 3  "},{"$f":"IF(N39=0,L39+H39*G39,G39+H39*L39)","v":32.200000000000003},{"$f":"0.1*(INT(9*RAND())+1)+1*(INT(8*RAND())+2)","v":5.0999999999999996},{"$f":"IF(RAND()>0.5,2,3)","v":2},{"$f":"IF(R39=2,\"²\",\"³\")","v":"²"},{"$f":"IF(RAND()>0.5,1,-1)","v":1},{"$f":"IF(T39=1,\" + \",\" − \")","v":" + "},{"$f":"Q39^R39","v":26.009999999999998},{"$f":"IF(V39>11,9,ROUNDDOWN(V39,0)-1)","v":9},{"$f":"INT(W39*RAND())+1","v":1},null,{"$f":"IF(RAND()>0.5,1,-1)","v":1},{"$f":"IF(T39=-1,CONCATENATE(\"  \",Q39,S39,U39,X39,\"  \"),IF(Z39=1,CONCATENATE(\"  \",Q39,S39,U39,X39,\"  \"),CONCATENATE(\"  \",X39,U39,Q39,S39,\"  \")))","v":"  5.1² + 1  "},{"$f":"Q39^R39+T39*X39","v":27.009999999999998},1.0918567008379598]
[null,null,3,3,{"$f":"0.1*(INT(9*RAND())+1)+1*(INT(8*RAND())+2)","v":7.3},{"$f":"IF(RAND()>0.5,2,3)","v":2},{"$f":"IF(F40=2,\"²\",\"³\")","v":"²"},1," × ",{"$f":"E40^F40","v":53.29},{"$f":"IF(J40>11,9,ROUNDDOWN(J40,0)-1)","v":9},{"$f":"INT((K40-1)*RAND())+2","v":3},null,{"$f":"IF(RAND()>0.5,1,-1)","v":1},{"$f":"IF(H40=-1,CONCATENATE(\"  \",E40,G40,I40,L40,\"  \"),IF(N40=1,CONCATENATE(\"  \",E40,G40,I40,L40,\"  \"),CONCATENATE(\"  \",L40,I40,E40,G40,\"  \")))","v":"  7.3² × 3  "},{"$f":"E40^F40*H40*L40","v":159.87},{"$f":"0.1*(INT(9*RAND())+1)+1*(INT(8*RAND())+2)","v":8.1},{"$f":"IF(RAND()>0.5,2,3)","v":2},{"$f":"IF(R40=2,\"²\",\"³\")","v":"²"},{"$f":"IF(RAND()>0.5,1,-1)","v":-1},{"$f":"IF(T40=1,\" + \",\" − \")","v":" − "},{"$f":"Q40^R40","v":65.61},{"$f":"IF(V40>11,9,ROUNDDOWN(V40,0)-1)","v":9},{"$f":"INT(W40*RAND())+1","v":6},null,{"$f":"IF(RAND()>0.5,1,-1)","v":1},{"$f":"IF(T40=-1,CONCATENATE(\"  \",Q40,S40,U40,X40,\"  \"),IF(Z40=1,CONCATENATE(\"  \",Q40,S40,U40,X40,\"  \"),CONCATENATE(\"  \",X40,U40,Q40,S40,\"  \")))","v":"  8.1² − 6  "},{"$f":"Q40^R40+T40*X40","v":59.61},1.3893637102328513]
[null,null,3,3,{"$f":"0.1*(INT(9*RAND())+1)+1*(INT(8*RAND())+2)","v":4.7},{"$f":"IF(RAND()>0.5,2,3)","v":2},{"$f":"IF(F41=2,\"²\",\"³\")","v":"²"},1," × ",{"$f":"E41^F41","v":22.090000000000003},{"$f":"IF(J41>11,9,ROUNDDOWN(J41,0)-1)","v":9},{"$f":"INT((K41-1)*RAND())+2","v":4},null,{"$f":"IF(RAND()>0.5,1,-1)","v":-1},{"$f":"IF(H41=-1,CONCATENATE(\"  \",E41,G41,I41,L41,\"  \"),IF(N41=1,CONCATENATE(\"  \",E41,G41,I41,L41,\"  \"),CONCATENATE(\"  \",L41,I41,E41,G41,\"  \")))","v":"  4 × 4.7²  "},{"$f":"E41^F41*H41*L41","v":88.360000000000014},{"$f":"0.1*(INT(9*RAND())+1)+1*(INT(8*RAND())+2)","v":3.1},{"$f":"IF(RAND()>0.5,2,3)","v":3},{"$f":"IF(R41=2,\"²\",\"³\")","v":"³"},1," × ",{"$f":"Q41^R41","v":29.791000000000004},{"$f":"IF(V41>11,9,ROUNDDOWN(V41,0)-1)","v":9},{"$f":"INT((W41-1)*RAND())+2","v":6},null,{"$f":"IF(RAND()>0.5,1,-1)","v":-1},{"$f":"IF(T41=-1,CONCATENATE(\"  \",Q41,S41,U41,X41,\"  \"),IF(Z41=1,CONCATENATE(\"  \",Q41,S41,U41,X41,\"  \"),CONCATENATE(\"  \",X41,U41,Q41,S41,\"  \")))","v":"  6 × 3.1³  "},{"$f":"Q41^R41*T41*X41","v":178.74600000000004},0.79069038634997535]
[null,null,3,3,{"$f":"0.1*(INT(9*RAND())+1)+1*(INT(8*RAND())+2)","v":2.1},{"$f":"IF(RAND()>0.5,2,3)","v":2},{"$f":"IF(F42=2,\"²\",\"³\")","v":"²"},{"$f":"IF(RAND()>0.5,1,-1)","v":-1},{"$f":"IF(H42=1,\" + \",\" − \")","v":" − "},{"$f":"E42^F42","v":4.41},{"$f":"IF(J42>11,9,ROUNDDOWN(J42,0)-1)","v":3},{"$f":"INT(K42*RAND())+1","v":3},null,{"$f":"IF(RAND()>0.5,1,-1)","v":-1},{"$f":"IF(H42=-1,CONCATENATE(\"  \",E42,G42,I42,L42,\"  \"),IF(N42=1,CONCATENATE(\"  \",E42,G42,I42,L42,\"  \"),CONCATENATE(\"  \",L42,I42,E42,G42,\"  \")))","v":"  2.1² − 3  "},{"$f":"E42^F42+H42*L42","v":1.4100000000000001},{"$f":"0.1*(INT(9*RAND())+1)+1*(INT(8*RAND())+2)","v":9.4},{"$f":"IF(RAND()>0.5,2,3)","v":2},{"$f":"IF(R42=2,\"²\",\"³\")","v":"²"},1," × ",{"$f":"Q42^R42","v":88.360000000000014},{"$f":"IF(V42>11,9,ROUNDDOWN(V42,0)-1)","v":9},{"$f":"INT((W42-1)*RAND())+2","v":6},null,{"$f":"IF(RAND()>0.5,1,-1)","v":1},{"$f":"IF(T42=-1,CONCATENATE(\"  \",Q42,S42,U42,X42,\"  \"),IF(Z42=1,CONCATENATE(\"  \",Q42,S42,U42,X42,\"  \"),CONCATENATE(\"  \",X42,U42,Q42,S42,\"  \")))","v":"  9.4² × 6  "},{"$f":"Q42^R42*T42*X42","v":530.16000000000008},0.13854920932648104]

{"sheet":"EFFECTS","index":27,"n_rows":25,"n_cols":42,"rows_kept":25,"cut":false,"hidden":false,"merged":[[23,17,24,24],[24,2,25,5],[22,2,23,5],[23,6,24,6],[23,7,24,15],[23,16,24,16],[17,2,18,2],[17,3,18,3],[17,4,18,5],[5,2,6,2],[5,3,6,3],[5,4,6,5],[10,2,11,5],[12,2,13,5],[17,17,18,24],[5,16,6,16],[17,6,18,6],[5,17,6,24],[11,17,12,24],[5,6,6,6],[17,7,18,15],[17,16,18,16],[5,7,6,15],[11,6,12,6],[11,7,12,15],[11,16,12,16]]}
[]
[null,null,"Multiply and divide these integers by a number "]
[null,null,"between zero and one using a calculator."]
[null,0,"Round to 2 d.p. when necessary.",null,null,null,null,null,null,null,null,null,null,null,null,null,null,null,null,null,null,null,null,null,null,null,10]
[]
[null,null,{"$f":"CONCATENATE($H$9)","v":"12"},"×",{"$f":"CONCATENATE($D$9)","v":"0.34"},null,"=",{"$f":"CONCATENATE(\"\",$J$9)","v":"4.08"},null,null,null,null,null,null,null,null,"=",{"$f":"$AI$6","v":"4.08"},null,null,null,null,null,null,null,null,null,null,null,null,2,{"$f":"I9","v":4.08},{"$f":"AF6^1","v":4.08},{"$f":"CONCATENATE(AF6)","v":"4.08"},{"$f":"CONCATENATE(AL6,AK6,\"\")","v":"4.08"},{"$f":"CONCATENATE(ROUND(AH7,9))","v":"4.08"},{"$f":"IF(AL7=0,\"\",CONCATENATE(AP7,\" (\",AE6,\" d.p.)\"))","v":""},{"$f":"IF(AL7=0,AG7,AF7)","v":4.08},{"$f":"ROUND(100*AF7,0)","v":408},{"$f":"AM6-AM7*100","v":8},{"$f":"IF(AL7=0,\"\",IF(AN7=0,\".0\",\"\"))","v":""},{"$f":"AM6-AM7*100-AN7*10","v":8}]
[null,null,null,null,null,null,null,null,null,null,null,null,null,null,null,null,null,null,null,null,null,null,null,null,null,null,null,null,null,null,{"$f":"ROUNDDOWN(AG6,0)","v":4},{"$f":"ROUND(AG6,AE6)","v":4.08},{"$f":"ROUND(AG6,6)","v":4.08},{"$f":"ROUND(AG6,9)","v":4.08},{"$f":"ROUND(AH7-AE7,9)","v":0.08},{"$f":"ROUND(AG7-AE7,9)","v":0.08},{"$f":"ROUND(AH7-AE7,9)","v":0.08},{"$f":"AK7-AJ7","v":0},{"$f":"ROUNDDOWN(AM6/100,0)","v":4},{"$f":"ROUNDDOWN(AN6/10,0)","v":0},{"$f":"IF(AP6=0,0,\"\")","v":""},{"$f":"IF(AE6=2,IF(AP6=0,CONCATENATE(AO6,AO7),AO7),AO6)","v":""}]
[null,null,null,null,null,null,null,null,null,null,null,null,null,null,null,null,null,null,null,null,null,null,null,null,null,null,null,null,null,null,null,null,null,null,{"$f":"ROUND(AG6,2)","v":4.08}]
[null,null,340,{"$f":"C9/1000","v":0.34},{"$f":"IF($C$9=0,0,H9/D9)","v":35.294117647058819},{"$f":"ROUND(E9,8)","v":35.294117649999997},12,{"$f":"G9","v":12},{"$f":"$H$9*$D$9","v":4.08},{"$f":"ROUND($I$9,8)","v":4.08},{"$f":"IF(H9>99,6,IF(H9>9,4,2))","v":4},{"$f":"ROUND($I$9,9)","v":4.08},{"$f":"ROUNDDOWN(D9,0)","v":0},{"$f":"IF(AND(M9=D9,M9=10),4,IF(AND(M9=D9,M9<10),2,0))","v":0},{"$f":"MOD(C9,1000)","v":340},null,{"$f":"MOD(O9,100)","v":40},{"$f":"MOD(Q9,10)","v":0},{"$f":"(C9-O9)/1000","v":0},{"$f":"(O9-Q9)/100","v":3},{"$f":"(Q9-R9)/10","v":4},{"$f":"C9-S9*1000-T9*100-U9*10","v":0},{"$f":"IF(V9>0,9,IF(AND(U9>0,V9=0),7,IF(AND(T9>0,U9=0,V9=0),5,0)))","v":7},{"$f":"W9+N9","v":7},{"$f":"IF(X10=42,\"\",IF(OR(X10=22,X10=45,X10=24,X10=44),\" \",IF(OR(X10=25,X10=47),\"  \",IF(OR(X10=27,X10=49),\"   \",\"    \"))))","v":"  "}]
[null,0,null,null,null,null,null,null,null,null,null,null,null,null,null,null,null,null,null,null,null,null,null,{"$f":"10*K9+X9","v":47}]
[null,null,{"$f":"CONCATENATE(Y9,$H$9,Y9)","v":"  12  "}]
[null,null,null,null,null,null,"=",{"$f":"IF($C$9=0,\"∞\",CONCATENATE(\"\",$F$9))","v":"35.29411765"},null,null,null,null,null,null,null,null,"=",{"$f":"IF($C$9=0,\"∞\",$AI$12)","v":"35.29 (2 d.p.)"},null,null,null,null,null,null,null,null,null,null,null,null,2,{"$f":"E9","v":35.294117647058819},{"$f":"AF12^1","v":35.294117647058819},{"$f":"CONCATENATE(AF12)","v":"35.2941176470588"},{"$f":"CONCATENATE(AL12,AK12,\"\")","v":"35.29 (2 d.p.)"},{"$f":"CONCATENATE(ROUND(AH13,9))","v":"35.294117647"},{"$f":"IF(AL13=0,\"\",CONCATENATE(AP13,\" (\",AE12,\" d.p.)\"))","v":" (2 d.p.)"},{"$f":"IF(AL13=0,AG13,AF13)","v":35.29},{"$f":"ROUND(100*AF13,0)","v":3529},{"$f":"AM12-AM13*100","v":29},{"$f":"IF(AL13=0,\"\",IF(AN13=0,\".0\",\"\"))","v":""},{"$f":"AM12-AM13*100-AN13*10","v":9}]
[null,null,{"$f":"($D$9)","v":0.34},null,null,null,null,null,null,null,null,null,null,null,null,null,null,null,null,null,null,null,null,null,null,null,null,null,null,null,{"$f":"ROUNDDOWN(AG12,0)","v":35},{"$f":"ROUND(AG12,AE12)","v":35.29},{"$f":"ROUND(AG12,6)","v":35.294117999999997},{"$f":"ROUND(AG12,9)","v":35.294117647},{"$f":"ROUND(AH13-AE13,9)","v":0.29411764699999998},{"$f":"ROUND(AG13-AE13,9)","v":0.29411799999999999},{"$f":"ROUND(AH13-AE13,9)","v":0.29411764699999998},{"$f":"AK13-AJ13","v":-3.5300000000848542E-7},{"$f":"ROUNDDOWN(AM12/100,0)","v":35},{"$f":"ROUNDDOWN(AN12/10,0)","v":2},{"$f":"IF(AP12=0,0,\"\")","v":""},{"$f":"IF(AE12=2,IF(AP12=0,CONCATENATE(AO12,AO13),AO13),AO12)","v":""}]
[null,null,null,null,null,null,null,null,null,null,null,null,null,null,null,null,null,null,null,null,null,null,null,null,null,null,null,null,null,null,null,null,null,null,{"$f":"ROUND(AG12,2)","v":35.29}]
[]
[null,0]
[null,null,null,null,null,null,null,null,null,null,null,null,null,null,null,null,null,null,null,null,null,null,null,null,null,null,null,null,null,null,2,{"$f":"I21","v":43.68},{"$f":"AF17^1","v":43.68},{"$f":"CONCATENATE(AF17)","v":"43.68"},{"$f":"CONCATENATE(AL17,AK17,\"\")","v":"43.68"},{"$f":"CONCATENATE(ROUND(AH18,9))","v":"43.68"},{"$f":"IF(AL18=0,\"\",CONCATENATE(AP18,\" (\",AE17,\" d.p.)\"))","v":""},{"$f":"IF(AL18=0,AG18,AF18)","v":43.68},{"$f":"ROUND(100*AF18,0)","v":4368},{"$f":"AM17-AM18*100","v":68},{"$f":"IF(AL18=0,\"\",IF(AN18=0,\".0\",\"\"))","v":""},{"$f":"AM17-AM18*100-AN18*10","v":8}]
[null,null,{"$f":"CONCATENATE($H$21)","v":"56"},"×",{"$f":"CONCATENATE($D$21)","v":"0.78"},null,"=",{"$f":"CONCATENATE(\"\",$J$21)","v":"43.68"},null,null,null,null,null,null,null,null,"=",{"$f":"$AI$17","v":"43.68"},null,null,null,null,null,null,null,null,null,null,null,null,{"$f":"ROUNDDOWN(AG17,0)","v":43},{"$f":"ROUND(AG17,AE17)","v":43.68},{"$f":"ROUND(AG17,6)","v":43.68},{"$f":"ROUND(AG17,9)","v":43.68},{"$f":"ROUND(AH18-AE18,9)","v":0.68},{"$f":"ROUND(AG18-AE18,9)","v":0.68},{"$f":"ROUND(AH18-AE18,9)","v":0.68},{"$f":"AK18-AJ18","v":0},{"$f":"ROUNDDOWN(AM17/100,0)","v":43},{"$f":"ROUNDDOWN(AN17/10,0)","v":6},{"$f":"IF(AP17=0,0,\"\")","v":""},{"$f":"IF(AE17=2,IF(AP17=0,CONCATENATE(AO17,AO18),AO18),AO17)","v":""}]
[null,0,null,null,null,null,null,null,null,null,null,null,null,null,null,null,null,null,null,null,null,null,null,null,null,null,null,null,null,null,null,null,null,null,{"$f":"ROUND(AG17,2)","v":43.68}]
[null,null,null,null,null,null,null,null,null,null,null,null,null,null,null,null,null,null,null,null,null,null,null,null,null,null,null,null,null,null,2,{"$f":"E21","v":71.794871794871796},{"$f":"AF20^1","v":71.794871794871796},{"$f":"CONCATENATE(AF20)","v":"71.7948717948718"},{"$f":"CONCATENATE(AL20,AK20,\"\")","v":"71.79 (2 d.p.)"},{"$f":"CONCATENATE(ROUND(AH21,9))","v":"71.794871795"},{"$f":"IF(AL21=0,\"\",CONCATENATE(AP21,\" (\",AE20,\" d.p.)\"))","v":" (2 d.p.)"},{"$f":"IF(AL21=0,AG21,AF21)","v":71.790000000000006},{"$f":"ROUND(100*AF21,0)","v":7179},{"$f":"AM20-AM21*100","v":79},{"$f":"IF(AL21=0,\"\",IF(AN21=0,\".0\",\"\"))","v":""},{"$f":"AM20-AM21*100-AN21*10","v":9}]
[null,null,780,{"$f":"C21/1000","v":0.78},{"$f":"IF($C$21=0,0,H21/D21)","v":71.794871794871796},{"$f":"ROUND(E21,8)","v":71.794871790000002},56,{"$f":"G21","v":56},{"$f":"$H$21*$D$21","v":43.68},{"$f":"ROUND($I$21,8)","v":43.68},{"$f":"IF(H21>99,6,IF(H21>9,4,2))","v":4},{"$f":"ROUND($I$9,9)","v":4.08},{"$f":"ROUNDDOWN(D21,0)","v":0},{"$f":"IF(AND(M21=D21,M21=10),4,IF(AND(M21=D21,M21<10),2,0))","v":0},{"$f":"MOD(C21,1000)","v":780},null,{"$f":"MOD(O21,100)","v":80},{"$f":"MOD(Q21,10)","v":0},{"$f":"(C21-O21)/1000","v":0},{"$f":"(O21-Q21)/100","v":7},{"$f":"(Q21-R21)/10","v":8},{"$f":"C21-S21*1000-T21*100-U21*10","v":0},{"$f":"IF(V21>0,9,IF(AND(U21>0,V21=0),7,IF(AND(T21>0,U21=0,V21=0),5,0)))","v":7},{"$f":"W21+N21","v":7},{"$f":"IF(X22=42,\"\",IF(OR(X22=22,X22=45,X22=24,X22=44),\" \",IF(OR(X22=25,X22=47),\"  \",IF(OR(X22=27,X22=49),\"   \",\"    \"))))","v":"  "},null,null,null,null,null,{"$f":"ROUNDDOWN(AG20,0)","v":71},{"$f":"ROUND(AG20,AE20)","v":71.790000000000006},{"$f":"ROUND(AG20,6)","v":71.794871999999998},{"$f":"ROUND(AG20,9)","v":71.794871795000006},{"$f":"ROUND(AH21-AE21,9)","v":0.79487179500000005},{"$f":"ROUND(AG21-AE21,9)","v":0.79487200000000002},{"$f":"ROUND(AH21-AE21,9)","v":0.79487179500000005},{"$f":"AK21-AJ21","v":-2.0499999997536378E-7},{"$f":"ROUNDDOWN(AM20/100,0)","v":71},{"$f":"ROUNDDOWN(AN20/10,0)","v":7},{"$f":"IF(AP20=0,0,\"\")","v":""},{"$f":"IF(AE20=2,IF(AP20=0,CONCATENATE(AO20,AO21),AO21),AO20)","v":""}]
[null,null,null,null,null,null,null,null,null,null,null,null,null,null,null,null,null,null,null,null,null,null,null,{"$f":"10*K21+X21","v":47},null,null,null,null,null,null,null,null,null,null,{"$f":"ROUND(AG20,2)","v":71.790000000000006}]
[null,null,{"$f":"CONCATENATE(Y21,$H$21,Y21)","v":"  56  "}]
[null,null,null,null,null,null,"=",{"$f":"IF($C$21=0,\"∞\",CONCATENATE(\"\",$F$21))","v":"71.79487179"},null,null,null,null,null,null,null,null,"=",{"$f":"IF($C$21=0,\"∞\",$AI$20)","v":"71.79 (2 d.p.)"}]
[null,null,{"$f":"($D$21)","v":0.78}]

{"sheet":"RECIP","index":28,"n_rows":22,"n_cols":42,"rows_kept":22,"cut":false,"hidden":false,"merged":[[5,17,6,24],[11,17,12,24],[16,17,16,24],[19,17,19,24],[5,16,6,16],[11,16,12,16],[19,1,19,5],[16,1,16,5],[4,2,5,5],[6,2,7,5],[5,7,6,15],[16,7,16,15],[10,2,11,5],[11,6,12,6],[11,7,12,15],[12,2,13,5],[19,7,19,15],[5,6,6,6]]}
[]
[null,null,"Evaluate the reciprocal of these integers"]
[null,null,"and decimals using a calculator."]
[null,0,null,12,{"$f":"IF(D4=0,0,1/D4)","v":8.3333333333333329E-2},{"$f":"ROUND(E4,8)","v":8.3333329999999997E-2},null,null,null,null,null,null,null,null,null,null,null,null,null,null,null,null,null,null,null,null,10,null,null,null,null,{"$f":"2.333^2+1/300000000","v":5.4428890033333346}]
[null,null,{"$f":"IF(D4<=-100,\"   1   \",IF(D4<=-10,\"  1  \",IF(D4>=100,\"  1  \",\" 1 \")))","v":" 1 "}]
[null,null,null,null,null,null,"=",{"$f":"IF(D4=0,\"∞\",CONCATENATE(\"\",IF(F4<0,\"−\",\"\"),ABS(F4)))","v":"0.08333333"},null,null,null,null,null,null,null,null,"=",{"$f":"IF(D4=0,\"∞\",CONCATENATE(IF(E4<0,\"−\",\"\"),AI6))","v":"0.08 (2 d.p.)"},null,null,null,null,null,null,null,null,null,null,null,null,2,{"$f":"ABS(E4)","v":8.3333333333333329E-2},{"$f":"AF6^1","v":8.3333333333333329E-2},{"$f":"CONCATENATE(AF6)","v":"0.0833333333333333"},{"$f":"CONCATENATE(AL6,AK6,\"\")","v":"0.08 (2 d.p.)"},{"$f":"CONCATENATE(ROUND(AH7,9))","v":"0.083333333"},{"$f":"IF(AL7=0,\"\",CONCATENATE(AP7,\" (\",AE6,\" d.p.)\"))","v":" (2 d.p.)"},{"$f":"IF(AL7=0,AG7,AF7)","v":0.08},{"$f":"ROUND(100*AF7,0)","v":8},{"$f":"AM6-AM7*100","v":8},{"$f":"IF(AL7=0,\"\",IF(AN7=0,\".0\",\"\"))","v":".0"},{"$f":"AM6-AM7*100-AN7*10","v":8}]
[null,null,{"$f":"IF(B4=1,\"a\",CONCATENATE(IF(D4<0,\"−\",\"  \"),ABS(D4),\"  \"))","v":"  12  "},null,null,null,null,null,null,null,null,null,null,null,null,null,null,null,null,null,null,null,null,null,null,null,null,null,null,null,{"$f":"ROUNDDOWN(AG6,0)","v":0},{"$f":"ROUND(AG6,AE6)","v":0.08},{"$f":"ROUND(AG6,6)","v":8.3333000000000004E-2},{"$f":"ROUND(AG6,9)","v":8.3333332999999996E-2},{"$f":"ROUND(AH7-AE7,9)","v":8.3333332999999996E-2},{"$f":"ROUND(AG7-AE7,9)","v":8.3333000000000004E-2},{"$f":"ROUND(AH7-AE7,9)","v":8.3333332999999996E-2},{"$f":"AK7-AJ7","v":3.3299999999125696E-7},{"$f":"ROUNDDOWN(AM6/100,0)","v":0},{"$f":"ROUNDDOWN(AN6/10,0)","v":0},{"$f":"IF(AP6=0,0,\"\")","v":""},{"$f":"IF(AE6=2,IF(AP6=0,CONCATENATE(AO6,AO7),AO7),AO6)","v":""}]
[null,null,null,null,null,null,null,null,null,null,null,null,null,null,null,null,null,null,null,null,null,null,null,null,null,null,null,null,null,null,null,null,null,null,{"$f":"ROUND(AG6,2)","v":0.08}]
[]
[null,0,2300,{"$f":"C10/1000","v":2.2999999999999998},{"$f":"IF(C10=0,0,1/D10)","v":0.43478260869565222},{"$f":"ROUND(E10,8)","v":0.43478261000000001}]
[null,null,{"$f":"CONCATENATE(\"   \",1,\"   \")","v":"   1   "}]
[null,null,null,null,null,null,"=",{"$f":"IF(C10=0,\"∞\",CONCATENATE(\"\",IF(F10<0,\"−\",\"\"),ABS(F10)))","v":"0.43478261"},null,null,null,null,null,null,null,null,"=",{"$f":"IF(C10=0,\"∞\",CONCATENATE(IF(E10<0,\"−\",\"\"),AI12))","v":"0.43 (2 d.p.)"},null,null,null,null,null,null,null,null,null,null,null,null,2,{"$f":"ABS(E10)","v":0.43478260869565222},{"$f":"AF12^1","v":0.43478260869565222},{"$f":"CONCATENATE(AF12)","v":"0.434782608695652"},{"$f":"CONCATENATE(AL12,AK12,\"\")","v":"0.43 (2 d.p.)"},{"$f":"CONCATENATE(ROUND(AH13,9))","v":"0.434782609"},{"$f":"IF(AL13=0,\"\",CONCATENATE(AP13,\" (\",AE12,\" d.p.)\"))","v":" (2 d.p.)"},{"$f":"IF(AL13=0,AG13,AF13)","v":0.43},{"$f":"ROUND(100*AF13,0)","v":43},{"$f":"AM12-AM13*100","v":43},{"$f":"IF(AL13=0,\"\",IF(AN13=0,\".0\",\"\"))","v":""},{"$f":"AM12-AM13*100-AN13*10","v":3}]
[null,null,{"$f":"IF(B10=1,\"b\",CONCATENATE(IF(D10<0,\"−\",\"  \"),ABS(D10),\"  \"))","v":"  2.3  "},null,null,null,null,null,null,null,null,null,null,null,null,null,null,null,null,null,null,null,null,null,null,null,null,null,null,null,{"$f":"ROUNDDOWN(AG12,0)","v":0},{"$f":"ROUND(AG12,AE12)","v":0.43},{"$f":"ROUND(AG12,6)","v":0.43478299999999998},{"$f":"ROUND(AG12,9)","v":0.43478260899999999},{"$f":"ROUND(AH13-AE13,9)","v":0.43478260899999999},{"$f":"ROUND(AG13-AE13,9)","v":0.43478299999999998},{"$f":"ROUND(AH13-AE13,9)","v":0.43478260899999999},{"$f":"AK13-AJ13","v":-3.9099999998848389E-7},{"$f":"ROUNDDOWN(AM12/100,0)","v":0},{"$f":"ROUNDDOWN(AN12/10,0)","v":4},{"$f":"IF(AP12=0,0,\"\")","v":""},{"$f":"IF(AE12=2,IF(AP12=0,CONCATENATE(AO12,AO13),AO13),AO12)","v":""}]
[null,null,null,null,null,null,null,null,null,null,null,null,null,null,null,null,null,null,null,null,null,null,null,null,null,null,null,null,null,null,null,null,null,null,{"$f":"ROUND(AG12,2)","v":0.43}]
[]
[null,0,null,34,{"$f":"IF(D16=0,0,1/D16)","v":2.9411764705882353E-2},{"$f":"ROUND(E16,8)","v":2.9411759999999999E-2}]
[null,{"$f":"IF(B16=1,\"c⁻¹\",CONCATENATE(IF(D16<0,\"−\",\"\"),ABS(D16),\"⁻¹\"))","v":"34⁻¹"},null,null,null,null,"=",{"$f":"IF(D16=0,\"∞\",CONCATENATE(\"\",IF(F16<0,\"−\",\"\"),ABS(F16)))","v":"0.02941176"},null,null,null,null,null,null,null,null,"=",{"$f":"IF(D16=0,\"∞\",CONCATENATE(IF(E16<0,\"−\",\"\"),AI17))","v":"0.03 (2 d.p.)"},null,null,null,null,null,null,null,null,null,null,null,null,2,{"$f":"ABS(E16)","v":2.9411764705882353E-2},{"$f":"AF17^1","v":2.9411764705882353E-2},{"$f":"CONCATENATE(AF17)","v":"0.0294117647058824"},{"$f":"CONCATENATE(AL17,AK17,\"\")","v":"0.03 (2 d.p.)"},{"$f":"CONCATENATE(ROUND(AH18,9))","v":"0.029411765"},{"$f":"IF(AL18=0,\"\",CONCATENATE(AP18,\" (\",AE17,\" d.p.)\"))","v":" (2 d.p.)"},{"$f":"IF(AL18=0,AG18,AF18)","v":0.03},{"$f":"ROUND(100*AF18,0)","v":3},{"$f":"AM17-AM18*100","v":3},{"$f":"IF(AL18=0,\"\",IF(AN18=0,\".0\",\"\"))","v":".0"},{"$f":"AM17-AM18*100-AN18*10","v":3}]
[null,null,null,null,null,null,null,null,null,null,null,null,null,null,null,null,null,null,null,null,null,null,null,null,null,null,null,null,null,null,{"$f":"ROUNDDOWN(AG17,0)","v":0},{"$f":"ROUND(AG17,AE17)","v":0.03},{"$f":"ROUND(AG17,6)","v":2.9412000000000001E-2},{"$f":"ROUND(AG17,9)","v":2.9411764999999999E-2},{"$f":"ROUND(AH18-AE18,9)","v":2.9411764999999999E-2},{"$f":"ROUND(AG18-AE18,9)","v":2.9412000000000001E-2},{"$f":"ROUND(AH18-AE18,9)","v":2.9411764999999999E-2},{"$f":"AK18-AJ18","v":-2.3500000000120647E-7},{"$f":"ROUNDDOWN(AM17/100,0)","v":0},{"$f":"ROUNDDOWN(AN17/10,0)","v":0},{"$f":"IF(AP17=0,0,\"\")","v":""},{"$f":"IF(AE17=2,IF(AP17=0,CONCATENATE(AO17,AO18),AO18),AO17)","v":""}]
[null,0,450,{"$f":"C19/1000","v":0.45},{"$f":"IF(C19=0,0,1/D19)","v":2.2222222222222223},{"$f":"ROUND(E19,8)","v":2.2222222199999999},null,null,null,null,null,null,null,null,null,null,null,null,null,null,null,null,null,null,null,null,null,null,null,null,null,null,null,null,{"$f":"ROUND(AG17,2)","v":0.03}]
[null,{"$f":"IF(B19=1,\"d⁻¹\",CONCATENATE(IF(D19<0,\"−\",\"\"),ABS(D19),\"⁻¹\"))","v":"0.45⁻¹"},null,null,null,null,"=",{"$f":"IF(C19=0,\"∞\",CONCATENATE(\"\",IF(F19<0,\"−\",\"\"),ABS(F19)))","v":"2.22222222"},null,null,null,null,null,null,null,null,"=",{"$f":"IF(C19=0,\"∞\",CONCATENATE(IF(E19<0,\"−\",\"\"),AI20))","v":"2.22 (2 d.p.)"},null,null,null,null,null,null,null,null,null,null,null,null,2,{"$f":"ABS(E19)","v":2.2222222222222223},{"$f":"AF20^1","v":2.2222222222222223},{"$f":"CONCATENATE(AF20)","v":"2.22222222222222"},{"$f":"CONCATENATE(AL20,AK20,\"\")","v":"2.22 (2 d.p.)"},{"$f":"CONCATENATE(ROUND(AH21,9))","v":"2.222222222"},{"$f":"IF(AL21=0,\"\",CONCATENATE(AP21,\" (\",AE20,\" d.p.)\"))","v":" (2 d.p.)"},{"$f":"IF(AL21=0,AG21,AF21)","v":2.2200000000000002},{"$f":"ROUND(100*AF21,0)","v":222},{"$f":"AM20-AM21*100","v":22},{"$f":"IF(AL21=0,\"\",IF(AN21=0,\".0\",\"\"))","v":""},{"$f":"AM20-AM21*100-AN21*10","v":2}]
[null,null,null,null,null,null,null,null,null,null,null,null,null,null,null,null,null,null,null,null,null,null,null,null,null,null,null,null,null,null,{"$f":"ROUNDDOWN(AG20,0)","v":2},{"$f":"ROUND(AG20,AE20)","v":2.2200000000000002},{"$f":"ROUND(AG20,6)","v":2.2222219999999999},{"$f":"ROUND(AG20,9)","v":2.2222222220000001},{"$f":"ROUND(AH21-AE21,9)","v":0.222222222},{"$f":"ROUND(AG21-AE21,9)","v":0.222222},{"$f":"ROUND(AH21-AE21,9)","v":0.222222222},{"$f":"AK21-AJ21","v":2.219999999941713E-7},{"$f":"ROUNDDOWN(AM20/100,0)","v":2},{"$f":"ROUNDDOWN(AN20/10,0)","v":2},{"$f":"IF(AP20=0,0,\"\")","v":""},{"$f":"IF(AE20=2,IF(AP20=0,CONCATENATE(AO20,AO21),AO21),AO20)","v":""}]
[null,null,null,null,null,null,null,null,null,null,null,null,null,null,null,null,null,null,null,null,null,null,null,null,null,null,null,null,null,null,null,null,null,null,{"$f":"ROUND(AG20,2)","v":2.2200000000000002}]